BEGIN:VCALENDAR
VERSION:2.0
PRODID:-//Southeast KANSASWORKS, Inc. - ECPv6.15.20//NONSGML v1.0//EN
CALSCALE:GREGORIAN
METHOD:PUBLISH
X-ORIGINAL-URL:https://sekworks.org
X-WR-CALDESC:Events for Southeast KANSASWORKS, Inc.
REFRESH-INTERVAL;VALUE=DURATION:PT1H
X-Robots-Tag:noindex
X-PUBLISHED-TTL:PT1H
BEGIN:VTIMEZONE
TZID:America/Chicago
BEGIN:DAYLIGHT
TZOFFSETFROM:-0600
TZOFFSETTO:-0500
TZNAME:CDT
DTSTART:20250309T080000
END:DAYLIGHT
BEGIN:STANDARD
TZOFFSETFROM:-0500
TZOFFSETTO:-0600
TZNAME:CST
DTSTART:20251102T070000
END:STANDARD
BEGIN:DAYLIGHT
TZOFFSETFROM:-0600
TZOFFSETTO:-0500
TZNAME:CDT
DTSTART:20260308T080000
END:DAYLIGHT
BEGIN:STANDARD
TZOFFSETFROM:-0500
TZOFFSETTO:-0600
TZNAME:CST
DTSTART:20261101T070000
END:STANDARD
BEGIN:DAYLIGHT
TZOFFSETFROM:-0600
TZOFFSETTO:-0500
TZNAME:CDT
DTSTART:20270314T080000
END:DAYLIGHT
BEGIN:STANDARD
TZOFFSETFROM:-0500
TZOFFSETTO:-0600
TZNAME:CST
DTSTART:20271107T070000
END:STANDARD
BEGIN:DAYLIGHT
TZOFFSETFROM:-0600
TZOFFSETTO:-0500
TZNAME:CDT
DTSTART:20280312T080000
END:DAYLIGHT
BEGIN:STANDARD
TZOFFSETFROM:-0500
TZOFFSETTO:-0600
TZNAME:CST
DTSTART:20281105T070000
END:STANDARD
END:VTIMEZONE
BEGIN:VEVENT
DTSTART;TZID=America/Chicago:20260827T090000
DTEND;TZID=America/Chicago:20260827T120000
DTSTAMP:20260421T192242
CREATED:20250731T185056Z
LAST-MODIFIED:20250731T185056Z
UID:10000971-1787821200-1787832000@sekworks.org
SUMMARY:KANSASWORKS Southeast @ Fort Scott DCF
DESCRIPTION:
URL:https://sekworks.org/event/kansasworks-southeast-fort-scott-dcf/2026-08-27/
LOCATION:Fort Scott Department for Children and Families\, 10 S National Ave\, Fort Scott\, KS\, 66701\, United States
CATEGORIES:Southeast KansasWorks - Main,Southeast KansasWorks - Pittsburg
ATTACH;FMTTYPE=image/png:https://sekworks.org/wp-content/uploads/2025/07/DCF-Office-Hours-PittFt-Scott.png
END:VEVENT
BEGIN:VEVENT
DTSTART;TZID=America/Chicago:20260903T090000
DTEND;TZID=America/Chicago:20260903T120000
DTSTAMP:20260421T192242
CREATED:20250731T184853Z
LAST-MODIFIED:20250731T184853Z
UID:10000912-1788426000-1788436800@sekworks.org
SUMMARY:KANSASWORKS Southeast @ Pittsburg DCF
DESCRIPTION:
URL:https://sekworks.org/event/kansasworks-southeast-pittsburg-dcf/2026-09-03/
LOCATION:Pittsburg Department for Children and Families\, 320 S Broadway St\, Pittsburg\, KS\, 66762\, United States
CATEGORIES:Southeast KansasWorks - Main,Southeast KansasWorks - Pittsburg
ATTACH;FMTTYPE=image/png:https://sekworks.org/wp-content/uploads/2025/07/DCF-Office-Hours-PittFt-Scott.png
END:VEVENT
BEGIN:VEVENT
DTSTART;TZID=America/Chicago:20260915T100000
DTEND;TZID=America/Chicago:20260915T150000
DTSTAMP:20260421T192242
CREATED:20250613T170348Z
LAST-MODIFIED:20250627T215005Z
UID:10000663-1789466400-1789484400@sekworks.org
SUMMARY:KANSASWORKS Mobile Unit @ Baxter Springs
DESCRIPTION:
URL:https://sekworks.org/event/kansasworks-mobile-unit-baxter-springs/2026-09-15/
LOCATION:Baxter Springs Police Station\, 121 W 11th St\, Baxter Springs\, KS\, 66713\, United States
CATEGORIES:Southeast KansasWorks - Pittsburg
ATTACH;FMTTYPE=image/jpeg:https://sekworks.org/wp-content/uploads/2025/06/processed-FA2AC038-38DE-4D82-B440-24BAE2E7928F-e1751060926343.jpeg
END:VEVENT
BEGIN:VEVENT
DTSTART;TZID=America/Chicago:20260916T100000
DTEND;TZID=America/Chicago:20260916T150000
DTSTAMP:20260421T192242
CREATED:20250613T182508Z
LAST-MODIFIED:20250613T183640Z
UID:10000718-1789552800-1789570800@sekworks.org
SUMMARY:KANSASWORKS Mobile Unit @ Parsons
DESCRIPTION:
URL:https://sekworks.org/event/kansasworks-mobile-unit-parsons/2026-09-16/
LOCATION:King Cash Saver Lot\, 2020 Main St\, Parsons\, KS\, 67357\, United States
CATEGORIES:Southeast KansasWorks - Pittsburg
ATTACH;FMTTYPE=image/jpeg:https://sekworks.org/wp-content/uploads/2025/06/IMG_4701-1024x683-1.jpg
END:VEVENT
BEGIN:VEVENT
DTSTART;TZID=America/Chicago:20260917T100000
DTEND;TZID=America/Chicago:20260917T150000
DTSTAMP:20260421T192242
CREATED:20250811T182342Z
LAST-MODIFIED:20250811T182342Z
UID:10001038-1789639200-1789657200@sekworks.org
SUMMARY:Pop-up Workforce Center @ Paola Free Library
DESCRIPTION:
URL:https://sekworks.org/event/pop-up-workforce-center-paola-free-library/2026-09-17/
LOCATION:Paola Free Library\, 101 E Peoria St\, Paola\, KS\, 66071\, United States
CATEGORIES:Southeast KansasWorks - Main,Southeast KansasWorks - Paola
ATTACH;FMTTYPE=image/png:https://sekworks.org/wp-content/uploads/2025/08/Paola-Pop-Up-Instagram-Post-45.png
END:VEVENT
BEGIN:VEVENT
DTSTART;TZID=America/Chicago:20260917T110000
DTEND;TZID=America/Chicago:20260917T150000
DTSTAMP:20260421T192242
CREATED:20250613T182819Z
LAST-MODIFIED:20250613T183553Z
UID:10000836-1789642800-1789657200@sekworks.org
SUMMARY:KANSASWORKS Mobile Unit @ Iola
DESCRIPTION:
URL:https://sekworks.org/event/kansasworks-mobile-unit-iola/2026-09-17/
LOCATION:VA Clinic\, 1408 East St\, Iola\, KS\, 66749\, United States
CATEGORIES:Southeast KansasWorks - Chanute
ATTACH;FMTTYPE=image/jpeg:https://sekworks.org/wp-content/uploads/2025/06/IMG_4701-1024x683-1.jpg
END:VEVENT
BEGIN:VEVENT
DTSTART;TZID=America/Chicago:20260924T090000
DTEND;TZID=America/Chicago:20260924T120000
DTSTAMP:20260421T192242
CREATED:20250731T185056Z
LAST-MODIFIED:20250731T185056Z
UID:10000972-1790240400-1790251200@sekworks.org
SUMMARY:KANSASWORKS Southeast @ Fort Scott DCF
DESCRIPTION:
URL:https://sekworks.org/event/kansasworks-southeast-fort-scott-dcf/2026-09-24/
LOCATION:Fort Scott Department for Children and Families\, 10 S National Ave\, Fort Scott\, KS\, 66701\, United States
CATEGORIES:Southeast KansasWorks - Main,Southeast KansasWorks - Pittsburg
ATTACH;FMTTYPE=image/png:https://sekworks.org/wp-content/uploads/2025/07/DCF-Office-Hours-PittFt-Scott.png
END:VEVENT
BEGIN:VEVENT
DTSTART;TZID=America/Chicago:20261001T090000
DTEND;TZID=America/Chicago:20261001T120000
DTSTAMP:20260421T192242
CREATED:20250731T184853Z
LAST-MODIFIED:20250731T184853Z
UID:10000913-1790845200-1790856000@sekworks.org
SUMMARY:KANSASWORKS Southeast @ Pittsburg DCF
DESCRIPTION:
URL:https://sekworks.org/event/kansasworks-southeast-pittsburg-dcf/2026-10-01/
LOCATION:Pittsburg Department for Children and Families\, 320 S Broadway St\, Pittsburg\, KS\, 66762\, United States
CATEGORIES:Southeast KansasWorks - Main,Southeast KansasWorks - Pittsburg
ATTACH;FMTTYPE=image/png:https://sekworks.org/wp-content/uploads/2025/07/DCF-Office-Hours-PittFt-Scott.png
END:VEVENT
BEGIN:VEVENT
DTSTART;TZID=America/Chicago:20261015T100000
DTEND;TZID=America/Chicago:20261015T150000
DTSTAMP:20260421T192242
CREATED:20250811T182342Z
LAST-MODIFIED:20250811T182342Z
UID:10001039-1792058400-1792076400@sekworks.org
SUMMARY:Pop-up Workforce Center @ Paola Free Library
DESCRIPTION:
URL:https://sekworks.org/event/pop-up-workforce-center-paola-free-library/2026-10-15/
LOCATION:Paola Free Library\, 101 E Peoria St\, Paola\, KS\, 66071\, United States
CATEGORIES:Southeast KansasWorks - Main,Southeast KansasWorks - Paola
ATTACH;FMTTYPE=image/png:https://sekworks.org/wp-content/uploads/2025/08/Paola-Pop-Up-Instagram-Post-45.png
END:VEVENT
BEGIN:VEVENT
DTSTART;TZID=America/Chicago:20261015T110000
DTEND;TZID=America/Chicago:20261015T150000
DTSTAMP:20260421T192243
CREATED:20250613T182819Z
LAST-MODIFIED:20250613T183553Z
UID:10000837-1792062000-1792076400@sekworks.org
SUMMARY:KANSASWORKS Mobile Unit @ Iola
DESCRIPTION:
URL:https://sekworks.org/event/kansasworks-mobile-unit-iola/2026-10-15/
LOCATION:VA Clinic\, 1408 East St\, Iola\, KS\, 66749\, United States
CATEGORIES:Southeast KansasWorks - Chanute
ATTACH;FMTTYPE=image/jpeg:https://sekworks.org/wp-content/uploads/2025/06/IMG_4701-1024x683-1.jpg
END:VEVENT
BEGIN:VEVENT
DTSTART;TZID=America/Chicago:20261020T100000
DTEND;TZID=America/Chicago:20261020T150000
DTSTAMP:20260421T192243
CREATED:20250613T170348Z
LAST-MODIFIED:20250627T215005Z
UID:10000664-1792490400-1792508400@sekworks.org
SUMMARY:KANSASWORKS Mobile Unit @ Baxter Springs
DESCRIPTION:
URL:https://sekworks.org/event/kansasworks-mobile-unit-baxter-springs/2026-10-20/
LOCATION:Baxter Springs Police Station\, 121 W 11th St\, Baxter Springs\, KS\, 66713\, United States
CATEGORIES:Southeast KansasWorks - Pittsburg
ATTACH;FMTTYPE=image/jpeg:https://sekworks.org/wp-content/uploads/2025/06/processed-FA2AC038-38DE-4D82-B440-24BAE2E7928F-e1751060926343.jpeg
END:VEVENT
BEGIN:VEVENT
DTSTART;TZID=America/Chicago:20261021T100000
DTEND;TZID=America/Chicago:20261021T150000
DTSTAMP:20260421T192243
CREATED:20250613T182508Z
LAST-MODIFIED:20250613T183640Z
UID:10000719-1792576800-1792594800@sekworks.org
SUMMARY:KANSASWORKS Mobile Unit @ Parsons
DESCRIPTION:
URL:https://sekworks.org/event/kansasworks-mobile-unit-parsons/2026-10-21/
LOCATION:King Cash Saver Lot\, 2020 Main St\, Parsons\, KS\, 67357\, United States
CATEGORIES:Southeast KansasWorks - Pittsburg
ATTACH;FMTTYPE=image/jpeg:https://sekworks.org/wp-content/uploads/2025/06/IMG_4701-1024x683-1.jpg
END:VEVENT
BEGIN:VEVENT
DTSTART;TZID=America/Chicago:20261029T090000
DTEND;TZID=America/Chicago:20261029T120000
DTSTAMP:20260421T192243
CREATED:20250731T185056Z
LAST-MODIFIED:20250731T185056Z
UID:10000973-1793264400-1793275200@sekworks.org
SUMMARY:KANSASWORKS Southeast @ Fort Scott DCF
DESCRIPTION:
URL:https://sekworks.org/event/kansasworks-southeast-fort-scott-dcf/2026-10-29/
LOCATION:Fort Scott Department for Children and Families\, 10 S National Ave\, Fort Scott\, KS\, 66701\, United States
CATEGORIES:Southeast KansasWorks - Main,Southeast KansasWorks - Pittsburg
ATTACH;FMTTYPE=image/png:https://sekworks.org/wp-content/uploads/2025/07/DCF-Office-Hours-PittFt-Scott.png
END:VEVENT
BEGIN:VEVENT
DTSTART;TZID=America/Chicago:20261105T090000
DTEND;TZID=America/Chicago:20261105T120000
DTSTAMP:20260421T192243
CREATED:20250731T184853Z
LAST-MODIFIED:20250731T184853Z
UID:10000914-1793869200-1793880000@sekworks.org
SUMMARY:KANSASWORKS Southeast @ Pittsburg DCF
DESCRIPTION:
URL:https://sekworks.org/event/kansasworks-southeast-pittsburg-dcf/2026-11-05/
LOCATION:Pittsburg Department for Children and Families\, 320 S Broadway St\, Pittsburg\, KS\, 66762\, United States
CATEGORIES:Southeast KansasWorks - Main,Southeast KansasWorks - Pittsburg
ATTACH;FMTTYPE=image/png:https://sekworks.org/wp-content/uploads/2025/07/DCF-Office-Hours-PittFt-Scott.png
END:VEVENT
BEGIN:VEVENT
DTSTART;TZID=America/Chicago:20261117T100000
DTEND;TZID=America/Chicago:20261117T150000
DTSTAMP:20260421T192243
CREATED:20250613T170348Z
LAST-MODIFIED:20250627T215005Z
UID:10000556-1794909600-1794927600@sekworks.org
SUMMARY:KANSASWORKS Mobile Unit @ Baxter Springs
DESCRIPTION:
URL:https://sekworks.org/event/kansasworks-mobile-unit-baxter-springs/2026-11-17/
LOCATION:Baxter Springs Police Station\, 121 W 11th St\, Baxter Springs\, KS\, 66713\, United States
CATEGORIES:Southeast KansasWorks - Pittsburg
ATTACH;FMTTYPE=image/jpeg:https://sekworks.org/wp-content/uploads/2025/06/processed-FA2AC038-38DE-4D82-B440-24BAE2E7928F-e1751060926343.jpeg
END:VEVENT
BEGIN:VEVENT
DTSTART;TZID=America/Chicago:20261118T100000
DTEND;TZID=America/Chicago:20261118T150000
DTSTAMP:20260421T192243
CREATED:20250613T182508Z
LAST-MODIFIED:20250613T183640Z
UID:10000720-1794996000-1795014000@sekworks.org
SUMMARY:KANSASWORKS Mobile Unit @ Parsons
DESCRIPTION:
URL:https://sekworks.org/event/kansasworks-mobile-unit-parsons/2026-11-18/
LOCATION:King Cash Saver Lot\, 2020 Main St\, Parsons\, KS\, 67357\, United States
CATEGORIES:Southeast KansasWorks - Pittsburg
ATTACH;FMTTYPE=image/jpeg:https://sekworks.org/wp-content/uploads/2025/06/IMG_4701-1024x683-1.jpg
END:VEVENT
BEGIN:VEVENT
DTSTART;TZID=America/Chicago:20261119T100000
DTEND;TZID=America/Chicago:20261119T150000
DTSTAMP:20260421T192243
CREATED:20250811T182342Z
LAST-MODIFIED:20250811T182342Z
UID:10001040-1795082400-1795100400@sekworks.org
SUMMARY:Pop-up Workforce Center @ Paola Free Library
DESCRIPTION:
URL:https://sekworks.org/event/pop-up-workforce-center-paola-free-library/2026-11-19/
LOCATION:Paola Free Library\, 101 E Peoria St\, Paola\, KS\, 66071\, United States
CATEGORIES:Southeast KansasWorks - Main,Southeast KansasWorks - Paola
ATTACH;FMTTYPE=image/png:https://sekworks.org/wp-content/uploads/2025/08/Paola-Pop-Up-Instagram-Post-45.png
END:VEVENT
BEGIN:VEVENT
DTSTART;TZID=America/Chicago:20261119T110000
DTEND;TZID=America/Chicago:20261119T150000
DTSTAMP:20260421T192243
CREATED:20250613T182819Z
LAST-MODIFIED:20250613T183553Z
UID:10000838-1795086000-1795100400@sekworks.org
SUMMARY:KANSASWORKS Mobile Unit @ Iola
DESCRIPTION:
URL:https://sekworks.org/event/kansasworks-mobile-unit-iola/2026-11-19/
LOCATION:VA Clinic\, 1408 East St\, Iola\, KS\, 66749\, United States
CATEGORIES:Southeast KansasWorks - Chanute
ATTACH;FMTTYPE=image/jpeg:https://sekworks.org/wp-content/uploads/2025/06/IMG_4701-1024x683-1.jpg
END:VEVENT
BEGIN:VEVENT
DTSTART;TZID=America/Chicago:20261126T090000
DTEND;TZID=America/Chicago:20261126T120000
DTSTAMP:20260421T192243
CREATED:20250731T185056Z
LAST-MODIFIED:20250731T185056Z
UID:10000974-1795683600-1795694400@sekworks.org
SUMMARY:KANSASWORKS Southeast @ Fort Scott DCF
DESCRIPTION:
URL:https://sekworks.org/event/kansasworks-southeast-fort-scott-dcf/2026-11-26/
LOCATION:Fort Scott Department for Children and Families\, 10 S National Ave\, Fort Scott\, KS\, 66701\, United States
CATEGORIES:Southeast KansasWorks - Main,Southeast KansasWorks - Pittsburg
ATTACH;FMTTYPE=image/png:https://sekworks.org/wp-content/uploads/2025/07/DCF-Office-Hours-PittFt-Scott.png
END:VEVENT
BEGIN:VEVENT
DTSTART;TZID=America/Chicago:20261203T090000
DTEND;TZID=America/Chicago:20261203T120000
DTSTAMP:20260421T192243
CREATED:20250731T184853Z
LAST-MODIFIED:20250731T184853Z
UID:10000915-1796288400-1796299200@sekworks.org
SUMMARY:KANSASWORKS Southeast @ Pittsburg DCF
DESCRIPTION:
URL:https://sekworks.org/event/kansasworks-southeast-pittsburg-dcf/2026-12-03/
LOCATION:Pittsburg Department for Children and Families\, 320 S Broadway St\, Pittsburg\, KS\, 66762\, United States
CATEGORIES:Southeast KansasWorks - Main,Southeast KansasWorks - Pittsburg
ATTACH;FMTTYPE=image/png:https://sekworks.org/wp-content/uploads/2025/07/DCF-Office-Hours-PittFt-Scott.png
END:VEVENT
BEGIN:VEVENT
DTSTART;TZID=America/Chicago:20261215T100000
DTEND;TZID=America/Chicago:20261215T150000
DTSTAMP:20260421T192243
CREATED:20250613T170348Z
LAST-MODIFIED:20250627T215005Z
UID:10000665-1797328800-1797346800@sekworks.org
SUMMARY:KANSASWORKS Mobile Unit @ Baxter Springs
DESCRIPTION:
URL:https://sekworks.org/event/kansasworks-mobile-unit-baxter-springs/2026-12-15/
LOCATION:Baxter Springs Police Station\, 121 W 11th St\, Baxter Springs\, KS\, 66713\, United States
CATEGORIES:Southeast KansasWorks - Pittsburg
ATTACH;FMTTYPE=image/jpeg:https://sekworks.org/wp-content/uploads/2025/06/processed-FA2AC038-38DE-4D82-B440-24BAE2E7928F-e1751060926343.jpeg
END:VEVENT
BEGIN:VEVENT
DTSTART;TZID=America/Chicago:20261216T100000
DTEND;TZID=America/Chicago:20261216T150000
DTSTAMP:20260421T192243
CREATED:20250613T182508Z
LAST-MODIFIED:20250613T183640Z
UID:10000721-1797415200-1797433200@sekworks.org
SUMMARY:KANSASWORKS Mobile Unit @ Parsons
DESCRIPTION:
URL:https://sekworks.org/event/kansasworks-mobile-unit-parsons/2026-12-16/
LOCATION:King Cash Saver Lot\, 2020 Main St\, Parsons\, KS\, 67357\, United States
CATEGORIES:Southeast KansasWorks - Pittsburg
ATTACH;FMTTYPE=image/jpeg:https://sekworks.org/wp-content/uploads/2025/06/IMG_4701-1024x683-1.jpg
END:VEVENT
BEGIN:VEVENT
DTSTART;TZID=America/Chicago:20261217T100000
DTEND;TZID=America/Chicago:20261217T150000
DTSTAMP:20260421T192243
CREATED:20250811T182342Z
LAST-MODIFIED:20250811T182342Z
UID:10001041-1797501600-1797519600@sekworks.org
SUMMARY:Pop-up Workforce Center @ Paola Free Library
DESCRIPTION:
URL:https://sekworks.org/event/pop-up-workforce-center-paola-free-library/2026-12-17/
LOCATION:Paola Free Library\, 101 E Peoria St\, Paola\, KS\, 66071\, United States
CATEGORIES:Southeast KansasWorks - Main,Southeast KansasWorks - Paola
ATTACH;FMTTYPE=image/png:https://sekworks.org/wp-content/uploads/2025/08/Paola-Pop-Up-Instagram-Post-45.png
END:VEVENT
BEGIN:VEVENT
DTSTART;TZID=America/Chicago:20261217T110000
DTEND;TZID=America/Chicago:20261217T150000
DTSTAMP:20260421T192243
CREATED:20250613T182819Z
LAST-MODIFIED:20250613T183553Z
UID:10000839-1797505200-1797519600@sekworks.org
SUMMARY:KANSASWORKS Mobile Unit @ Iola
DESCRIPTION:
URL:https://sekworks.org/event/kansasworks-mobile-unit-iola/2026-12-17/
LOCATION:VA Clinic\, 1408 East St\, Iola\, KS\, 66749\, United States
CATEGORIES:Southeast KansasWorks - Chanute
ATTACH;FMTTYPE=image/jpeg:https://sekworks.org/wp-content/uploads/2025/06/IMG_4701-1024x683-1.jpg
END:VEVENT
BEGIN:VEVENT
DTSTART;TZID=America/Chicago:20261231T090000
DTEND;TZID=America/Chicago:20261231T120000
DTSTAMP:20260421T192243
CREATED:20250731T185056Z
LAST-MODIFIED:20250731T185056Z
UID:10000975-1798707600-1798718400@sekworks.org
SUMMARY:KANSASWORKS Southeast @ Fort Scott DCF
DESCRIPTION:
URL:https://sekworks.org/event/kansasworks-southeast-fort-scott-dcf/2026-12-31/
LOCATION:Fort Scott Department for Children and Families\, 10 S National Ave\, Fort Scott\, KS\, 66701\, United States
CATEGORIES:Southeast KansasWorks - Main,Southeast KansasWorks - Pittsburg
ATTACH;FMTTYPE=image/png:https://sekworks.org/wp-content/uploads/2025/07/DCF-Office-Hours-PittFt-Scott.png
END:VEVENT
BEGIN:VEVENT
DTSTART;TZID=America/Chicago:20270107T090000
DTEND;TZID=America/Chicago:20270107T120000
DTSTAMP:20260421T192243
CREATED:20250731T184853Z
LAST-MODIFIED:20250731T184853Z
UID:10000916-1799312400-1799323200@sekworks.org
SUMMARY:KANSASWORKS Southeast @ Pittsburg DCF
DESCRIPTION:
URL:https://sekworks.org/event/kansasworks-southeast-pittsburg-dcf/2027-01-07/
LOCATION:Pittsburg Department for Children and Families\, 320 S Broadway St\, Pittsburg\, KS\, 66762\, United States
CATEGORIES:Southeast KansasWorks - Main,Southeast KansasWorks - Pittsburg
ATTACH;FMTTYPE=image/png:https://sekworks.org/wp-content/uploads/2025/07/DCF-Office-Hours-PittFt-Scott.png
END:VEVENT
BEGIN:VEVENT
DTSTART;TZID=America/Chicago:20270119T100000
DTEND;TZID=America/Chicago:20270119T150000
DTSTAMP:20260421T192243
CREATED:20250613T170348Z
LAST-MODIFIED:20250627T215005Z
UID:10000666-1800352800-1800370800@sekworks.org
SUMMARY:KANSASWORKS Mobile Unit @ Baxter Springs
DESCRIPTION:
URL:https://sekworks.org/event/kansasworks-mobile-unit-baxter-springs/2027-01-19/
LOCATION:Baxter Springs Police Station\, 121 W 11th St\, Baxter Springs\, KS\, 66713\, United States
CATEGORIES:Southeast KansasWorks - Pittsburg
ATTACH;FMTTYPE=image/jpeg:https://sekworks.org/wp-content/uploads/2025/06/processed-FA2AC038-38DE-4D82-B440-24BAE2E7928F-e1751060926343.jpeg
END:VEVENT
BEGIN:VEVENT
DTSTART;TZID=America/Chicago:20270120T100000
DTEND;TZID=America/Chicago:20270120T150000
DTSTAMP:20260421T192243
CREATED:20250613T182508Z
LAST-MODIFIED:20250613T183640Z
UID:10000722-1800439200-1800457200@sekworks.org
SUMMARY:KANSASWORKS Mobile Unit @ Parsons
DESCRIPTION:
URL:https://sekworks.org/event/kansasworks-mobile-unit-parsons/2027-01-20/
LOCATION:King Cash Saver Lot\, 2020 Main St\, Parsons\, KS\, 67357\, United States
CATEGORIES:Southeast KansasWorks - Pittsburg
ATTACH;FMTTYPE=image/jpeg:https://sekworks.org/wp-content/uploads/2025/06/IMG_4701-1024x683-1.jpg
END:VEVENT
BEGIN:VEVENT
DTSTART;TZID=America/Chicago:20270121T100000
DTEND;TZID=America/Chicago:20270121T150000
DTSTAMP:20260421T192243
CREATED:20250811T182342Z
LAST-MODIFIED:20250811T182342Z
UID:10001042-1800525600-1800543600@sekworks.org
SUMMARY:Pop-up Workforce Center @ Paola Free Library
DESCRIPTION:
URL:https://sekworks.org/event/pop-up-workforce-center-paola-free-library/2027-01-21/
LOCATION:Paola Free Library\, 101 E Peoria St\, Paola\, KS\, 66071\, United States
CATEGORIES:Southeast KansasWorks - Main,Southeast KansasWorks - Paola
ATTACH;FMTTYPE=image/png:https://sekworks.org/wp-content/uploads/2025/08/Paola-Pop-Up-Instagram-Post-45.png
END:VEVENT
BEGIN:VEVENT
DTSTART;TZID=America/Chicago:20270121T110000
DTEND;TZID=America/Chicago:20270121T150000
DTSTAMP:20260421T192243
CREATED:20250613T182819Z
LAST-MODIFIED:20250613T183553Z
UID:10000840-1800529200-1800543600@sekworks.org
SUMMARY:KANSASWORKS Mobile Unit @ Iola
DESCRIPTION:
URL:https://sekworks.org/event/kansasworks-mobile-unit-iola/2027-01-21/
LOCATION:VA Clinic\, 1408 East St\, Iola\, KS\, 66749\, United States
CATEGORIES:Southeast KansasWorks - Chanute
ATTACH;FMTTYPE=image/jpeg:https://sekworks.org/wp-content/uploads/2025/06/IMG_4701-1024x683-1.jpg
END:VEVENT
END:VCALENDAR