BEGIN:VCALENDAR
VERSION:2.0
PRODID:-//Southeast KANSASWORKS, Inc. - ECPv6.15.20//NONSGML v1.0//EN
CALSCALE:GREGORIAN
METHOD:PUBLISH
X-ORIGINAL-URL:https://sekworks.org
X-WR-CALDESC:Events for Southeast KANSASWORKS, Inc.
REFRESH-INTERVAL;VALUE=DURATION:PT1H
X-Robots-Tag:noindex
X-PUBLISHED-TTL:PT1H
BEGIN:VTIMEZONE
TZID:America/Chicago
BEGIN:DAYLIGHT
TZOFFSETFROM:-0600
TZOFFSETTO:-0500
TZNAME:CDT
DTSTART:20280312T080000
END:DAYLIGHT
BEGIN:STANDARD
TZOFFSETFROM:-0500
TZOFFSETTO:-0600
TZNAME:CST
DTSTART:20281105T070000
END:STANDARD
BEGIN:DAYLIGHT
TZOFFSETFROM:-0600
TZOFFSETTO:-0500
TZNAME:CDT
DTSTART:20290311T080000
END:DAYLIGHT
BEGIN:STANDARD
TZOFFSETFROM:-0500
TZOFFSETTO:-0600
TZNAME:CST
DTSTART:20291104T070000
END:STANDARD
BEGIN:DAYLIGHT
TZOFFSETFROM:-0600
TZOFFSETTO:-0500
TZNAME:CDT
DTSTART:20300310T080000
END:DAYLIGHT
BEGIN:STANDARD
TZOFFSETFROM:-0500
TZOFFSETTO:-0600
TZNAME:CST
DTSTART:20301103T070000
END:STANDARD
END:VTIMEZONE
BEGIN:VEVENT
DTSTART;TZID=America/Chicago:20290619T100000
DTEND;TZID=America/Chicago:20290619T150000
DTSTAMP:20260424T171342
CREATED:20250613T170348Z
LAST-MODIFIED:20250627T215005Z
UID:10000692-1876557600-1876575600@sekworks.org
SUMMARY:KANSASWORKS Mobile Unit @ Baxter Springs
DESCRIPTION:
URL:https://sekworks.org/event/kansasworks-mobile-unit-baxter-springs/2029-06-19/
LOCATION:Baxter Springs Police Station\, 121 W 11th St\, Baxter Springs\, KS\, 66713\, United States
CATEGORIES:Southeast KansasWorks - Pittsburg
ATTACH;FMTTYPE=image/jpeg:https://sekworks.org/wp-content/uploads/2025/06/processed-FA2AC038-38DE-4D82-B440-24BAE2E7928F-e1751060926343.jpeg
END:VEVENT
BEGIN:VEVENT
DTSTART;TZID=America/Chicago:20290620T100000
DTEND;TZID=America/Chicago:20290620T150000
DTSTAMP:20260424T171342
CREATED:20250613T182508Z
LAST-MODIFIED:20250613T183640Z
UID:10000751-1876644000-1876662000@sekworks.org
SUMMARY:KANSASWORKS Mobile Unit @ Parsons
DESCRIPTION:
URL:https://sekworks.org/event/kansasworks-mobile-unit-parsons/2029-06-20/
LOCATION:King Cash Saver Lot\, 2020 Main St\, Parsons\, KS\, 67357\, United States
CATEGORIES:Southeast KansasWorks - Pittsburg
ATTACH;FMTTYPE=image/jpeg:https://sekworks.org/wp-content/uploads/2025/06/IMG_4701-1024x683-1.jpg
END:VEVENT
BEGIN:VEVENT
DTSTART;TZID=America/Chicago:20290621T100000
DTEND;TZID=America/Chicago:20290621T150000
DTSTAMP:20260424T171342
CREATED:20250811T182342Z
LAST-MODIFIED:20250811T182342Z
UID:10001071-1876730400-1876748400@sekworks.org
SUMMARY:Pop-up Workforce Center @ Paola Free Library
DESCRIPTION:
URL:https://sekworks.org/event/pop-up-workforce-center-paola-free-library/2029-06-21/
LOCATION:Paola Free Library\, 101 E Peoria St\, Paola\, KS\, 66071\, United States
CATEGORIES:Southeast KansasWorks - Main,Southeast KansasWorks - Paola
ATTACH;FMTTYPE=image/png:https://sekworks.org/wp-content/uploads/2025/08/Paola-Pop-Up-Instagram-Post-45.png
END:VEVENT
BEGIN:VEVENT
DTSTART;TZID=America/Chicago:20290621T110000
DTEND;TZID=America/Chicago:20290621T150000
DTSTAMP:20260424T171342
CREATED:20250613T182819Z
LAST-MODIFIED:20250613T183553Z
UID:10000869-1876734000-1876748400@sekworks.org
SUMMARY:KANSASWORKS Mobile Unit @ Iola
DESCRIPTION:
URL:https://sekworks.org/event/kansasworks-mobile-unit-iola/2029-06-21/
LOCATION:VA Clinic\, 1408 East St\, Iola\, KS\, 66749\, United States
CATEGORIES:Southeast KansasWorks - Chanute
ATTACH;FMTTYPE=image/jpeg:https://sekworks.org/wp-content/uploads/2025/06/IMG_4701-1024x683-1.jpg
END:VEVENT
BEGIN:VEVENT
DTSTART;TZID=America/Chicago:20290628T090000
DTEND;TZID=America/Chicago:20290628T120000
DTSTAMP:20260424T171342
CREATED:20250731T185056Z
LAST-MODIFIED:20250731T185056Z
UID:10001005-1877331600-1877342400@sekworks.org
SUMMARY:KANSASWORKS Southeast @ Fort Scott DCF
DESCRIPTION:
URL:https://sekworks.org/event/kansasworks-southeast-fort-scott-dcf/2029-06-28/
LOCATION:Fort Scott Department for Children and Families\, 10 S National Ave\, Fort Scott\, KS\, 66701\, United States
CATEGORIES:Southeast KansasWorks - Main,Southeast KansasWorks - Pittsburg
ATTACH;FMTTYPE=image/png:https://sekworks.org/wp-content/uploads/2025/07/DCF-Office-Hours-PittFt-Scott.png
END:VEVENT
BEGIN:VEVENT
DTSTART;TZID=America/Chicago:20290705T090000
DTEND;TZID=America/Chicago:20290705T120000
DTSTAMP:20260424T171342
CREATED:20250731T184853Z
LAST-MODIFIED:20250731T184853Z
UID:10000946-1877936400-1877947200@sekworks.org
SUMMARY:KANSASWORKS Southeast @ Pittsburg DCF
DESCRIPTION:
URL:https://sekworks.org/event/kansasworks-southeast-pittsburg-dcf/2029-07-05/
LOCATION:Pittsburg Department for Children and Families\, 320 S Broadway St\, Pittsburg\, KS\, 66762\, United States
CATEGORIES:Southeast KansasWorks - Main,Southeast KansasWorks - Pittsburg
ATTACH;FMTTYPE=image/png:https://sekworks.org/wp-content/uploads/2025/07/DCF-Office-Hours-PittFt-Scott.png
END:VEVENT
BEGIN:VEVENT
DTSTART;TZID=America/Chicago:20290717T100000
DTEND;TZID=America/Chicago:20290717T150000
DTSTAMP:20260424T171342
CREATED:20250613T170348Z
LAST-MODIFIED:20250627T215005Z
UID:10000588-1878976800-1878994800@sekworks.org
SUMMARY:KANSASWORKS Mobile Unit @ Baxter Springs
DESCRIPTION:
URL:https://sekworks.org/event/kansasworks-mobile-unit-baxter-springs/2029-07-17/
LOCATION:Baxter Springs Police Station\, 121 W 11th St\, Baxter Springs\, KS\, 66713\, United States
CATEGORIES:Southeast KansasWorks - Pittsburg
ATTACH;FMTTYPE=image/jpeg:https://sekworks.org/wp-content/uploads/2025/06/processed-FA2AC038-38DE-4D82-B440-24BAE2E7928F-e1751060926343.jpeg
END:VEVENT
BEGIN:VEVENT
DTSTART;TZID=America/Chicago:20290718T100000
DTEND;TZID=America/Chicago:20290718T150000
DTSTAMP:20260424T171342
CREATED:20250613T182508Z
LAST-MODIFIED:20250613T183640Z
UID:10000752-1879063200-1879081200@sekworks.org
SUMMARY:KANSASWORKS Mobile Unit @ Parsons
DESCRIPTION:
URL:https://sekworks.org/event/kansasworks-mobile-unit-parsons/2029-07-18/
LOCATION:King Cash Saver Lot\, 2020 Main St\, Parsons\, KS\, 67357\, United States
CATEGORIES:Southeast KansasWorks - Pittsburg
ATTACH;FMTTYPE=image/jpeg:https://sekworks.org/wp-content/uploads/2025/06/IMG_4701-1024x683-1.jpg
END:VEVENT
BEGIN:VEVENT
DTSTART;TZID=America/Chicago:20290719T100000
DTEND;TZID=America/Chicago:20290719T150000
DTSTAMP:20260424T171342
CREATED:20250811T182342Z
LAST-MODIFIED:20250811T182342Z
UID:10001072-1879149600-1879167600@sekworks.org
SUMMARY:Pop-up Workforce Center @ Paola Free Library
DESCRIPTION:
URL:https://sekworks.org/event/pop-up-workforce-center-paola-free-library/2029-07-19/
LOCATION:Paola Free Library\, 101 E Peoria St\, Paola\, KS\, 66071\, United States
CATEGORIES:Southeast KansasWorks - Main,Southeast KansasWorks - Paola
ATTACH;FMTTYPE=image/png:https://sekworks.org/wp-content/uploads/2025/08/Paola-Pop-Up-Instagram-Post-45.png
END:VEVENT
BEGIN:VEVENT
DTSTART;TZID=America/Chicago:20290719T110000
DTEND;TZID=America/Chicago:20290719T150000
DTSTAMP:20260424T171342
CREATED:20250613T182819Z
LAST-MODIFIED:20250613T183553Z
UID:10000870-1879153200-1879167600@sekworks.org
SUMMARY:KANSASWORKS Mobile Unit @ Iola
DESCRIPTION:
URL:https://sekworks.org/event/kansasworks-mobile-unit-iola/2029-07-19/
LOCATION:VA Clinic\, 1408 East St\, Iola\, KS\, 66749\, United States
CATEGORIES:Southeast KansasWorks - Chanute
ATTACH;FMTTYPE=image/jpeg:https://sekworks.org/wp-content/uploads/2025/06/IMG_4701-1024x683-1.jpg
END:VEVENT
BEGIN:VEVENT
DTSTART;TZID=America/Chicago:20290726T090000
DTEND;TZID=America/Chicago:20290726T120000
DTSTAMP:20260424T171342
CREATED:20250731T185056Z
LAST-MODIFIED:20250731T185056Z
UID:10001006-1879750800-1879761600@sekworks.org
SUMMARY:KANSASWORKS Southeast @ Fort Scott DCF
DESCRIPTION:
URL:https://sekworks.org/event/kansasworks-southeast-fort-scott-dcf/2029-07-26/
LOCATION:Fort Scott Department for Children and Families\, 10 S National Ave\, Fort Scott\, KS\, 66701\, United States
CATEGORIES:Southeast KansasWorks - Main,Southeast KansasWorks - Pittsburg
ATTACH;FMTTYPE=image/png:https://sekworks.org/wp-content/uploads/2025/07/DCF-Office-Hours-PittFt-Scott.png
END:VEVENT
BEGIN:VEVENT
DTSTART;TZID=America/Chicago:20290802T090000
DTEND;TZID=America/Chicago:20290802T120000
DTSTAMP:20260424T171342
CREATED:20250731T184853Z
LAST-MODIFIED:20250731T184853Z
UID:10000947-1880355600-1880366400@sekworks.org
SUMMARY:KANSASWORKS Southeast @ Pittsburg DCF
DESCRIPTION:
URL:https://sekworks.org/event/kansasworks-southeast-pittsburg-dcf/2029-08-02/
LOCATION:Pittsburg Department for Children and Families\, 320 S Broadway St\, Pittsburg\, KS\, 66762\, United States
CATEGORIES:Southeast KansasWorks - Main,Southeast KansasWorks - Pittsburg
ATTACH;FMTTYPE=image/png:https://sekworks.org/wp-content/uploads/2025/07/DCF-Office-Hours-PittFt-Scott.png
END:VEVENT
BEGIN:VEVENT
DTSTART;TZID=America/Chicago:20290815T100000
DTEND;TZID=America/Chicago:20290815T150000
DTSTAMP:20260424T171342
CREATED:20250613T182508Z
LAST-MODIFIED:20250613T183640Z
UID:10000753-1881482400-1881500400@sekworks.org
SUMMARY:KANSASWORKS Mobile Unit @ Parsons
DESCRIPTION:
URL:https://sekworks.org/event/kansasworks-mobile-unit-parsons/2029-08-15/
LOCATION:King Cash Saver Lot\, 2020 Main St\, Parsons\, KS\, 67357\, United States
CATEGORIES:Southeast KansasWorks - Pittsburg
ATTACH;FMTTYPE=image/jpeg:https://sekworks.org/wp-content/uploads/2025/06/IMG_4701-1024x683-1.jpg
END:VEVENT
BEGIN:VEVENT
DTSTART;TZID=America/Chicago:20290816T100000
DTEND;TZID=America/Chicago:20290816T150000
DTSTAMP:20260424T171342
CREATED:20250811T182342Z
LAST-MODIFIED:20250811T182342Z
UID:10001073-1881568800-1881586800@sekworks.org
SUMMARY:Pop-up Workforce Center @ Paola Free Library
DESCRIPTION:
URL:https://sekworks.org/event/pop-up-workforce-center-paola-free-library/2029-08-16/
LOCATION:Paola Free Library\, 101 E Peoria St\, Paola\, KS\, 66071\, United States
CATEGORIES:Southeast KansasWorks - Main,Southeast KansasWorks - Paola
ATTACH;FMTTYPE=image/png:https://sekworks.org/wp-content/uploads/2025/08/Paola-Pop-Up-Instagram-Post-45.png
END:VEVENT
BEGIN:VEVENT
DTSTART;TZID=America/Chicago:20290816T110000
DTEND;TZID=America/Chicago:20290816T150000
DTSTAMP:20260424T171342
CREATED:20250613T182819Z
LAST-MODIFIED:20250613T183553Z
UID:10000871-1881572400-1881586800@sekworks.org
SUMMARY:KANSASWORKS Mobile Unit @ Iola
DESCRIPTION:
URL:https://sekworks.org/event/kansasworks-mobile-unit-iola/2029-08-16/
LOCATION:VA Clinic\, 1408 East St\, Iola\, KS\, 66749\, United States
CATEGORIES:Southeast KansasWorks - Chanute
ATTACH;FMTTYPE=image/jpeg:https://sekworks.org/wp-content/uploads/2025/06/IMG_4701-1024x683-1.jpg
END:VEVENT
BEGIN:VEVENT
DTSTART;TZID=America/Chicago:20290821T100000
DTEND;TZID=America/Chicago:20290821T150000
DTSTAMP:20260424T171342
CREATED:20250613T170348Z
LAST-MODIFIED:20250627T215005Z
UID:10000693-1882000800-1882018800@sekworks.org
SUMMARY:KANSASWORKS Mobile Unit @ Baxter Springs
DESCRIPTION:
URL:https://sekworks.org/event/kansasworks-mobile-unit-baxter-springs/2029-08-21/
LOCATION:Baxter Springs Police Station\, 121 W 11th St\, Baxter Springs\, KS\, 66713\, United States
CATEGORIES:Southeast KansasWorks - Pittsburg
ATTACH;FMTTYPE=image/jpeg:https://sekworks.org/wp-content/uploads/2025/06/processed-FA2AC038-38DE-4D82-B440-24BAE2E7928F-e1751060926343.jpeg
END:VEVENT
BEGIN:VEVENT
DTSTART;TZID=America/Chicago:20290830T090000
DTEND;TZID=America/Chicago:20290830T120000
DTSTAMP:20260424T171342
CREATED:20250731T185056Z
LAST-MODIFIED:20250731T185056Z
UID:10001007-1882774800-1882785600@sekworks.org
SUMMARY:KANSASWORKS Southeast @ Fort Scott DCF
DESCRIPTION:
URL:https://sekworks.org/event/kansasworks-southeast-fort-scott-dcf/2029-08-30/
LOCATION:Fort Scott Department for Children and Families\, 10 S National Ave\, Fort Scott\, KS\, 66701\, United States
CATEGORIES:Southeast KansasWorks - Main,Southeast KansasWorks - Pittsburg
ATTACH;FMTTYPE=image/png:https://sekworks.org/wp-content/uploads/2025/07/DCF-Office-Hours-PittFt-Scott.png
END:VEVENT
BEGIN:VEVENT
DTSTART;TZID=America/Chicago:20290906T090000
DTEND;TZID=America/Chicago:20290906T120000
DTSTAMP:20260424T171342
CREATED:20250731T184853Z
LAST-MODIFIED:20250731T184853Z
UID:10000948-1883379600-1883390400@sekworks.org
SUMMARY:KANSASWORKS Southeast @ Pittsburg DCF
DESCRIPTION:
URL:https://sekworks.org/event/kansasworks-southeast-pittsburg-dcf/2029-09-06/
LOCATION:Pittsburg Department for Children and Families\, 320 S Broadway St\, Pittsburg\, KS\, 66762\, United States
CATEGORIES:Southeast KansasWorks - Main,Southeast KansasWorks - Pittsburg
ATTACH;FMTTYPE=image/png:https://sekworks.org/wp-content/uploads/2025/07/DCF-Office-Hours-PittFt-Scott.png
END:VEVENT
BEGIN:VEVENT
DTSTART;TZID=America/Chicago:20290918T100000
DTEND;TZID=America/Chicago:20290918T150000
DTSTAMP:20260424T171342
CREATED:20250613T170348Z
LAST-MODIFIED:20250627T215005Z
UID:10000694-1884420000-1884438000@sekworks.org
SUMMARY:KANSASWORKS Mobile Unit @ Baxter Springs
DESCRIPTION:
URL:https://sekworks.org/event/kansasworks-mobile-unit-baxter-springs/2029-09-18/
LOCATION:Baxter Springs Police Station\, 121 W 11th St\, Baxter Springs\, KS\, 66713\, United States
CATEGORIES:Southeast KansasWorks - Pittsburg
ATTACH;FMTTYPE=image/jpeg:https://sekworks.org/wp-content/uploads/2025/06/processed-FA2AC038-38DE-4D82-B440-24BAE2E7928F-e1751060926343.jpeg
END:VEVENT
BEGIN:VEVENT
DTSTART;TZID=America/Chicago:20290919T100000
DTEND;TZID=America/Chicago:20290919T150000
DTSTAMP:20260424T171342
CREATED:20250613T182508Z
LAST-MODIFIED:20250613T183640Z
UID:10000754-1884506400-1884524400@sekworks.org
SUMMARY:KANSASWORKS Mobile Unit @ Parsons
DESCRIPTION:
URL:https://sekworks.org/event/kansasworks-mobile-unit-parsons/2029-09-19/
LOCATION:King Cash Saver Lot\, 2020 Main St\, Parsons\, KS\, 67357\, United States
CATEGORIES:Southeast KansasWorks - Pittsburg
ATTACH;FMTTYPE=image/jpeg:https://sekworks.org/wp-content/uploads/2025/06/IMG_4701-1024x683-1.jpg
END:VEVENT
BEGIN:VEVENT
DTSTART;TZID=America/Chicago:20290920T100000
DTEND;TZID=America/Chicago:20290920T150000
DTSTAMP:20260424T171342
CREATED:20250811T182342Z
LAST-MODIFIED:20250811T182342Z
UID:10001074-1884592800-1884610800@sekworks.org
SUMMARY:Pop-up Workforce Center @ Paola Free Library
DESCRIPTION:
URL:https://sekworks.org/event/pop-up-workforce-center-paola-free-library/2029-09-20/
LOCATION:Paola Free Library\, 101 E Peoria St\, Paola\, KS\, 66071\, United States
CATEGORIES:Southeast KansasWorks - Main,Southeast KansasWorks - Paola
ATTACH;FMTTYPE=image/png:https://sekworks.org/wp-content/uploads/2025/08/Paola-Pop-Up-Instagram-Post-45.png
END:VEVENT
BEGIN:VEVENT
DTSTART;TZID=America/Chicago:20290920T110000
DTEND;TZID=America/Chicago:20290920T150000
DTSTAMP:20260424T171342
CREATED:20250613T182819Z
LAST-MODIFIED:20250613T183553Z
UID:10000872-1884596400-1884610800@sekworks.org
SUMMARY:KANSASWORKS Mobile Unit @ Iola
DESCRIPTION:
URL:https://sekworks.org/event/kansasworks-mobile-unit-iola/2029-09-20/
LOCATION:VA Clinic\, 1408 East St\, Iola\, KS\, 66749\, United States
CATEGORIES:Southeast KansasWorks - Chanute
ATTACH;FMTTYPE=image/jpeg:https://sekworks.org/wp-content/uploads/2025/06/IMG_4701-1024x683-1.jpg
END:VEVENT
BEGIN:VEVENT
DTSTART;TZID=America/Chicago:20290927T090000
DTEND;TZID=America/Chicago:20290927T120000
DTSTAMP:20260424T171342
CREATED:20250731T185056Z
LAST-MODIFIED:20250731T185056Z
UID:10001008-1885194000-1885204800@sekworks.org
SUMMARY:KANSASWORKS Southeast @ Fort Scott DCF
DESCRIPTION:
URL:https://sekworks.org/event/kansasworks-southeast-fort-scott-dcf/2029-09-27/
LOCATION:Fort Scott Department for Children and Families\, 10 S National Ave\, Fort Scott\, KS\, 66701\, United States
CATEGORIES:Southeast KansasWorks - Main,Southeast KansasWorks - Pittsburg
ATTACH;FMTTYPE=image/png:https://sekworks.org/wp-content/uploads/2025/07/DCF-Office-Hours-PittFt-Scott.png
END:VEVENT
BEGIN:VEVENT
DTSTART;TZID=America/Chicago:20291004T090000
DTEND;TZID=America/Chicago:20291004T120000
DTSTAMP:20260424T171342
CREATED:20250731T184853Z
LAST-MODIFIED:20250731T184853Z
UID:10000949-1885798800-1885809600@sekworks.org
SUMMARY:KANSASWORKS Southeast @ Pittsburg DCF
DESCRIPTION:
URL:https://sekworks.org/event/kansasworks-southeast-pittsburg-dcf/2029-10-04/
LOCATION:Pittsburg Department for Children and Families\, 320 S Broadway St\, Pittsburg\, KS\, 66762\, United States
CATEGORIES:Southeast KansasWorks - Main,Southeast KansasWorks - Pittsburg
ATTACH;FMTTYPE=image/png:https://sekworks.org/wp-content/uploads/2025/07/DCF-Office-Hours-PittFt-Scott.png
END:VEVENT
BEGIN:VEVENT
DTSTART;TZID=America/Chicago:20291016T100000
DTEND;TZID=America/Chicago:20291016T150000
DTSTAMP:20260424T171342
CREATED:20250613T170348Z
LAST-MODIFIED:20250627T215005Z
UID:10000695-1886839200-1886857200@sekworks.org
SUMMARY:KANSASWORKS Mobile Unit @ Baxter Springs
DESCRIPTION:
URL:https://sekworks.org/event/kansasworks-mobile-unit-baxter-springs/2029-10-16/
LOCATION:Baxter Springs Police Station\, 121 W 11th St\, Baxter Springs\, KS\, 66713\, United States
CATEGORIES:Southeast KansasWorks - Pittsburg
ATTACH;FMTTYPE=image/jpeg:https://sekworks.org/wp-content/uploads/2025/06/processed-FA2AC038-38DE-4D82-B440-24BAE2E7928F-e1751060926343.jpeg
END:VEVENT
BEGIN:VEVENT
DTSTART;TZID=America/Chicago:20291017T100000
DTEND;TZID=America/Chicago:20291017T150000
DTSTAMP:20260424T171342
CREATED:20250613T182508Z
LAST-MODIFIED:20250613T183640Z
UID:10000755-1886925600-1886943600@sekworks.org
SUMMARY:KANSASWORKS Mobile Unit @ Parsons
DESCRIPTION:
URL:https://sekworks.org/event/kansasworks-mobile-unit-parsons/2029-10-17/
LOCATION:King Cash Saver Lot\, 2020 Main St\, Parsons\, KS\, 67357\, United States
CATEGORIES:Southeast KansasWorks - Pittsburg
ATTACH;FMTTYPE=image/jpeg:https://sekworks.org/wp-content/uploads/2025/06/IMG_4701-1024x683-1.jpg
END:VEVENT
BEGIN:VEVENT
DTSTART;TZID=America/Chicago:20291018T100000
DTEND;TZID=America/Chicago:20291018T150000
DTSTAMP:20260424T171342
CREATED:20250811T182342Z
LAST-MODIFIED:20250811T182342Z
UID:10001075-1887012000-1887030000@sekworks.org
SUMMARY:Pop-up Workforce Center @ Paola Free Library
DESCRIPTION:
URL:https://sekworks.org/event/pop-up-workforce-center-paola-free-library/2029-10-18/
LOCATION:Paola Free Library\, 101 E Peoria St\, Paola\, KS\, 66071\, United States
CATEGORIES:Southeast KansasWorks - Main,Southeast KansasWorks - Paola
ATTACH;FMTTYPE=image/png:https://sekworks.org/wp-content/uploads/2025/08/Paola-Pop-Up-Instagram-Post-45.png
END:VEVENT
BEGIN:VEVENT
DTSTART;TZID=America/Chicago:20291018T110000
DTEND;TZID=America/Chicago:20291018T150000
DTSTAMP:20260424T171342
CREATED:20250613T182819Z
LAST-MODIFIED:20250613T183553Z
UID:10000873-1887015600-1887030000@sekworks.org
SUMMARY:KANSASWORKS Mobile Unit @ Iola
DESCRIPTION:
URL:https://sekworks.org/event/kansasworks-mobile-unit-iola/2029-10-18/
LOCATION:VA Clinic\, 1408 East St\, Iola\, KS\, 66749\, United States
CATEGORIES:Southeast KansasWorks - Chanute
ATTACH;FMTTYPE=image/jpeg:https://sekworks.org/wp-content/uploads/2025/06/IMG_4701-1024x683-1.jpg
END:VEVENT
BEGIN:VEVENT
DTSTART;TZID=America/Chicago:20291025T090000
DTEND;TZID=America/Chicago:20291025T120000
DTSTAMP:20260424T171342
CREATED:20250731T185056Z
LAST-MODIFIED:20250731T185056Z
UID:10001009-1887613200-1887624000@sekworks.org
SUMMARY:KANSASWORKS Southeast @ Fort Scott DCF
DESCRIPTION:
URL:https://sekworks.org/event/kansasworks-southeast-fort-scott-dcf/2029-10-25/
LOCATION:Fort Scott Department for Children and Families\, 10 S National Ave\, Fort Scott\, KS\, 66701\, United States
CATEGORIES:Southeast KansasWorks - Main,Southeast KansasWorks - Pittsburg
ATTACH;FMTTYPE=image/png:https://sekworks.org/wp-content/uploads/2025/07/DCF-Office-Hours-PittFt-Scott.png
END:VEVENT
BEGIN:VEVENT
DTSTART;TZID=America/Chicago:20291101T090000
DTEND;TZID=America/Chicago:20291101T120000
DTSTAMP:20260424T171342
CREATED:20250731T184853Z
LAST-MODIFIED:20250731T184853Z
UID:10000950-1888218000-1888228800@sekworks.org
SUMMARY:KANSASWORKS Southeast @ Pittsburg DCF
DESCRIPTION:
URL:https://sekworks.org/event/kansasworks-southeast-pittsburg-dcf/2029-11-01/
LOCATION:Pittsburg Department for Children and Families\, 320 S Broadway St\, Pittsburg\, KS\, 66762\, United States
CATEGORIES:Southeast KansasWorks - Main,Southeast KansasWorks - Pittsburg
ATTACH;FMTTYPE=image/png:https://sekworks.org/wp-content/uploads/2025/07/DCF-Office-Hours-PittFt-Scott.png
END:VEVENT
END:VCALENDAR