BEGIN:VCALENDAR
VERSION:2.0
PRODID:-//Southeast KANSASWORKS, Inc. - ECPv6.15.20//NONSGML v1.0//EN
CALSCALE:GREGORIAN
METHOD:PUBLISH
X-WR-CALNAME:Southeast KANSASWORKS, Inc.
X-ORIGINAL-URL:https://sekworks.org
X-WR-CALDESC:Events for Southeast KANSASWORKS, Inc.
REFRESH-INTERVAL;VALUE=DURATION:PT1H
X-Robots-Tag:noindex
X-PUBLISHED-TTL:PT1H
BEGIN:VTIMEZONE
TZID:America/Chicago
BEGIN:DAYLIGHT
TZOFFSETFROM:-0600
TZOFFSETTO:-0500
TZNAME:CDT
DTSTART:20270314T080000
END:DAYLIGHT
BEGIN:STANDARD
TZOFFSETFROM:-0500
TZOFFSETTO:-0600
TZNAME:CST
DTSTART:20271107T070000
END:STANDARD
BEGIN:DAYLIGHT
TZOFFSETFROM:-0600
TZOFFSETTO:-0500
TZNAME:CDT
DTSTART:20280312T080000
END:DAYLIGHT
BEGIN:STANDARD
TZOFFSETFROM:-0500
TZOFFSETTO:-0600
TZNAME:CST
DTSTART:20281105T070000
END:STANDARD
BEGIN:DAYLIGHT
TZOFFSETFROM:-0600
TZOFFSETTO:-0500
TZNAME:CDT
DTSTART:20290311T080000
END:DAYLIGHT
BEGIN:STANDARD
TZOFFSETFROM:-0500
TZOFFSETTO:-0600
TZNAME:CST
DTSTART:20291104T070000
END:STANDARD
BEGIN:DAYLIGHT
TZOFFSETFROM:-0600
TZOFFSETTO:-0500
TZNAME:CDT
DTSTART:20300310T080000
END:DAYLIGHT
BEGIN:STANDARD
TZOFFSETFROM:-0500
TZOFFSETTO:-0600
TZNAME:CST
DTSTART:20301103T070000
END:STANDARD
END:VTIMEZONE
BEGIN:VEVENT
DTSTART;TZID=America/Chicago:20281019T110000
DTEND;TZID=America/Chicago:20281019T150000
DTSTAMP:20260424T013627
CREATED:20250613T182819Z
LAST-MODIFIED:20250613T183553Z
UID:10000861-1855566000-1855580400@sekworks.org
SUMMARY:KANSASWORKS Mobile Unit @ Iola
DESCRIPTION:
URL:https://sekworks.org/event/kansasworks-mobile-unit-iola/2028-10-19/
LOCATION:VA Clinic\, 1408 East St\, Iola\, KS\, 66749\, United States
CATEGORIES:Southeast KansasWorks - Chanute
ATTACH;FMTTYPE=image/jpeg:https://sekworks.org/wp-content/uploads/2025/06/IMG_4701-1024x683-1.jpg
END:VEVENT
BEGIN:VEVENT
DTSTART;TZID=America/Chicago:20281026T090000
DTEND;TZID=America/Chicago:20281026T120000
DTSTAMP:20260424T013627
CREATED:20250731T185056Z
LAST-MODIFIED:20250731T185056Z
UID:10000997-1856163600-1856174400@sekworks.org
SUMMARY:KANSASWORKS Southeast @ Fort Scott DCF
DESCRIPTION:
URL:https://sekworks.org/event/kansasworks-southeast-fort-scott-dcf/2028-10-26/
LOCATION:Fort Scott Department for Children and Families\, 10 S National Ave\, Fort Scott\, KS\, 66701\, United States
CATEGORIES:Southeast KansasWorks - Main,Southeast KansasWorks - Pittsburg
ATTACH;FMTTYPE=image/png:https://sekworks.org/wp-content/uploads/2025/07/DCF-Office-Hours-PittFt-Scott.png
END:VEVENT
BEGIN:VEVENT
DTSTART;TZID=America/Chicago:20281102T090000
DTEND;TZID=America/Chicago:20281102T120000
DTSTAMP:20260424T013627
CREATED:20250731T184853Z
LAST-MODIFIED:20250731T184853Z
UID:10000938-1856768400-1856779200@sekworks.org
SUMMARY:KANSASWORKS Southeast @ Pittsburg DCF
DESCRIPTION:
URL:https://sekworks.org/event/kansasworks-southeast-pittsburg-dcf/2028-11-02/
LOCATION:Pittsburg Department for Children and Families\, 320 S Broadway St\, Pittsburg\, KS\, 66762\, United States
CATEGORIES:Southeast KansasWorks - Main,Southeast KansasWorks - Pittsburg
ATTACH;FMTTYPE=image/png:https://sekworks.org/wp-content/uploads/2025/07/DCF-Office-Hours-PittFt-Scott.png
END:VEVENT
BEGIN:VEVENT
DTSTART;TZID=America/Chicago:20281115T100000
DTEND;TZID=America/Chicago:20281115T150000
DTSTAMP:20260424T013627
CREATED:20250613T182508Z
LAST-MODIFIED:20250613T183640Z
UID:10000744-1857895200-1857913200@sekworks.org
SUMMARY:KANSASWORKS Mobile Unit @ Parsons
DESCRIPTION:
URL:https://sekworks.org/event/kansasworks-mobile-unit-parsons/2028-11-15/
LOCATION:King Cash Saver Lot\, 2020 Main St\, Parsons\, KS\, 67357\, United States
CATEGORIES:Southeast KansasWorks - Pittsburg
ATTACH;FMTTYPE=image/jpeg:https://sekworks.org/wp-content/uploads/2025/06/IMG_4701-1024x683-1.jpg
END:VEVENT
BEGIN:VEVENT
DTSTART;TZID=America/Chicago:20281116T100000
DTEND;TZID=America/Chicago:20281116T150000
DTSTAMP:20260424T013627
CREATED:20250811T182342Z
LAST-MODIFIED:20250811T182342Z
UID:10001064-1857981600-1857999600@sekworks.org
SUMMARY:Pop-up Workforce Center @ Paola Free Library
DESCRIPTION:
URL:https://sekworks.org/event/pop-up-workforce-center-paola-free-library/2028-11-16/
LOCATION:Paola Free Library\, 101 E Peoria St\, Paola\, KS\, 66071\, United States
CATEGORIES:Southeast KansasWorks - Main,Southeast KansasWorks - Paola
ATTACH;FMTTYPE=image/png:https://sekworks.org/wp-content/uploads/2025/08/Paola-Pop-Up-Instagram-Post-45.png
END:VEVENT
BEGIN:VEVENT
DTSTART;TZID=America/Chicago:20281116T110000
DTEND;TZID=America/Chicago:20281116T150000
DTSTAMP:20260424T013627
CREATED:20250613T182819Z
LAST-MODIFIED:20250613T183553Z
UID:10000862-1857985200-1857999600@sekworks.org
SUMMARY:KANSASWORKS Mobile Unit @ Iola
DESCRIPTION:
URL:https://sekworks.org/event/kansasworks-mobile-unit-iola/2028-11-16/
LOCATION:VA Clinic\, 1408 East St\, Iola\, KS\, 66749\, United States
CATEGORIES:Southeast KansasWorks - Chanute
ATTACH;FMTTYPE=image/jpeg:https://sekworks.org/wp-content/uploads/2025/06/IMG_4701-1024x683-1.jpg
END:VEVENT
BEGIN:VEVENT
DTSTART;TZID=America/Chicago:20281121T100000
DTEND;TZID=America/Chicago:20281121T150000
DTSTAMP:20260424T013627
CREATED:20250613T170348Z
LAST-MODIFIED:20250627T215005Z
UID:10000686-1858413600-1858431600@sekworks.org
SUMMARY:KANSASWORKS Mobile Unit @ Baxter Springs
DESCRIPTION:
URL:https://sekworks.org/event/kansasworks-mobile-unit-baxter-springs/2028-11-21/
LOCATION:Baxter Springs Police Station\, 121 W 11th St\, Baxter Springs\, KS\, 66713\, United States
CATEGORIES:Southeast KansasWorks - Pittsburg
ATTACH;FMTTYPE=image/jpeg:https://sekworks.org/wp-content/uploads/2025/06/processed-FA2AC038-38DE-4D82-B440-24BAE2E7928F-e1751060926343.jpeg
END:VEVENT
BEGIN:VEVENT
DTSTART;TZID=America/Chicago:20281130T090000
DTEND;TZID=America/Chicago:20281130T120000
DTSTAMP:20260424T013627
CREATED:20250731T185056Z
LAST-MODIFIED:20250731T185056Z
UID:10000998-1859187600-1859198400@sekworks.org
SUMMARY:KANSASWORKS Southeast @ Fort Scott DCF
DESCRIPTION:
URL:https://sekworks.org/event/kansasworks-southeast-fort-scott-dcf/2028-11-30/
LOCATION:Fort Scott Department for Children and Families\, 10 S National Ave\, Fort Scott\, KS\, 66701\, United States
CATEGORIES:Southeast KansasWorks - Main,Southeast KansasWorks - Pittsburg
ATTACH;FMTTYPE=image/png:https://sekworks.org/wp-content/uploads/2025/07/DCF-Office-Hours-PittFt-Scott.png
END:VEVENT
BEGIN:VEVENT
DTSTART;TZID=America/Chicago:20281207T090000
DTEND;TZID=America/Chicago:20281207T120000
DTSTAMP:20260424T013627
CREATED:20250731T184853Z
LAST-MODIFIED:20250731T184853Z
UID:10000939-1859792400-1859803200@sekworks.org
SUMMARY:KANSASWORKS Southeast @ Pittsburg DCF
DESCRIPTION:
URL:https://sekworks.org/event/kansasworks-southeast-pittsburg-dcf/2028-12-07/
LOCATION:Pittsburg Department for Children and Families\, 320 S Broadway St\, Pittsburg\, KS\, 66762\, United States
CATEGORIES:Southeast KansasWorks - Main,Southeast KansasWorks - Pittsburg
ATTACH;FMTTYPE=image/png:https://sekworks.org/wp-content/uploads/2025/07/DCF-Office-Hours-PittFt-Scott.png
END:VEVENT
BEGIN:VEVENT
DTSTART;TZID=America/Chicago:20281219T100000
DTEND;TZID=America/Chicago:20281219T150000
DTSTAMP:20260424T013627
CREATED:20250613T170348Z
LAST-MODIFIED:20250627T215005Z
UID:10000687-1860832800-1860850800@sekworks.org
SUMMARY:KANSASWORKS Mobile Unit @ Baxter Springs
DESCRIPTION:
URL:https://sekworks.org/event/kansasworks-mobile-unit-baxter-springs/2028-12-19/
LOCATION:Baxter Springs Police Station\, 121 W 11th St\, Baxter Springs\, KS\, 66713\, United States
CATEGORIES:Southeast KansasWorks - Pittsburg
ATTACH;FMTTYPE=image/jpeg:https://sekworks.org/wp-content/uploads/2025/06/processed-FA2AC038-38DE-4D82-B440-24BAE2E7928F-e1751060926343.jpeg
END:VEVENT
BEGIN:VEVENT
DTSTART;TZID=America/Chicago:20281220T100000
DTEND;TZID=America/Chicago:20281220T150000
DTSTAMP:20260424T013627
CREATED:20250613T182508Z
LAST-MODIFIED:20250613T183640Z
UID:10000745-1860919200-1860937200@sekworks.org
SUMMARY:KANSASWORKS Mobile Unit @ Parsons
DESCRIPTION:
URL:https://sekworks.org/event/kansasworks-mobile-unit-parsons/2028-12-20/
LOCATION:King Cash Saver Lot\, 2020 Main St\, Parsons\, KS\, 67357\, United States
CATEGORIES:Southeast KansasWorks - Pittsburg
ATTACH;FMTTYPE=image/jpeg:https://sekworks.org/wp-content/uploads/2025/06/IMG_4701-1024x683-1.jpg
END:VEVENT
BEGIN:VEVENT
DTSTART;TZID=America/Chicago:20281221T100000
DTEND;TZID=America/Chicago:20281221T150000
DTSTAMP:20260424T013627
CREATED:20250811T182342Z
LAST-MODIFIED:20250811T182342Z
UID:10001065-1861005600-1861023600@sekworks.org
SUMMARY:Pop-up Workforce Center @ Paola Free Library
DESCRIPTION:
URL:https://sekworks.org/event/pop-up-workforce-center-paola-free-library/2028-12-21/
LOCATION:Paola Free Library\, 101 E Peoria St\, Paola\, KS\, 66071\, United States
CATEGORIES:Southeast KansasWorks - Main,Southeast KansasWorks - Paola
ATTACH;FMTTYPE=image/png:https://sekworks.org/wp-content/uploads/2025/08/Paola-Pop-Up-Instagram-Post-45.png
END:VEVENT
BEGIN:VEVENT
DTSTART;TZID=America/Chicago:20281221T110000
DTEND;TZID=America/Chicago:20281221T150000
DTSTAMP:20260424T013627
CREATED:20250613T182819Z
LAST-MODIFIED:20250613T183553Z
UID:10000863-1861009200-1861023600@sekworks.org
SUMMARY:KANSASWORKS Mobile Unit @ Iola
DESCRIPTION:
URL:https://sekworks.org/event/kansasworks-mobile-unit-iola/2028-12-21/
LOCATION:VA Clinic\, 1408 East St\, Iola\, KS\, 66749\, United States
CATEGORIES:Southeast KansasWorks - Chanute
ATTACH;FMTTYPE=image/jpeg:https://sekworks.org/wp-content/uploads/2025/06/IMG_4701-1024x683-1.jpg
END:VEVENT
BEGIN:VEVENT
DTSTART;TZID=America/Chicago:20281228T090000
DTEND;TZID=America/Chicago:20281228T120000
DTSTAMP:20260424T013627
CREATED:20250731T185056Z
LAST-MODIFIED:20250731T185056Z
UID:10000999-1861606800-1861617600@sekworks.org
SUMMARY:KANSASWORKS Southeast @ Fort Scott DCF
DESCRIPTION:
URL:https://sekworks.org/event/kansasworks-southeast-fort-scott-dcf/2028-12-28/
LOCATION:Fort Scott Department for Children and Families\, 10 S National Ave\, Fort Scott\, KS\, 66701\, United States
CATEGORIES:Southeast KansasWorks - Main,Southeast KansasWorks - Pittsburg
ATTACH;FMTTYPE=image/png:https://sekworks.org/wp-content/uploads/2025/07/DCF-Office-Hours-PittFt-Scott.png
END:VEVENT
BEGIN:VEVENT
DTSTART;TZID=America/Chicago:20290104T090000
DTEND;TZID=America/Chicago:20290104T120000
DTSTAMP:20260424T013627
CREATED:20250731T184853Z
LAST-MODIFIED:20250731T184853Z
UID:10000940-1862211600-1862222400@sekworks.org
SUMMARY:KANSASWORKS Southeast @ Pittsburg DCF
DESCRIPTION:
URL:https://sekworks.org/event/kansasworks-southeast-pittsburg-dcf/2029-01-04/
LOCATION:Pittsburg Department for Children and Families\, 320 S Broadway St\, Pittsburg\, KS\, 66762\, United States
CATEGORIES:Southeast KansasWorks - Main,Southeast KansasWorks - Pittsburg
ATTACH;FMTTYPE=image/png:https://sekworks.org/wp-content/uploads/2025/07/DCF-Office-Hours-PittFt-Scott.png
END:VEVENT
BEGIN:VEVENT
DTSTART;TZID=America/Chicago:20290116T100000
DTEND;TZID=America/Chicago:20290116T150000
DTSTAMP:20260424T013627
CREATED:20250613T170348Z
LAST-MODIFIED:20250627T215005Z
UID:10000688-1863252000-1863270000@sekworks.org
SUMMARY:KANSASWORKS Mobile Unit @ Baxter Springs
DESCRIPTION:
URL:https://sekworks.org/event/kansasworks-mobile-unit-baxter-springs/2029-01-16/
LOCATION:Baxter Springs Police Station\, 121 W 11th St\, Baxter Springs\, KS\, 66713\, United States
CATEGORIES:Southeast KansasWorks - Pittsburg
ATTACH;FMTTYPE=image/jpeg:https://sekworks.org/wp-content/uploads/2025/06/processed-FA2AC038-38DE-4D82-B440-24BAE2E7928F-e1751060926343.jpeg
END:VEVENT
BEGIN:VEVENT
DTSTART;TZID=America/Chicago:20290117T100000
DTEND;TZID=America/Chicago:20290117T150000
DTSTAMP:20260424T013627
CREATED:20250613T182508Z
LAST-MODIFIED:20250613T183640Z
UID:10000746-1863338400-1863356400@sekworks.org
SUMMARY:KANSASWORKS Mobile Unit @ Parsons
DESCRIPTION:
URL:https://sekworks.org/event/kansasworks-mobile-unit-parsons/2029-01-17/
LOCATION:King Cash Saver Lot\, 2020 Main St\, Parsons\, KS\, 67357\, United States
CATEGORIES:Southeast KansasWorks - Pittsburg
ATTACH;FMTTYPE=image/jpeg:https://sekworks.org/wp-content/uploads/2025/06/IMG_4701-1024x683-1.jpg
END:VEVENT
BEGIN:VEVENT
DTSTART;TZID=America/Chicago:20290118T100000
DTEND;TZID=America/Chicago:20290118T150000
DTSTAMP:20260424T013627
CREATED:20250811T182342Z
LAST-MODIFIED:20250811T182342Z
UID:10001066-1863424800-1863442800@sekworks.org
SUMMARY:Pop-up Workforce Center @ Paola Free Library
DESCRIPTION:
URL:https://sekworks.org/event/pop-up-workforce-center-paola-free-library/2029-01-18/
LOCATION:Paola Free Library\, 101 E Peoria St\, Paola\, KS\, 66071\, United States
CATEGORIES:Southeast KansasWorks - Main,Southeast KansasWorks - Paola
ATTACH;FMTTYPE=image/png:https://sekworks.org/wp-content/uploads/2025/08/Paola-Pop-Up-Instagram-Post-45.png
END:VEVENT
BEGIN:VEVENT
DTSTART;TZID=America/Chicago:20290118T110000
DTEND;TZID=America/Chicago:20290118T150000
DTSTAMP:20260424T013627
CREATED:20250613T182819Z
LAST-MODIFIED:20250613T183553Z
UID:10000864-1863428400-1863442800@sekworks.org
SUMMARY:KANSASWORKS Mobile Unit @ Iola
DESCRIPTION:
URL:https://sekworks.org/event/kansasworks-mobile-unit-iola/2029-01-18/
LOCATION:VA Clinic\, 1408 East St\, Iola\, KS\, 66749\, United States
CATEGORIES:Southeast KansasWorks - Chanute
ATTACH;FMTTYPE=image/jpeg:https://sekworks.org/wp-content/uploads/2025/06/IMG_4701-1024x683-1.jpg
END:VEVENT
BEGIN:VEVENT
DTSTART;TZID=America/Chicago:20290125T090000
DTEND;TZID=America/Chicago:20290125T120000
DTSTAMP:20260424T013627
CREATED:20250731T185056Z
LAST-MODIFIED:20250731T185056Z
UID:10001000-1864026000-1864036800@sekworks.org
SUMMARY:KANSASWORKS Southeast @ Fort Scott DCF
DESCRIPTION:
URL:https://sekworks.org/event/kansasworks-southeast-fort-scott-dcf/2029-01-25/
LOCATION:Fort Scott Department for Children and Families\, 10 S National Ave\, Fort Scott\, KS\, 66701\, United States
CATEGORIES:Southeast KansasWorks - Main,Southeast KansasWorks - Pittsburg
ATTACH;FMTTYPE=image/png:https://sekworks.org/wp-content/uploads/2025/07/DCF-Office-Hours-PittFt-Scott.png
END:VEVENT
BEGIN:VEVENT
DTSTART;TZID=America/Chicago:20290201T090000
DTEND;TZID=America/Chicago:20290201T120000
DTSTAMP:20260424T013627
CREATED:20250731T184853Z
LAST-MODIFIED:20250731T184853Z
UID:10000941-1864630800-1864641600@sekworks.org
SUMMARY:KANSASWORKS Southeast @ Pittsburg DCF
DESCRIPTION:
URL:https://sekworks.org/event/kansasworks-southeast-pittsburg-dcf/2029-02-01/
LOCATION:Pittsburg Department for Children and Families\, 320 S Broadway St\, Pittsburg\, KS\, 66762\, United States
CATEGORIES:Southeast KansasWorks - Main,Southeast KansasWorks - Pittsburg
ATTACH;FMTTYPE=image/png:https://sekworks.org/wp-content/uploads/2025/07/DCF-Office-Hours-PittFt-Scott.png
END:VEVENT
BEGIN:VEVENT
DTSTART;TZID=America/Chicago:20290215T100000
DTEND;TZID=America/Chicago:20290215T150000
DTSTAMP:20260424T013627
CREATED:20250811T182342Z
LAST-MODIFIED:20250811T182342Z
UID:10001067-1865844000-1865862000@sekworks.org
SUMMARY:Pop-up Workforce Center @ Paola Free Library
DESCRIPTION:
URL:https://sekworks.org/event/pop-up-workforce-center-paola-free-library/2029-02-15/
LOCATION:Paola Free Library\, 101 E Peoria St\, Paola\, KS\, 66071\, United States
CATEGORIES:Southeast KansasWorks - Main,Southeast KansasWorks - Paola
ATTACH;FMTTYPE=image/png:https://sekworks.org/wp-content/uploads/2025/08/Paola-Pop-Up-Instagram-Post-45.png
END:VEVENT
BEGIN:VEVENT
DTSTART;TZID=America/Chicago:20290215T110000
DTEND;TZID=America/Chicago:20290215T150000
DTSTAMP:20260424T013627
CREATED:20250613T182819Z
LAST-MODIFIED:20250613T183553Z
UID:10000865-1865847600-1865862000@sekworks.org
SUMMARY:KANSASWORKS Mobile Unit @ Iola
DESCRIPTION:
URL:https://sekworks.org/event/kansasworks-mobile-unit-iola/2029-02-15/
LOCATION:VA Clinic\, 1408 East St\, Iola\, KS\, 66749\, United States
CATEGORIES:Southeast KansasWorks - Chanute
ATTACH;FMTTYPE=image/jpeg:https://sekworks.org/wp-content/uploads/2025/06/IMG_4701-1024x683-1.jpg
END:VEVENT
BEGIN:VEVENT
DTSTART;TZID=America/Chicago:20290220T100000
DTEND;TZID=America/Chicago:20290220T150000
DTSTAMP:20260424T013627
CREATED:20250613T170348Z
LAST-MODIFIED:20250627T215005Z
UID:10000689-1866276000-1866294000@sekworks.org
SUMMARY:KANSASWORKS Mobile Unit @ Baxter Springs
DESCRIPTION:
URL:https://sekworks.org/event/kansasworks-mobile-unit-baxter-springs/2029-02-20/
LOCATION:Baxter Springs Police Station\, 121 W 11th St\, Baxter Springs\, KS\, 66713\, United States
CATEGORIES:Southeast KansasWorks - Pittsburg
ATTACH;FMTTYPE=image/jpeg:https://sekworks.org/wp-content/uploads/2025/06/processed-FA2AC038-38DE-4D82-B440-24BAE2E7928F-e1751060926343.jpeg
END:VEVENT
BEGIN:VEVENT
DTSTART;TZID=America/Chicago:20290221T100000
DTEND;TZID=America/Chicago:20290221T150000
DTSTAMP:20260424T013627
CREATED:20250613T182508Z
LAST-MODIFIED:20250613T183640Z
UID:10000747-1866362400-1866380400@sekworks.org
SUMMARY:KANSASWORKS Mobile Unit @ Parsons
DESCRIPTION:
URL:https://sekworks.org/event/kansasworks-mobile-unit-parsons/2029-02-21/
LOCATION:King Cash Saver Lot\, 2020 Main St\, Parsons\, KS\, 67357\, United States
CATEGORIES:Southeast KansasWorks - Pittsburg
ATTACH;FMTTYPE=image/jpeg:https://sekworks.org/wp-content/uploads/2025/06/IMG_4701-1024x683-1.jpg
END:VEVENT
BEGIN:VEVENT
DTSTART;TZID=America/Chicago:20290222T090000
DTEND;TZID=America/Chicago:20290222T120000
DTSTAMP:20260424T013627
CREATED:20250731T185056Z
LAST-MODIFIED:20250731T185056Z
UID:10001001-1866445200-1866456000@sekworks.org
SUMMARY:KANSASWORKS Southeast @ Fort Scott DCF
DESCRIPTION:
URL:https://sekworks.org/event/kansasworks-southeast-fort-scott-dcf/2029-02-22/
LOCATION:Fort Scott Department for Children and Families\, 10 S National Ave\, Fort Scott\, KS\, 66701\, United States
CATEGORIES:Southeast KansasWorks - Main,Southeast KansasWorks - Pittsburg
ATTACH;FMTTYPE=image/png:https://sekworks.org/wp-content/uploads/2025/07/DCF-Office-Hours-PittFt-Scott.png
END:VEVENT
BEGIN:VEVENT
DTSTART;TZID=America/Chicago:20290301T090000
DTEND;TZID=America/Chicago:20290301T120000
DTSTAMP:20260424T013627
CREATED:20250731T184853Z
LAST-MODIFIED:20250731T184853Z
UID:10000942-1867050000-1867060800@sekworks.org
SUMMARY:KANSASWORKS Southeast @ Pittsburg DCF
DESCRIPTION:
URL:https://sekworks.org/event/kansasworks-southeast-pittsburg-dcf/2029-03-01/
LOCATION:Pittsburg Department for Children and Families\, 320 S Broadway St\, Pittsburg\, KS\, 66762\, United States
CATEGORIES:Southeast KansasWorks - Main,Southeast KansasWorks - Pittsburg
ATTACH;FMTTYPE=image/png:https://sekworks.org/wp-content/uploads/2025/07/DCF-Office-Hours-PittFt-Scott.png
END:VEVENT
BEGIN:VEVENT
DTSTART;TZID=America/Chicago:20290315T100000
DTEND;TZID=America/Chicago:20290315T150000
DTSTAMP:20260424T013627
CREATED:20250811T182342Z
LAST-MODIFIED:20250811T182342Z
UID:10001068-1868263200-1868281200@sekworks.org
SUMMARY:Pop-up Workforce Center @ Paola Free Library
DESCRIPTION:
URL:https://sekworks.org/event/pop-up-workforce-center-paola-free-library/2029-03-15/
LOCATION:Paola Free Library\, 101 E Peoria St\, Paola\, KS\, 66071\, United States
CATEGORIES:Southeast KansasWorks - Main,Southeast KansasWorks - Paola
ATTACH;FMTTYPE=image/png:https://sekworks.org/wp-content/uploads/2025/08/Paola-Pop-Up-Instagram-Post-45.png
END:VEVENT
BEGIN:VEVENT
DTSTART;TZID=America/Chicago:20290315T110000
DTEND;TZID=America/Chicago:20290315T150000
DTSTAMP:20260424T013628
CREATED:20250613T182819Z
LAST-MODIFIED:20250613T183553Z
UID:10000866-1868266800-1868281200@sekworks.org
SUMMARY:KANSASWORKS Mobile Unit @ Iola
DESCRIPTION:
URL:https://sekworks.org/event/kansasworks-mobile-unit-iola/2029-03-15/
LOCATION:VA Clinic\, 1408 East St\, Iola\, KS\, 66749\, United States
CATEGORIES:Southeast KansasWorks - Chanute
ATTACH;FMTTYPE=image/jpeg:https://sekworks.org/wp-content/uploads/2025/06/IMG_4701-1024x683-1.jpg
END:VEVENT
BEGIN:VEVENT
DTSTART;TZID=America/Chicago:20290320T100000
DTEND;TZID=America/Chicago:20290320T150000
DTSTAMP:20260424T013628
CREATED:20250613T170348Z
LAST-MODIFIED:20250627T215005Z
UID:10000690-1868695200-1868713200@sekworks.org
SUMMARY:KANSASWORKS Mobile Unit @ Baxter Springs
DESCRIPTION:
URL:https://sekworks.org/event/kansasworks-mobile-unit-baxter-springs/2029-03-20/
LOCATION:Baxter Springs Police Station\, 121 W 11th St\, Baxter Springs\, KS\, 66713\, United States
CATEGORIES:Southeast KansasWorks - Pittsburg
ATTACH;FMTTYPE=image/jpeg:https://sekworks.org/wp-content/uploads/2025/06/processed-FA2AC038-38DE-4D82-B440-24BAE2E7928F-e1751060926343.jpeg
END:VEVENT
END:VCALENDAR