BEGIN:VCALENDAR
VERSION:2.0
PRODID:-//Southeast KANSASWORKS, Inc. - ECPv6.15.20//NONSGML v1.0//EN
CALSCALE:GREGORIAN
METHOD:PUBLISH
X-ORIGINAL-URL:https://sekworks.org
X-WR-CALDESC:Events for Southeast KANSASWORKS, Inc.
REFRESH-INTERVAL;VALUE=DURATION:PT1H
X-Robots-Tag:noindex
X-PUBLISHED-TTL:PT1H
BEGIN:VTIMEZONE
TZID:America/Chicago
BEGIN:DAYLIGHT
TZOFFSETFROM:-0600
TZOFFSETTO:-0500
TZNAME:CDT
DTSTART:20260308T080000
END:DAYLIGHT
BEGIN:STANDARD
TZOFFSETFROM:-0500
TZOFFSETTO:-0600
TZNAME:CST
DTSTART:20261101T070000
END:STANDARD
BEGIN:DAYLIGHT
TZOFFSETFROM:-0600
TZOFFSETTO:-0500
TZNAME:CDT
DTSTART:20270314T080000
END:DAYLIGHT
BEGIN:STANDARD
TZOFFSETFROM:-0500
TZOFFSETTO:-0600
TZNAME:CST
DTSTART:20271107T070000
END:STANDARD
BEGIN:DAYLIGHT
TZOFFSETFROM:-0600
TZOFFSETTO:-0500
TZNAME:CDT
DTSTART:20280312T080000
END:DAYLIGHT
BEGIN:STANDARD
TZOFFSETFROM:-0500
TZOFFSETTO:-0600
TZNAME:CST
DTSTART:20281105T070000
END:STANDARD
BEGIN:DAYLIGHT
TZOFFSETFROM:-0600
TZOFFSETTO:-0500
TZNAME:CDT
DTSTART:20290311T080000
END:DAYLIGHT
BEGIN:STANDARD
TZOFFSETFROM:-0500
TZOFFSETTO:-0600
TZNAME:CST
DTSTART:20291104T070000
END:STANDARD
END:VTIMEZONE
BEGIN:VEVENT
DTSTART;TZID=America/Chicago:20271104T090000
DTEND;TZID=America/Chicago:20271104T120000
DTSTAMP:20260423T005756
CREATED:20250731T184853Z
LAST-MODIFIED:20250731T184853Z
UID:10000926-1825318800-1825329600@sekworks.org
SUMMARY:KANSASWORKS Southeast @ Pittsburg DCF
DESCRIPTION:
URL:https://sekworks.org/event/kansasworks-southeast-pittsburg-dcf/2027-11-04/
LOCATION:Pittsburg Department for Children and Families\, 320 S Broadway St\, Pittsburg\, KS\, 66762\, United States
CATEGORIES:Southeast KansasWorks - Main,Southeast KansasWorks - Pittsburg
ATTACH;FMTTYPE=image/png:https://sekworks.org/wp-content/uploads/2025/07/DCF-Office-Hours-PittFt-Scott.png
END:VEVENT
BEGIN:VEVENT
DTSTART;TZID=America/Chicago:20271116T100000
DTEND;TZID=America/Chicago:20271116T150000
DTSTAMP:20260423T005756
CREATED:20250613T170348Z
LAST-MODIFIED:20250627T215005Z
UID:10000675-1826359200-1826377200@sekworks.org
SUMMARY:KANSASWORKS Mobile Unit @ Baxter Springs
DESCRIPTION:
URL:https://sekworks.org/event/kansasworks-mobile-unit-baxter-springs/2027-11-16/
LOCATION:Baxter Springs Police Station\, 121 W 11th St\, Baxter Springs\, KS\, 66713\, United States
CATEGORIES:Southeast KansasWorks - Pittsburg
ATTACH;FMTTYPE=image/jpeg:https://sekworks.org/wp-content/uploads/2025/06/processed-FA2AC038-38DE-4D82-B440-24BAE2E7928F-e1751060926343.jpeg
END:VEVENT
BEGIN:VEVENT
DTSTART;TZID=America/Chicago:20271117T100000
DTEND;TZID=America/Chicago:20271117T150000
DTSTAMP:20260423T005756
CREATED:20250613T182508Z
LAST-MODIFIED:20250613T183640Z
UID:10000732-1826445600-1826463600@sekworks.org
SUMMARY:KANSASWORKS Mobile Unit @ Parsons
DESCRIPTION:
URL:https://sekworks.org/event/kansasworks-mobile-unit-parsons/2027-11-17/
LOCATION:King Cash Saver Lot\, 2020 Main St\, Parsons\, KS\, 67357\, United States
CATEGORIES:Southeast KansasWorks - Pittsburg
ATTACH;FMTTYPE=image/jpeg:https://sekworks.org/wp-content/uploads/2025/06/IMG_4701-1024x683-1.jpg
END:VEVENT
BEGIN:VEVENT
DTSTART;TZID=America/Chicago:20271118T100000
DTEND;TZID=America/Chicago:20271118T150000
DTSTAMP:20260423T005756
CREATED:20250811T182342Z
LAST-MODIFIED:20250811T182342Z
UID:10001052-1826532000-1826550000@sekworks.org
SUMMARY:Pop-up Workforce Center @ Paola Free Library
DESCRIPTION:
URL:https://sekworks.org/event/pop-up-workforce-center-paola-free-library/2027-11-18/
LOCATION:Paola Free Library\, 101 E Peoria St\, Paola\, KS\, 66071\, United States
CATEGORIES:Southeast KansasWorks - Main,Southeast KansasWorks - Paola
ATTACH;FMTTYPE=image/png:https://sekworks.org/wp-content/uploads/2025/08/Paola-Pop-Up-Instagram-Post-45.png
END:VEVENT
BEGIN:VEVENT
DTSTART;TZID=America/Chicago:20271118T110000
DTEND;TZID=America/Chicago:20271118T150000
DTSTAMP:20260423T005756
CREATED:20250613T182819Z
LAST-MODIFIED:20250613T183553Z
UID:10000850-1826535600-1826550000@sekworks.org
SUMMARY:KANSASWORKS Mobile Unit @ Iola
DESCRIPTION:
URL:https://sekworks.org/event/kansasworks-mobile-unit-iola/2027-11-18/
LOCATION:VA Clinic\, 1408 East St\, Iola\, KS\, 66749\, United States
CATEGORIES:Southeast KansasWorks - Chanute
ATTACH;FMTTYPE=image/jpeg:https://sekworks.org/wp-content/uploads/2025/06/IMG_4701-1024x683-1.jpg
END:VEVENT
BEGIN:VEVENT
DTSTART;TZID=America/Chicago:20271125T090000
DTEND;TZID=America/Chicago:20271125T120000
DTSTAMP:20260423T005756
CREATED:20250731T185056Z
LAST-MODIFIED:20250731T185056Z
UID:10000986-1827133200-1827144000@sekworks.org
SUMMARY:KANSASWORKS Southeast @ Fort Scott DCF
DESCRIPTION:
URL:https://sekworks.org/event/kansasworks-southeast-fort-scott-dcf/2027-11-25/
LOCATION:Fort Scott Department for Children and Families\, 10 S National Ave\, Fort Scott\, KS\, 66701\, United States
CATEGORIES:Southeast KansasWorks - Main,Southeast KansasWorks - Pittsburg
ATTACH;FMTTYPE=image/png:https://sekworks.org/wp-content/uploads/2025/07/DCF-Office-Hours-PittFt-Scott.png
END:VEVENT
BEGIN:VEVENT
DTSTART;TZID=America/Chicago:20271202T090000
DTEND;TZID=America/Chicago:20271202T120000
DTSTAMP:20260423T005756
CREATED:20250731T184853Z
LAST-MODIFIED:20250731T184853Z
UID:10000927-1827738000-1827748800@sekworks.org
SUMMARY:KANSASWORKS Southeast @ Pittsburg DCF
DESCRIPTION:
URL:https://sekworks.org/event/kansasworks-southeast-pittsburg-dcf/2027-12-02/
LOCATION:Pittsburg Department for Children and Families\, 320 S Broadway St\, Pittsburg\, KS\, 66762\, United States
CATEGORIES:Southeast KansasWorks - Main,Southeast KansasWorks - Pittsburg
ATTACH;FMTTYPE=image/png:https://sekworks.org/wp-content/uploads/2025/07/DCF-Office-Hours-PittFt-Scott.png
END:VEVENT
BEGIN:VEVENT
DTSTART;TZID=America/Chicago:20271215T100000
DTEND;TZID=America/Chicago:20271215T150000
DTSTAMP:20260423T005756
CREATED:20250613T182508Z
LAST-MODIFIED:20250613T183640Z
UID:10000733-1828864800-1828882800@sekworks.org
SUMMARY:KANSASWORKS Mobile Unit @ Parsons
DESCRIPTION:
URL:https://sekworks.org/event/kansasworks-mobile-unit-parsons/2027-12-15/
LOCATION:King Cash Saver Lot\, 2020 Main St\, Parsons\, KS\, 67357\, United States
CATEGORIES:Southeast KansasWorks - Pittsburg
ATTACH;FMTTYPE=image/jpeg:https://sekworks.org/wp-content/uploads/2025/06/IMG_4701-1024x683-1.jpg
END:VEVENT
BEGIN:VEVENT
DTSTART;TZID=America/Chicago:20271216T100000
DTEND;TZID=America/Chicago:20271216T150000
DTSTAMP:20260423T005756
CREATED:20250811T182342Z
LAST-MODIFIED:20250811T182342Z
UID:10001053-1828951200-1828969200@sekworks.org
SUMMARY:Pop-up Workforce Center @ Paola Free Library
DESCRIPTION:
URL:https://sekworks.org/event/pop-up-workforce-center-paola-free-library/2027-12-16/
LOCATION:Paola Free Library\, 101 E Peoria St\, Paola\, KS\, 66071\, United States
CATEGORIES:Southeast KansasWorks - Main,Southeast KansasWorks - Paola
ATTACH;FMTTYPE=image/png:https://sekworks.org/wp-content/uploads/2025/08/Paola-Pop-Up-Instagram-Post-45.png
END:VEVENT
BEGIN:VEVENT
DTSTART;TZID=America/Chicago:20271216T110000
DTEND;TZID=America/Chicago:20271216T150000
DTSTAMP:20260423T005756
CREATED:20250613T182819Z
LAST-MODIFIED:20250613T183553Z
UID:10000851-1828954800-1828969200@sekworks.org
SUMMARY:KANSASWORKS Mobile Unit @ Iola
DESCRIPTION:
URL:https://sekworks.org/event/kansasworks-mobile-unit-iola/2027-12-16/
LOCATION:VA Clinic\, 1408 East St\, Iola\, KS\, 66749\, United States
CATEGORIES:Southeast KansasWorks - Chanute
ATTACH;FMTTYPE=image/jpeg:https://sekworks.org/wp-content/uploads/2025/06/IMG_4701-1024x683-1.jpg
END:VEVENT
BEGIN:VEVENT
DTSTART;TZID=America/Chicago:20271221T100000
DTEND;TZID=America/Chicago:20271221T150000
DTSTAMP:20260423T005756
CREATED:20250613T170348Z
LAST-MODIFIED:20250627T215005Z
UID:10000676-1829383200-1829401200@sekworks.org
SUMMARY:KANSASWORKS Mobile Unit @ Baxter Springs
DESCRIPTION:
URL:https://sekworks.org/event/kansasworks-mobile-unit-baxter-springs/2027-12-21/
LOCATION:Baxter Springs Police Station\, 121 W 11th St\, Baxter Springs\, KS\, 66713\, United States
CATEGORIES:Southeast KansasWorks - Pittsburg
ATTACH;FMTTYPE=image/jpeg:https://sekworks.org/wp-content/uploads/2025/06/processed-FA2AC038-38DE-4D82-B440-24BAE2E7928F-e1751060926343.jpeg
END:VEVENT
BEGIN:VEVENT
DTSTART;TZID=America/Chicago:20271230T090000
DTEND;TZID=America/Chicago:20271230T120000
DTSTAMP:20260423T005756
CREATED:20250731T185056Z
LAST-MODIFIED:20250731T185056Z
UID:10000987-1830157200-1830168000@sekworks.org
SUMMARY:KANSASWORKS Southeast @ Fort Scott DCF
DESCRIPTION:
URL:https://sekworks.org/event/kansasworks-southeast-fort-scott-dcf/2027-12-30/
LOCATION:Fort Scott Department for Children and Families\, 10 S National Ave\, Fort Scott\, KS\, 66701\, United States
CATEGORIES:Southeast KansasWorks - Main,Southeast KansasWorks - Pittsburg
ATTACH;FMTTYPE=image/png:https://sekworks.org/wp-content/uploads/2025/07/DCF-Office-Hours-PittFt-Scott.png
END:VEVENT
BEGIN:VEVENT
DTSTART;TZID=America/Chicago:20280106T090000
DTEND;TZID=America/Chicago:20280106T120000
DTSTAMP:20260423T005756
CREATED:20250731T184853Z
LAST-MODIFIED:20250731T184853Z
UID:10000928-1830762000-1830772800@sekworks.org
SUMMARY:KANSASWORKS Southeast @ Pittsburg DCF
DESCRIPTION:
URL:https://sekworks.org/event/kansasworks-southeast-pittsburg-dcf/2028-01-06/
LOCATION:Pittsburg Department for Children and Families\, 320 S Broadway St\, Pittsburg\, KS\, 66762\, United States
CATEGORIES:Southeast KansasWorks - Main,Southeast KansasWorks - Pittsburg
ATTACH;FMTTYPE=image/png:https://sekworks.org/wp-content/uploads/2025/07/DCF-Office-Hours-PittFt-Scott.png
END:VEVENT
BEGIN:VEVENT
DTSTART;TZID=America/Chicago:20280118T100000
DTEND;TZID=America/Chicago:20280118T150000
DTSTAMP:20260423T005756
CREATED:20250613T170348Z
LAST-MODIFIED:20250627T215005Z
UID:10000677-1831802400-1831820400@sekworks.org
SUMMARY:KANSASWORKS Mobile Unit @ Baxter Springs
DESCRIPTION:
URL:https://sekworks.org/event/kansasworks-mobile-unit-baxter-springs/2028-01-18/
LOCATION:Baxter Springs Police Station\, 121 W 11th St\, Baxter Springs\, KS\, 66713\, United States
CATEGORIES:Southeast KansasWorks - Pittsburg
ATTACH;FMTTYPE=image/jpeg:https://sekworks.org/wp-content/uploads/2025/06/processed-FA2AC038-38DE-4D82-B440-24BAE2E7928F-e1751060926343.jpeg
END:VEVENT
BEGIN:VEVENT
DTSTART;TZID=America/Chicago:20280119T100000
DTEND;TZID=America/Chicago:20280119T150000
DTSTAMP:20260423T005756
CREATED:20250613T182508Z
LAST-MODIFIED:20250613T183640Z
UID:10000734-1831888800-1831906800@sekworks.org
SUMMARY:KANSASWORKS Mobile Unit @ Parsons
DESCRIPTION:
URL:https://sekworks.org/event/kansasworks-mobile-unit-parsons/2028-01-19/
LOCATION:King Cash Saver Lot\, 2020 Main St\, Parsons\, KS\, 67357\, United States
CATEGORIES:Southeast KansasWorks - Pittsburg
ATTACH;FMTTYPE=image/jpeg:https://sekworks.org/wp-content/uploads/2025/06/IMG_4701-1024x683-1.jpg
END:VEVENT
BEGIN:VEVENT
DTSTART;TZID=America/Chicago:20280120T100000
DTEND;TZID=America/Chicago:20280120T150000
DTSTAMP:20260423T005756
CREATED:20250811T182342Z
LAST-MODIFIED:20250811T182342Z
UID:10001054-1831975200-1831993200@sekworks.org
SUMMARY:Pop-up Workforce Center @ Paola Free Library
DESCRIPTION:
URL:https://sekworks.org/event/pop-up-workforce-center-paola-free-library/2028-01-20/
LOCATION:Paola Free Library\, 101 E Peoria St\, Paola\, KS\, 66071\, United States
CATEGORIES:Southeast KansasWorks - Main,Southeast KansasWorks - Paola
ATTACH;FMTTYPE=image/png:https://sekworks.org/wp-content/uploads/2025/08/Paola-Pop-Up-Instagram-Post-45.png
END:VEVENT
BEGIN:VEVENT
DTSTART;TZID=America/Chicago:20280120T110000
DTEND;TZID=America/Chicago:20280120T150000
DTSTAMP:20260423T005756
CREATED:20250613T182819Z
LAST-MODIFIED:20250613T183553Z
UID:10000852-1831978800-1831993200@sekworks.org
SUMMARY:KANSASWORKS Mobile Unit @ Iola
DESCRIPTION:
URL:https://sekworks.org/event/kansasworks-mobile-unit-iola/2028-01-20/
LOCATION:VA Clinic\, 1408 East St\, Iola\, KS\, 66749\, United States
CATEGORIES:Southeast KansasWorks - Chanute
ATTACH;FMTTYPE=image/jpeg:https://sekworks.org/wp-content/uploads/2025/06/IMG_4701-1024x683-1.jpg
END:VEVENT
BEGIN:VEVENT
DTSTART;TZID=America/Chicago:20280127T090000
DTEND;TZID=America/Chicago:20280127T120000
DTSTAMP:20260423T005756
CREATED:20250731T185056Z
LAST-MODIFIED:20250731T185056Z
UID:10000988-1832576400-1832587200@sekworks.org
SUMMARY:KANSASWORKS Southeast @ Fort Scott DCF
DESCRIPTION:
URL:https://sekworks.org/event/kansasworks-southeast-fort-scott-dcf/2028-01-27/
LOCATION:Fort Scott Department for Children and Families\, 10 S National Ave\, Fort Scott\, KS\, 66701\, United States
CATEGORIES:Southeast KansasWorks - Main,Southeast KansasWorks - Pittsburg
ATTACH;FMTTYPE=image/png:https://sekworks.org/wp-content/uploads/2025/07/DCF-Office-Hours-PittFt-Scott.png
END:VEVENT
BEGIN:VEVENT
DTSTART;TZID=America/Chicago:20280203T090000
DTEND;TZID=America/Chicago:20280203T120000
DTSTAMP:20260423T005756
CREATED:20250731T184853Z
LAST-MODIFIED:20250731T184853Z
UID:10000929-1833181200-1833192000@sekworks.org
SUMMARY:KANSASWORKS Southeast @ Pittsburg DCF
DESCRIPTION:
URL:https://sekworks.org/event/kansasworks-southeast-pittsburg-dcf/2028-02-03/
LOCATION:Pittsburg Department for Children and Families\, 320 S Broadway St\, Pittsburg\, KS\, 66762\, United States
CATEGORIES:Southeast KansasWorks - Main,Southeast KansasWorks - Pittsburg
ATTACH;FMTTYPE=image/png:https://sekworks.org/wp-content/uploads/2025/07/DCF-Office-Hours-PittFt-Scott.png
END:VEVENT
BEGIN:VEVENT
DTSTART;TZID=America/Chicago:20280215T100000
DTEND;TZID=America/Chicago:20280215T150000
DTSTAMP:20260423T005756
CREATED:20250613T170348Z
LAST-MODIFIED:20250627T215005Z
UID:10000678-1834221600-1834239600@sekworks.org
SUMMARY:KANSASWORKS Mobile Unit @ Baxter Springs
DESCRIPTION:
URL:https://sekworks.org/event/kansasworks-mobile-unit-baxter-springs/2028-02-15/
LOCATION:Baxter Springs Police Station\, 121 W 11th St\, Baxter Springs\, KS\, 66713\, United States
CATEGORIES:Southeast KansasWorks - Pittsburg
ATTACH;FMTTYPE=image/jpeg:https://sekworks.org/wp-content/uploads/2025/06/processed-FA2AC038-38DE-4D82-B440-24BAE2E7928F-e1751060926343.jpeg
END:VEVENT
BEGIN:VEVENT
DTSTART;TZID=America/Chicago:20280216T100000
DTEND;TZID=America/Chicago:20280216T150000
DTSTAMP:20260423T005756
CREATED:20250613T182508Z
LAST-MODIFIED:20250613T183640Z
UID:10000735-1834308000-1834326000@sekworks.org
SUMMARY:KANSASWORKS Mobile Unit @ Parsons
DESCRIPTION:
URL:https://sekworks.org/event/kansasworks-mobile-unit-parsons/2028-02-16/
LOCATION:King Cash Saver Lot\, 2020 Main St\, Parsons\, KS\, 67357\, United States
CATEGORIES:Southeast KansasWorks - Pittsburg
ATTACH;FMTTYPE=image/jpeg:https://sekworks.org/wp-content/uploads/2025/06/IMG_4701-1024x683-1.jpg
END:VEVENT
BEGIN:VEVENT
DTSTART;TZID=America/Chicago:20280217T100000
DTEND;TZID=America/Chicago:20280217T150000
DTSTAMP:20260423T005756
CREATED:20250811T182342Z
LAST-MODIFIED:20250811T182342Z
UID:10001055-1834394400-1834412400@sekworks.org
SUMMARY:Pop-up Workforce Center @ Paola Free Library
DESCRIPTION:
URL:https://sekworks.org/event/pop-up-workforce-center-paola-free-library/2028-02-17/
LOCATION:Paola Free Library\, 101 E Peoria St\, Paola\, KS\, 66071\, United States
CATEGORIES:Southeast KansasWorks - Main,Southeast KansasWorks - Paola
ATTACH;FMTTYPE=image/png:https://sekworks.org/wp-content/uploads/2025/08/Paola-Pop-Up-Instagram-Post-45.png
END:VEVENT
BEGIN:VEVENT
DTSTART;TZID=America/Chicago:20280217T110000
DTEND;TZID=America/Chicago:20280217T150000
DTSTAMP:20260423T005756
CREATED:20250613T182819Z
LAST-MODIFIED:20250613T183553Z
UID:10000853-1834398000-1834412400@sekworks.org
SUMMARY:KANSASWORKS Mobile Unit @ Iola
DESCRIPTION:
URL:https://sekworks.org/event/kansasworks-mobile-unit-iola/2028-02-17/
LOCATION:VA Clinic\, 1408 East St\, Iola\, KS\, 66749\, United States
CATEGORIES:Southeast KansasWorks - Chanute
ATTACH;FMTTYPE=image/jpeg:https://sekworks.org/wp-content/uploads/2025/06/IMG_4701-1024x683-1.jpg
END:VEVENT
BEGIN:VEVENT
DTSTART;TZID=America/Chicago:20280224T090000
DTEND;TZID=America/Chicago:20280224T120000
DTSTAMP:20260423T005756
CREATED:20250731T185056Z
LAST-MODIFIED:20250731T185056Z
UID:10000989-1834995600-1835006400@sekworks.org
SUMMARY:KANSASWORKS Southeast @ Fort Scott DCF
DESCRIPTION:
URL:https://sekworks.org/event/kansasworks-southeast-fort-scott-dcf/2028-02-24/
LOCATION:Fort Scott Department for Children and Families\, 10 S National Ave\, Fort Scott\, KS\, 66701\, United States
CATEGORIES:Southeast KansasWorks - Main,Southeast KansasWorks - Pittsburg
ATTACH;FMTTYPE=image/png:https://sekworks.org/wp-content/uploads/2025/07/DCF-Office-Hours-PittFt-Scott.png
END:VEVENT
BEGIN:VEVENT
DTSTART;TZID=America/Chicago:20280302T090000
DTEND;TZID=America/Chicago:20280302T120000
DTSTAMP:20260423T005756
CREATED:20250731T184853Z
LAST-MODIFIED:20250731T184853Z
UID:10000930-1835600400-1835611200@sekworks.org
SUMMARY:KANSASWORKS Southeast @ Pittsburg DCF
DESCRIPTION:
URL:https://sekworks.org/event/kansasworks-southeast-pittsburg-dcf/2028-03-02/
LOCATION:Pittsburg Department for Children and Families\, 320 S Broadway St\, Pittsburg\, KS\, 66762\, United States
CATEGORIES:Southeast KansasWorks - Main,Southeast KansasWorks - Pittsburg
ATTACH;FMTTYPE=image/png:https://sekworks.org/wp-content/uploads/2025/07/DCF-Office-Hours-PittFt-Scott.png
END:VEVENT
BEGIN:VEVENT
DTSTART;TZID=America/Chicago:20280315T100000
DTEND;TZID=America/Chicago:20280315T150000
DTSTAMP:20260423T005756
CREATED:20250613T182508Z
LAST-MODIFIED:20250613T183640Z
UID:10000736-1836727200-1836745200@sekworks.org
SUMMARY:KANSASWORKS Mobile Unit @ Parsons
DESCRIPTION:
URL:https://sekworks.org/event/kansasworks-mobile-unit-parsons/2028-03-15/
LOCATION:King Cash Saver Lot\, 2020 Main St\, Parsons\, KS\, 67357\, United States
CATEGORIES:Southeast KansasWorks - Pittsburg
ATTACH;FMTTYPE=image/jpeg:https://sekworks.org/wp-content/uploads/2025/06/IMG_4701-1024x683-1.jpg
END:VEVENT
BEGIN:VEVENT
DTSTART;TZID=America/Chicago:20280316T100000
DTEND;TZID=America/Chicago:20280316T150000
DTSTAMP:20260423T005756
CREATED:20250811T182342Z
LAST-MODIFIED:20250811T182342Z
UID:10001056-1836813600-1836831600@sekworks.org
SUMMARY:Pop-up Workforce Center @ Paola Free Library
DESCRIPTION:
URL:https://sekworks.org/event/pop-up-workforce-center-paola-free-library/2028-03-16/
LOCATION:Paola Free Library\, 101 E Peoria St\, Paola\, KS\, 66071\, United States
CATEGORIES:Southeast KansasWorks - Main,Southeast KansasWorks - Paola
ATTACH;FMTTYPE=image/png:https://sekworks.org/wp-content/uploads/2025/08/Paola-Pop-Up-Instagram-Post-45.png
END:VEVENT
BEGIN:VEVENT
DTSTART;TZID=America/Chicago:20280316T110000
DTEND;TZID=America/Chicago:20280316T150000
DTSTAMP:20260423T005756
CREATED:20250613T182819Z
LAST-MODIFIED:20250613T183553Z
UID:10000854-1836817200-1836831600@sekworks.org
SUMMARY:KANSASWORKS Mobile Unit @ Iola
DESCRIPTION:
URL:https://sekworks.org/event/kansasworks-mobile-unit-iola/2028-03-16/
LOCATION:VA Clinic\, 1408 East St\, Iola\, KS\, 66749\, United States
CATEGORIES:Southeast KansasWorks - Chanute
ATTACH;FMTTYPE=image/jpeg:https://sekworks.org/wp-content/uploads/2025/06/IMG_4701-1024x683-1.jpg
END:VEVENT
BEGIN:VEVENT
DTSTART;TZID=America/Chicago:20280321T100000
DTEND;TZID=America/Chicago:20280321T150000
DTSTAMP:20260423T005756
CREATED:20250613T170348Z
LAST-MODIFIED:20250627T215005Z
UID:10000679-1837245600-1837263600@sekworks.org
SUMMARY:KANSASWORKS Mobile Unit @ Baxter Springs
DESCRIPTION:
URL:https://sekworks.org/event/kansasworks-mobile-unit-baxter-springs/2028-03-21/
LOCATION:Baxter Springs Police Station\, 121 W 11th St\, Baxter Springs\, KS\, 66713\, United States
CATEGORIES:Southeast KansasWorks - Pittsburg
ATTACH;FMTTYPE=image/jpeg:https://sekworks.org/wp-content/uploads/2025/06/processed-FA2AC038-38DE-4D82-B440-24BAE2E7928F-e1751060926343.jpeg
END:VEVENT
BEGIN:VEVENT
DTSTART;TZID=America/Chicago:20280330T090000
DTEND;TZID=America/Chicago:20280330T120000
DTSTAMP:20260423T005756
CREATED:20250731T185056Z
LAST-MODIFIED:20250731T185056Z
UID:10000990-1838019600-1838030400@sekworks.org
SUMMARY:KANSASWORKS Southeast @ Fort Scott DCF
DESCRIPTION:
URL:https://sekworks.org/event/kansasworks-southeast-fort-scott-dcf/2028-03-30/
LOCATION:Fort Scott Department for Children and Families\, 10 S National Ave\, Fort Scott\, KS\, 66701\, United States
CATEGORIES:Southeast KansasWorks - Main,Southeast KansasWorks - Pittsburg
ATTACH;FMTTYPE=image/png:https://sekworks.org/wp-content/uploads/2025/07/DCF-Office-Hours-PittFt-Scott.png
END:VEVENT
END:VCALENDAR