BEGIN:VCALENDAR
VERSION:2.0
PRODID:-//Southeast KANSASWORKS, Inc. - ECPv6.15.20//NONSGML v1.0//EN
CALSCALE:GREGORIAN
METHOD:PUBLISH
X-ORIGINAL-URL:https://sekworks.org
X-WR-CALDESC:Events for Southeast KANSASWORKS, Inc.
REFRESH-INTERVAL;VALUE=DURATION:PT1H
X-Robots-Tag:noindex
X-PUBLISHED-TTL:PT1H
BEGIN:VTIMEZONE
TZID:America/Chicago
BEGIN:DAYLIGHT
TZOFFSETFROM:-0600
TZOFFSETTO:-0500
TZNAME:CDT
DTSTART:20230312T080000
END:DAYLIGHT
BEGIN:STANDARD
TZOFFSETFROM:-0500
TZOFFSETTO:-0600
TZNAME:CST
DTSTART:20231105T070000
END:STANDARD
BEGIN:DAYLIGHT
TZOFFSETFROM:-0600
TZOFFSETTO:-0500
TZNAME:CDT
DTSTART:20240310T080000
END:DAYLIGHT
BEGIN:STANDARD
TZOFFSETFROM:-0500
TZOFFSETTO:-0600
TZNAME:CST
DTSTART:20241103T070000
END:STANDARD
BEGIN:DAYLIGHT
TZOFFSETFROM:-0600
TZOFFSETTO:-0500
TZNAME:CDT
DTSTART:20250309T080000
END:DAYLIGHT
BEGIN:STANDARD
TZOFFSETFROM:-0500
TZOFFSETTO:-0600
TZNAME:CST
DTSTART:20251102T070000
END:STANDARD
BEGIN:DAYLIGHT
TZOFFSETFROM:-0600
TZOFFSETTO:-0500
TZNAME:CDT
DTSTART:20260308T080000
END:DAYLIGHT
BEGIN:STANDARD
TZOFFSETFROM:-0500
TZOFFSETTO:-0600
TZNAME:CST
DTSTART:20261101T070000
END:STANDARD
END:VTIMEZONE
BEGIN:VEVENT
DTSTART;TZID=America/Chicago:20250815T100000
DTEND;TZID=America/Chicago:20250815T110000
DTSTAMP:20260422T131450
CREATED:20250813T133058Z
LAST-MODIFIED:20250813T133058Z
UID:10001086-1755252000-1755255600@sekworks.org
SUMMARY:Virtual LWDB non-action Work Session – Merger Plan Question and Answer Session
DESCRIPTION:Microsoft Teams Need help? \nJoin the meeting now \nMeeting ID: 220 170 257 786 \nPasscode: DR9uF2gm \n\n\n\nDial in by phone \n+1 323-618-1509\,\,4968510# United States\, Los Angeles \nFind a local number \nPhone conference ID: 496 851 0# \nFor organizers: Meeting options | Reset dial-in PIN
URL:https://sekworks.org/event/virtual-lwdb-non-action-work-session-merger-plan-question-and-answer-session/
LOCATION:KS
CATEGORIES:Board & Committee Meetings
ATTACH;FMTTYPE=image/png:https://sekworks.org/wp-content/uploads/2025/08/White-Soft-Brown-Professional-Elegant-Marketing-Strategy-Presentation-169-6.png
END:VEVENT
BEGIN:VEVENT
DTSTART;TZID=America/Chicago:20250813T080000
DTEND;TZID=America/Chicago:20250813T170000
DTSTAMP:20260422T131450
CREATED:20250801T175621Z
LAST-MODIFIED:20250801T175621Z
UID:10001023-1755072000-1755104400@sekworks.org
SUMMARY:Virtual Statewide Job Fair
DESCRIPTION:
URL:https://sekworks.org/event/virtual-statewide-job-fair-6/
LOCATION:bit.ly/KS-AUG-2025-JF
CATEGORIES:Southeast KansasWorks - Chanute,Southeast KansasWorks - Emporia,Southeast KansasWorks - Español,Southeast KansasWorks - Independence,Southeast KansasWorks - Main,Southeast KansasWorks - Paola,Southeast KansasWorks - Pittsburg
ATTACH;FMTTYPE=image/png:https://sekworks.org/wp-content/uploads/2025/08/AUGUST-JOB-FAIR-ENG.png
END:VEVENT
BEGIN:VEVENT
DTSTART;TZID=America/Chicago:20250811T150000
DTEND;TZID=America/Chicago:20250811T160000
DTSTAMP:20260422T131450
CREATED:20250808T181819Z
LAST-MODIFIED:20250808T181819Z
UID:10001025-1754924400-1754928000@sekworks.org
SUMMARY:LWDB Executive/Fiscal Committee
DESCRIPTION:Meeting Agenda \nMicrosoft Teams Need help? \nJoin the meeting now \nMeeting ID: 297 473 811 561 \nPasscode: Li3X7Wx6 \nDial in by phone \n+1 323-618-1509\,\,433418929# United States \nInquiries about public meetings\, agendas\, meeting minutes and public documents can be requested by contacting the Administrative Office.
URL:https://sekworks.org/event/lwdb-executive-fiscal-committee/
LOCATION:KS
CATEGORIES:Board & Committee Meetings
ATTACH;FMTTYPE=image/png:https://sekworks.org/wp-content/uploads/2022/07/White-Soft-Brown-Professional-Elegant-Marketing-Strategy-Presentation-169-3.png
END:VEVENT
BEGIN:VEVENT
DTSTART;TZID=America/Chicago:20250807T090000
DTEND;TZID=America/Chicago:20250807T120000
DTSTAMP:20260422T131450
CREATED:20250731T184853Z
LAST-MODIFIED:20250731T184853Z
UID:10000899-1754557200-1754568000@sekworks.org
SUMMARY:KANSASWORKS Southeast @ Pittsburg DCF
DESCRIPTION:
URL:https://sekworks.org/event/kansasworks-southeast-pittsburg-dcf/2025-08-07/
LOCATION:Pittsburg Department for Children and Families\, 320 S Broadway St\, Pittsburg\, KS\, 66762\, United States
CATEGORIES:Southeast KansasWorks - Main,Southeast KansasWorks - Pittsburg
ATTACH;FMTTYPE=image/png:https://sekworks.org/wp-content/uploads/2025/07/DCF-Office-Hours-PittFt-Scott.png
END:VEVENT
BEGIN:VEVENT
DTSTART;TZID=America/Chicago:20250729T090000
DTEND;TZID=America/Chicago:20250729T120000
DTSTAMP:20260422T131450
CREATED:20250718T145732Z
LAST-MODIFIED:20250718T145733Z
UID:10000898-1753779600-1753790400@sekworks.org
SUMMARY:USD #368 Paola Job Fair
DESCRIPTION:Ready to make a difference in your community? Join the USD #368 Team! \nAvailable Positions:  \n\nCustodian Paraprofessional\nFood Service Associate\nSubstitute Teacher\n\nFor questions\, contact: \nJustin Burchett  \n\njustin_burchett@usd368.org\n(913) 294-8009
URL:https://sekworks.org/event/usd-368-paola-job-fair/
LOCATION:Central Services Building\, 1115 E 303rd St\, Paola\, KS\, 66071\, United States
CATEGORIES:Southeast KansasWorks - Main,Southeast KansasWorks - Paola
ATTACH;FMTTYPE=image/png:https://sekworks.org/wp-content/uploads/2025/07/Paola-USD-hiring-event-2.png
END:VEVENT
BEGIN:VEVENT
DTSTART;TZID=America/Chicago:20250725T073000
DTEND;TZID=America/Chicago:20250725T170000
DTSTAMP:20260422T131450
CREATED:20250708T201353Z
LAST-MODIFIED:20250708T201525Z
UID:10000894-1753428600-1753462800@sekworks.org
SUMMARY:Virtual "Hire A Veteran" Job Fair
DESCRIPTION:
URL:https://sekworks.org/event/virtual-hire-a-veteran-job-fair/
LOCATION:KS
CATEGORIES:Southeast KansasWorks - Chanute,Southeast KansasWorks - Emporia,Southeast KansasWorks - Español,Southeast KansasWorks - Independence,Southeast KansasWorks - Paola,Southeast KansasWorks - Pittsburg
ATTACH;FMTTYPE=image/png:https://sekworks.org/wp-content/uploads/2022/07/July-25th-Job-Fair-Social-Media-Graphic.png
END:VEVENT
BEGIN:VEVENT
DTSTART;TZID=America/Chicago:20250723T110000
DTEND;TZID=America/Chicago:20250723T140000
DTSTAMP:20260422T131450
CREATED:20250627T173958Z
LAST-MODIFIED:20250627T191356Z
UID:10000887-1753268400-1753279200@sekworks.org
SUMMARY:"Emporia Strongest!" Job Fair
DESCRIPTION:Employers can register for a recruitment booth at no cost by completing the registration form LINKED HERE.
URL:https://sekworks.org/event/emporia-strongest-job-fair/
LOCATION:Emporia Job Center – Southeast KANSASWORKS\, Inc.\, 215 W. 6th Ave.\, Emporia\, KS\, 66801
CATEGORIES:Southeast KansasWorks - Emporia,Southeast KansasWorks - Main
ATTACH;FMTTYPE=image/png:https://sekworks.org/wp-content/uploads/2025/06/Job-Seeker-English-3.png
GEO:38.4043107;-96.1832775
X-APPLE-STRUCTURED-LOCATION;VALUE=URI;X-ADDRESS=Emporia Job Center – Southeast KANSASWORKS Inc. 215 W. 6th Ave. Emporia KS 66801;X-APPLE-RADIUS=500;X-TITLE=215 W. 6th Ave.:geo:-96.1832775,38.4043107
END:VEVENT
BEGIN:VEVENT
DTSTART;TZID=America/Chicago:20250717T110000
DTEND;TZID=America/Chicago:20250717T150000
DTSTAMP:20260422T131450
CREATED:20250715T132724Z
LAST-MODIFIED:20250715T132725Z
UID:10000822-1752750000-1752764400@sekworks.org
SUMMARY:KANSASWORKS Mobile Unit @ Iola
DESCRIPTION:
URL:https://sekworks.org/event/kansasworks-mobile-unit-iola-2/
LOCATION:VA Clinic\, 1408 East St\, Iola\, KS\, 66749\, United States
CATEGORIES:Southeast KansasWorks - Chanute
ATTACH;FMTTYPE=image/jpeg:https://sekworks.org/wp-content/uploads/2025/06/IMG_4701-1024x683-1.jpg
END:VEVENT
BEGIN:VEVENT
DTSTART;TZID=America/Chicago:20250716T100000
DTEND;TZID=America/Chicago:20250716T150000
DTSTAMP:20260422T131450
CREATED:20250715T133041Z
LAST-MODIFIED:20250715T133042Z
UID:10000704-1752660000-1752678000@sekworks.org
SUMMARY:KANSASWORKS Mobile Unit @ Parsons
DESCRIPTION:
URL:https://sekworks.org/event/kansasworks-mobile-unit-parsons-2/
LOCATION:King Cash Saver Lot\, 2020 Main St\, Parsons\, KS\, 67357\, United States
CATEGORIES:Southeast KansasWorks - Pittsburg
ATTACH;FMTTYPE=image/jpeg:https://sekworks.org/wp-content/uploads/2025/06/IMG_4701-1024x683-1.jpg
END:VEVENT
BEGIN:VEVENT
DTSTART;TZID=America/Chicago:20250716T090000
DTEND;TZID=America/Chicago:20250716T150000
DTSTAMP:20260422T131450
CREATED:20250715T141340Z
LAST-MODIFIED:20250715T141341Z
UID:10000897-1752656400-1752678000@sekworks.org
SUMMARY:O'Brien Ready Mix Hiring Event
DESCRIPTION:Wednesday\, July 16th \nParson’s Public Library –\n9:00 AM – 12:00 PM\n311 S 17th St\, Parsons\, KS \nChanute Public Library –\n1:00 PM – 3:00 PM\n111 N Lincoln Ave\, Chanute\, KS \nFor more information or to schedule an interview\, contact:\nStacie | (417) 665-9602\nJeff | (620) 212-2509
URL:https://sekworks.org/event/obrien-ready-mix-hiring-event/
LOCATION:KS
CATEGORIES:Southeast KansasWorks - Chanute,Southeast KansasWorks - Paola
ATTACH;FMTTYPE=image/jpeg:https://sekworks.org/wp-content/uploads/2025/07/518180091_1174728878032237_941915686543390761_n.jpg
END:VEVENT
BEGIN:VEVENT
DTSTART;TZID=America/Chicago:20250716T080000
DTEND;TZID=America/Chicago:20250716T170000
DTSTAMP:20260422T131450
CREATED:20250708T201045Z
LAST-MODIFIED:20250708T201045Z
UID:10000893-1752652800-1752685200@sekworks.org
SUMMARY:Virtual Statewide Job Fair
DESCRIPTION:
URL:https://sekworks.org/event/virtual-statewide-job-fair-5/
LOCATION:KS
CATEGORIES:Southeast KansasWorks - Chanute,Southeast KansasWorks - Emporia,Southeast KansasWorks - Español,Southeast KansasWorks - Independence,Southeast KansasWorks - Main,Southeast KansasWorks - Paola,Southeast KansasWorks - Pittsburg
ATTACH;FMTTYPE=image/jpeg:https://sekworks.org/wp-content/uploads/2022/07/516637945_1173367888154715_7227403245508190510_n.jpg
END:VEVENT
BEGIN:VEVENT
DTSTART;TZID=America/Chicago:20250715T100000
DTEND;TZID=America/Chicago:20250715T150000
DTSTAMP:20260422T131450
CREATED:20250715T133002Z
LAST-MODIFIED:20250715T133002Z
UID:10000651-1752573600-1752591600@sekworks.org
SUMMARY:KANSASWORKS Mobile Unit @ Baxter Springs
DESCRIPTION:
URL:https://sekworks.org/event/kansasworks-mobile-unit-baxter-springs-2/
LOCATION:Baxter Springs Police Station\, 121 W 11th St\, Baxter Springs\, KS\, 66713\, United States
CATEGORIES:Southeast KansasWorks - Pittsburg
ATTACH;FMTTYPE=image/jpeg:https://sekworks.org/wp-content/uploads/2025/06/processed-FA2AC038-38DE-4D82-B440-24BAE2E7928F-e1751060926343.jpeg
END:VEVENT
BEGIN:VEVENT
DTSTART;TZID=America/Chicago:20250714T150000
DTEND;TZID=America/Chicago:20250714T160000
DTSTAMP:20260422T131450
CREATED:20250707T145125Z
LAST-MODIFIED:20250707T145249Z
UID:10000892-1752505200-1752508800@sekworks.org
SUMMARY:CEOB Meeting
DESCRIPTION:AGENDA PACKET \nInquiries about public meetings\, agendas\, meeting minutes and public documents can be requested by contacting the Administrative Office.
URL:https://sekworks.org/event/ceob-meeting-8/
LOCATION:Chanute Workforce Center\, 4101 S Ross Ln\, Chanute66720\, KS\, 66720\, United States
CATEGORIES:Board & Committee Meetings,Southeast KansasWorks - Main
ATTACH;FMTTYPE=image/png:https://sekworks.org/wp-content/uploads/2022/07/White-Soft-Brown-Professional-Elegant-Marketing-Strategy-Presentation-169.png
END:VEVENT
BEGIN:VEVENT
DTSTART;TZID=America/Chicago:20250709T170000
DTEND;TZID=America/Chicago:20250709T180000
DTSTAMP:20260422T131450
CREATED:20250630T195602Z
LAST-MODIFIED:20250630T195602Z
UID:10000890-1752080400-1752084000@sekworks.org
SUMMARY:Career Curiosities @ Flint Hills Technical College
DESCRIPTION:CLICK HERE TO REGISTER
URL:https://sekworks.org/event/career-curiosities-flint-hills-technical-college/2025-07-09/2/
LOCATION:Flint Hills Technical College\, 3301 W 18th Ave\, Emporia\, KS\, 66801\, United States
CATEGORIES:Southeast KansasWorks - Emporia,Southeast KansasWorks - Main
ATTACH;FMTTYPE=image/png:https://sekworks.org/wp-content/uploads/2025/06/FHTC-.png
END:VEVENT
BEGIN:VEVENT
DTSTART;TZID=America/Chicago:20250709T110000
DTEND;TZID=America/Chicago:20250709T120000
DTSTAMP:20260422T131450
CREATED:20250630T195602Z
LAST-MODIFIED:20250630T195602Z
UID:10000889-1752058800-1752062400@sekworks.org
SUMMARY:Career Curiosities @ Flint Hills Technical College
DESCRIPTION:CLICK HERE TO REGISTER
URL:https://sekworks.org/event/career-curiosities-flint-hills-technical-college/2025-07-09/1/
LOCATION:Flint Hills Technical College\, 3301 W 18th Ave\, Emporia\, KS\, 66801\, United States
CATEGORIES:Southeast KansasWorks - Emporia,Southeast KansasWorks - Main
ATTACH;FMTTYPE=image/png:https://sekworks.org/wp-content/uploads/2025/06/FHTC-.png
END:VEVENT
BEGIN:VEVENT
DTSTART;TZID=America/Chicago:20250708T100000
DTEND;TZID=America/Chicago:20250708T150000
DTSTAMP:20260422T131450
CREATED:20250623T190537Z
LAST-MODIFIED:20250623T190537Z
UID:10000885-1751968800-1751986800@sekworks.org
SUMMARY:Americare Senior Living Hiring Event
DESCRIPTION:
URL:https://sekworks.org/event/americare-senior-living-hiring-event/
LOCATION:Emporia Job Center – Southeast KANSASWORKS\, Inc.\, 215 W. 6th Ave.\, Emporia\, KS\, 66801
CATEGORIES:Southeast KansasWorks - Emporia,Southeast KansasWorks - Main
ATTACH;FMTTYPE=image/jpeg:https://sekworks.org/wp-content/uploads/2025/06/YOU-ARE-INVITED-HIRING-EVENT_page-0001.jpg
GEO:38.4043107;-96.1832775
X-APPLE-STRUCTURED-LOCATION;VALUE=URI;X-ADDRESS=Emporia Job Center – Southeast KANSASWORKS Inc. 215 W. 6th Ave. Emporia KS 66801;X-APPLE-RADIUS=500;X-TITLE=215 W. 6th Ave.:geo:-96.1832775,38.4043107
END:VEVENT
BEGIN:VEVENT
DTSTART;TZID=America/Chicago:20250707T150000
DTEND;TZID=America/Chicago:20250707T160000
DTSTAMP:20260422T131450
CREATED:20250702T150452Z
LAST-MODIFIED:20250707T145351Z
UID:10000891-1751900400-1751904000@sekworks.org
SUMMARY:LWDB Executive/Fiscal Committee
DESCRIPTION:Agenda | Issued RCL | Issued Fiscal Statements \nMicrosoft Teams Need help? \nJoin the meeting now \nMeeting ID: 297 473 811 561 \nPasscode: Li3X7Wx6 \nDial in by phone \n+1 323-618-1509\,\,433418929# United States\, Los Angeles \nLocation:  4101 S Ross Lane\, Chanute\, KS 66720   \nGoogle maps: https://g.co/kgs/mq7HJP9 \nInquiries about public meetings\, agendas\, meeting minutes and public documents can be requested by contacting the Administrative Office.
URL:https://sekworks.org/event/ceob-meeting-7/
LOCATION:Chanute Workforce Center\, 4101 S Ross Ln\, Chanute66720\, KS\, 66720\, United States
CATEGORIES:Board & Committee Meetings
ATTACH;FMTTYPE=image/png:https://sekworks.org/wp-content/uploads/2022/07/White-Soft-Brown-Professional-Elegant-Marketing-Strategy-Presentation-169-3.png
END:VEVENT
BEGIN:VEVENT
DTSTART;VALUE=DATE:20250704
DTEND;VALUE=DATE:20250705
DTSTAMP:20260422T131450
CREATED:20250623T185739Z
LAST-MODIFIED:20250623T190938Z
UID:10000882-1751587200-1751673599@sekworks.org
SUMMARY:Closed for Independence Day
DESCRIPTION:
URL:https://sekworks.org/event/closed-for-independence-day/
LOCATION:KS
CATEGORIES:Southeast KansasWorks - Chanute,Southeast KansasWorks - Emporia,Southeast KansasWorks - Independence,Southeast KansasWorks - Main,Southeast KansasWorks - Paola,Southeast KansasWorks - Pittsburg
ATTACH;FMTTYPE=image/png:https://sekworks.org/wp-content/uploads/2025/06/Heading-18.png
END:VEVENT
BEGIN:VEVENT
DTSTART;TZID=America/Chicago:20250625T080000
DTEND;TZID=America/Chicago:20250625T170000
DTSTAMP:20260422T131450
CREATED:20250623T205813Z
LAST-MODIFIED:20250623T205813Z
UID:10000886-1750838400-1750870800@sekworks.org
SUMMARY:Virtual Statewide Job Fair
DESCRIPTION:
URL:https://sekworks.org/event/virtual-statewide-job-fair-4/
LOCATION:KS
CATEGORIES:Southeast KansasWorks - Chanute,Southeast KansasWorks - Emporia,Southeast KansasWorks - Independence,Southeast KansasWorks - Main,Southeast KansasWorks - Paola,Southeast KansasWorks - Pittsburg
ATTACH;FMTTYPE=image/jpeg:https://sekworks.org/wp-content/uploads/2025/06/510448368_1162129425945228_802294835127426945_n.jpg
END:VEVENT
BEGIN:VEVENT
DTSTART;TZID=America/Chicago:20250624T160000
DTEND;TZID=America/Chicago:20250624T180000
DTSTAMP:20260422T131450
CREATED:20250623T190252Z
LAST-MODIFIED:20250623T190252Z
UID:10000884-1750780800-1750788000@sekworks.org
SUMMARY:Fort Scott Area Chamber of Commerce Job Fair
DESCRIPTION:
URL:https://sekworks.org/event/fort-scott-area-chamber-of-commerce-job-fair/2025-06-24/2/
LOCATION:Ellis Fine Arts Center\, 2108 S Horton St\, Fort Scott\, KS\, 66701\, United States
CATEGORIES:Southeast KansasWorks - Main,Southeast KansasWorks - Pittsburg
ATTACH;FMTTYPE=image/jpeg:https://sekworks.org/wp-content/uploads/2025/06/500833643_1278913774242844_4968508409646990461_n.jpg
END:VEVENT
BEGIN:VEVENT
DTSTART;TZID=America/Chicago:20250624T110000
DTEND;TZID=America/Chicago:20250624T140000
DTSTAMP:20260422T131450
CREATED:20250623T190252Z
LAST-MODIFIED:20250623T190252Z
UID:10000883-1750762800-1750773600@sekworks.org
SUMMARY:Fort Scott Area Chamber of Commerce Job Fair
DESCRIPTION:
URL:https://sekworks.org/event/fort-scott-area-chamber-of-commerce-job-fair/2025-06-24/1/
LOCATION:Ellis Fine Arts Center\, 2108 S Horton St\, Fort Scott\, KS\, 66701\, United States
CATEGORIES:Southeast KansasWorks - Main,Southeast KansasWorks - Pittsburg
ATTACH;FMTTYPE=image/jpeg:https://sekworks.org/wp-content/uploads/2025/06/500833643_1278913774242844_4968508409646990461_n.jpg
END:VEVENT
BEGIN:VEVENT
DTSTART;VALUE=DATE:20250619
DTEND;VALUE=DATE:20250620
DTSTAMP:20260422T131450
CREATED:20250613T185931Z
LAST-MODIFIED:20250613T185954Z
UID:10000881-1750291200-1750377599@sekworks.org
SUMMARY:Closed for Juneteenth
DESCRIPTION:
URL:https://sekworks.org/event/closed-for-juneteenth/
LOCATION:KS
CATEGORIES:Southeast KansasWorks - Chanute,Southeast KansasWorks - Emporia,Southeast KansasWorks - Independence,Southeast KansasWorks - Main,Southeast KansasWorks - Paola,Southeast KansasWorks - Pittsburg
ATTACH;FMTTYPE=image/png:https://sekworks.org/wp-content/uploads/2025/06/Heading-18.png
END:VEVENT
BEGIN:VEVENT
DTSTART;TZID=America/Chicago:20250618T100000
DTEND;TZID=America/Chicago:20250618T150000
DTSTAMP:20260422T131450
CREATED:20250613T182508Z
LAST-MODIFIED:20250613T183640Z
UID:10000703-1750240800-1750258800@sekworks.org
SUMMARY:KANSASWORKS Mobile Unit @ Parsons
DESCRIPTION:
URL:https://sekworks.org/event/kansasworks-mobile-unit-parsons/2025-06-18/
LOCATION:King Cash Saver Lot\, 2020 Main St\, Parsons\, KS\, 67357\, United States
CATEGORIES:Southeast KansasWorks - Pittsburg
ATTACH;FMTTYPE=image/jpeg:https://sekworks.org/wp-content/uploads/2025/06/IMG_4701-1024x683-1.jpg
END:VEVENT
BEGIN:VEVENT
DTSTART;TZID=America/Chicago:20250617T100000
DTEND;TZID=America/Chicago:20250617T150000
DTSTAMP:20260422T131450
CREATED:20250613T170348Z
LAST-MODIFIED:20250627T215005Z
UID:10000539-1750154400-1750172400@sekworks.org
SUMMARY:KANSASWORKS Mobile Unit @ Baxter Springs
DESCRIPTION:
URL:https://sekworks.org/event/kansasworks-mobile-unit-baxter-springs/2025-06-17/
LOCATION:Baxter Springs Police Station\, 121 W 11th St\, Baxter Springs\, KS\, 66713\, United States
CATEGORIES:Southeast KansasWorks - Pittsburg
ATTACH;FMTTYPE=image/jpeg:https://sekworks.org/wp-content/uploads/2025/06/processed-FA2AC038-38DE-4D82-B440-24BAE2E7928F-e1751060926343.jpeg
END:VEVENT
BEGIN:VEVENT
DTSTART;TZID=America/Chicago:20250609T150000
DTEND;TZID=America/Chicago:20250609T160000
DTSTAMP:20260422T131450
CREATED:20250529T212405Z
LAST-MODIFIED:20250609T142814Z
UID:10000520-1749481200-1749484800@sekworks.org
SUMMARY:LWDB Executive Committee Meeting
DESCRIPTION:Inquiries about public meetings\, agendas\, meeting minutes and public documents can be requested by contacting the Administrative Office. \nLWDB/Fiscal Committee Agenda Packet | ICC Lease Agreement  \nMicrosoft Teams Need help? \nJoin the meeting now \nMeeting ID: 297 473 811 561 \nPasscode: Li3X7Wx6 \nDial in by phone \n+1 323-618-1509\,\,433418929# United States\, Los Angeles
URL:https://sekworks.org/event/lwdb-executive-committee-meeting/
LOCATION:Emporia Job Center – Southeast KANSASWORKS\, Inc.\, 215 W. 6th Ave.\, Emporia\, KS\, 66801
CATEGORIES:Board & Committee Meetings
GEO:38.4043107;-96.1832775
X-APPLE-STRUCTURED-LOCATION;VALUE=URI;X-ADDRESS=Emporia Job Center – Southeast KANSASWORKS Inc. 215 W. 6th Ave. Emporia KS 66801;X-APPLE-RADIUS=500;X-TITLE=215 W. 6th Ave.:geo:-96.1832775,38.4043107
END:VEVENT
BEGIN:VEVENT
DTSTART;TZID=America/Chicago:20250529T093000
DTEND;TZID=America/Chicago:20250529T103000
DTSTAMP:20260422T131450
CREATED:20250527T134911Z
LAST-MODIFIED:20250527T193904Z
UID:10000519-1748511000-1748514600@sekworks.org
SUMMARY:CEOB Meeting
DESCRIPTION:Inquiries about public meetings\, agendas\, meeting minutes and public documents can be requested by contacting the Administrative Office. \nCEOB Agenda Packet \nJoin us in-person at the Chanute Workforce Center (Mitchell Career & Technical Center – NCCC 4101 S Ross Lane\, Chanute\, Kansas 66720) or online at: \nMicrosoft Teams Need help? \nJoin the meeting now \nMeeting ID: 282 086 047 820 4 \nPasscode: Ba6WQ6mW \nDial in by phone \n+1 323-618-1509\,\,187297418# United States\, Los Angeles \nFind a local number \nPhone conference ID: 187 297 418#
URL:https://sekworks.org/event/ceob-meeting-3/
LOCATION:Chanute Workforce Center\, 4101 S Ross Ln\, Chanute66720\, KS\, 66720\, United States
CATEGORIES:Board & Committee Meetings
END:VEVENT
BEGIN:VEVENT
DTSTART;TZID=America/Chicago:20250515T133000
DTEND;TZID=America/Chicago:20250515T150000
DTSTAMP:20260422T131450
CREATED:20250514T135929Z
LAST-MODIFIED:20250514T140033Z
UID:10000518-1747315800-1747321200@sekworks.org
SUMMARY:LWDB Meeting
DESCRIPTION:Inquiries about public meetings\, agendas\, meeting minutes and public documents can be requested by contacting the Administrative Office. \nAgenda Packet | Budget Reports \nLink to the draft Local Area plan which is open to public comment: https://sekworks.org/aboutus/localplan/ \nMicrosoft Teams Need help? \nJoin the meeting now \nMeeting ID: 292 472 238 159 \nPasscode: Np96nz2D
URL:https://sekworks.org/event/lwdb-meeting-3/
LOCATION:Emporia Job Center – Southeast KANSASWORKS\, Inc.\, 215 W. 6th Ave.\, Emporia\, KS\, 66801
CATEGORIES:Board & Committee Meetings
GEO:38.4043107;-96.1832775
X-APPLE-STRUCTURED-LOCATION;VALUE=URI;X-ADDRESS=Emporia Job Center – Southeast KANSASWORKS Inc. 215 W. 6th Ave. Emporia KS 66801;X-APPLE-RADIUS=500;X-TITLE=215 W. 6th Ave.:geo:-96.1832775,38.4043107
END:VEVENT
BEGIN:VEVENT
DTSTART;TZID=America/Chicago:20250505T150000
DTEND;TZID=America/Chicago:20250505T160000
DTSTAMP:20260422T131450
CREATED:20250505T134722Z
LAST-MODIFIED:20250505T134722Z
UID:10000517-1746457200-1746460800@sekworks.org
SUMMARY:Executive/Fiscal Committee
DESCRIPTION:Inquiries about public meetings\, agendas\, meeting minutes and public documents can be requested by contacting the Administrative Office. \nAgenda Packet  |  2025-29 Southeast KANSASWORKS LAV Local Plan DRAFT \nMeeting Location:\nMicrosoft Teams\nJoin the meeting now \nMeeting ID: 297 473 811 561\nPasscode: Li3X7Wx6\nDial in by phone\n+1 323-618-1509\,\,433418929#
URL:https://sekworks.org/event/executive-fiscal-committee/
LOCATION:KS
CATEGORIES:Board & Committee Meetings
END:VEVENT
BEGIN:VEVENT
DTSTART;TZID=America/Chicago:20241121T133000
DTEND;TZID=America/Chicago:20241121T150000
DTSTAMP:20260422T131450
CREATED:20230210T173752Z
LAST-MODIFIED:20241108T144255Z
UID:10000455-1732195800-1732201200@sekworks.org
SUMMARY:LWDB Meeting
DESCRIPTION:  \n\n\n\nThe Local Workforce Development Board will be meeting on the following dates this year:\n\n\nFebruary 15\, 2024 – Chanute\, KS\nMay 16\, 2024 – Emporia\, KS\nAugust 15\, 2024 – Location TBD\nNovember 21\, 2024 – Pittsburg\, KS\n\n\nInquiries about public meetings\, agendas\, meeting minutes and public documents can be requested by contacting the Administrative Office.
URL:https://sekworks.org/event/lwdb-meeting-2/2024-11-21/
LOCATION:KS
END:VEVENT
BEGIN:VEVENT
DTSTART;TZID=America/Chicago:20241121T120000
DTEND;TZID=America/Chicago:20241121T130000
DTSTAMP:20260422T131450
CREATED:20230210T173946Z
LAST-MODIFIED:20241108T144505Z
UID:10000459-1732190400-1732194000@sekworks.org
SUMMARY:CEOB Meeting
DESCRIPTION:The Chief Elected Officials Board Meeting will be held on the following dates this year:\n\n\nFebruary 15\, 2024 – Chanute\, KS\nMay 16\, 2024 – Emporia\, KS\nAugust 15\, 2024 – Location TBD\nNovember 21\, 2024 – Pittsburg\, KS\n\n\nInquiries about public meetings\, agendas\, meeting minutes and public documents can be requested by contacting the Administrative Office.
URL:https://sekworks.org/event/ceob-meeting-2/2024-11-21/
LOCATION:KS
END:VEVENT
END:VCALENDAR