BEGIN:VCALENDAR
VERSION:2.0
PRODID:-//Southeast KANSASWORKS, Inc. - ECPv6.15.20//NONSGML v1.0//EN
CALSCALE:GREGORIAN
METHOD:PUBLISH
X-WR-CALNAME:Southeast KANSASWORKS, Inc.
X-ORIGINAL-URL:https://sekworks.org
X-WR-CALDESC:Events for Southeast KANSASWORKS, Inc.
REFRESH-INTERVAL;VALUE=DURATION:PT1H
X-Robots-Tag:noindex
X-PUBLISHED-TTL:PT1H
BEGIN:VTIMEZONE
TZID:America/Chicago
BEGIN:DAYLIGHT
TZOFFSETFROM:-0600
TZOFFSETTO:-0500
TZNAME:CDT
DTSTART:20260308T080000
END:DAYLIGHT
BEGIN:STANDARD
TZOFFSETFROM:-0500
TZOFFSETTO:-0600
TZNAME:CST
DTSTART:20261101T070000
END:STANDARD
BEGIN:DAYLIGHT
TZOFFSETFROM:-0600
TZOFFSETTO:-0500
TZNAME:CDT
DTSTART:20270314T080000
END:DAYLIGHT
BEGIN:STANDARD
TZOFFSETFROM:-0500
TZOFFSETTO:-0600
TZNAME:CST
DTSTART:20271107T070000
END:STANDARD
BEGIN:DAYLIGHT
TZOFFSETFROM:-0600
TZOFFSETTO:-0500
TZNAME:CDT
DTSTART:20280312T080000
END:DAYLIGHT
BEGIN:STANDARD
TZOFFSETFROM:-0500
TZOFFSETTO:-0600
TZNAME:CST
DTSTART:20281105T070000
END:STANDARD
END:VTIMEZONE
BEGIN:VEVENT
DTSTART;TZID=America/Chicago:20270218T110000
DTEND;TZID=America/Chicago:20270218T150000
DTSTAMP:20260422T070352
CREATED:20250613T182819Z
LAST-MODIFIED:20250613T183553Z
UID:10000841-1802948400-1802962800@sekworks.org
SUMMARY:KANSASWORKS Mobile Unit @ Iola
DESCRIPTION:
URL:https://sekworks.org/event/kansasworks-mobile-unit-iola/2027-02-18/
LOCATION:VA Clinic\, 1408 East St\, Iola\, KS\, 66749\, United States
CATEGORIES:Southeast KansasWorks - Chanute
ATTACH;FMTTYPE=image/jpeg:https://sekworks.org/wp-content/uploads/2025/06/IMG_4701-1024x683-1.jpg
END:VEVENT
BEGIN:VEVENT
DTSTART;TZID=America/Chicago:20270225T090000
DTEND;TZID=America/Chicago:20270225T120000
DTSTAMP:20260422T070352
CREATED:20250731T185056Z
LAST-MODIFIED:20250731T185056Z
UID:10000977-1803546000-1803556800@sekworks.org
SUMMARY:KANSASWORKS Southeast @ Fort Scott DCF
DESCRIPTION:
URL:https://sekworks.org/event/kansasworks-southeast-fort-scott-dcf/2027-02-25/
LOCATION:Fort Scott Department for Children and Families\, 10 S National Ave\, Fort Scott\, KS\, 66701\, United States
CATEGORIES:Southeast KansasWorks - Main,Southeast KansasWorks - Pittsburg
ATTACH;FMTTYPE=image/png:https://sekworks.org/wp-content/uploads/2025/07/DCF-Office-Hours-PittFt-Scott.png
END:VEVENT
BEGIN:VEVENT
DTSTART;TZID=America/Chicago:20270304T090000
DTEND;TZID=America/Chicago:20270304T120000
DTSTAMP:20260422T070352
CREATED:20250731T184853Z
LAST-MODIFIED:20250731T184853Z
UID:10000918-1804150800-1804161600@sekworks.org
SUMMARY:KANSASWORKS Southeast @ Pittsburg DCF
DESCRIPTION:
URL:https://sekworks.org/event/kansasworks-southeast-pittsburg-dcf/2027-03-04/
LOCATION:Pittsburg Department for Children and Families\, 320 S Broadway St\, Pittsburg\, KS\, 66762\, United States
CATEGORIES:Southeast KansasWorks - Main,Southeast KansasWorks - Pittsburg
ATTACH;FMTTYPE=image/png:https://sekworks.org/wp-content/uploads/2025/07/DCF-Office-Hours-PittFt-Scott.png
END:VEVENT
BEGIN:VEVENT
DTSTART;TZID=America/Chicago:20270316T100000
DTEND;TZID=America/Chicago:20270316T150000
DTSTAMP:20260422T070352
CREATED:20250613T170348Z
LAST-MODIFIED:20250627T215005Z
UID:10000668-1805191200-1805209200@sekworks.org
SUMMARY:KANSASWORKS Mobile Unit @ Baxter Springs
DESCRIPTION:
URL:https://sekworks.org/event/kansasworks-mobile-unit-baxter-springs/2027-03-16/
LOCATION:Baxter Springs Police Station\, 121 W 11th St\, Baxter Springs\, KS\, 66713\, United States
CATEGORIES:Southeast KansasWorks - Pittsburg
ATTACH;FMTTYPE=image/jpeg:https://sekworks.org/wp-content/uploads/2025/06/processed-FA2AC038-38DE-4D82-B440-24BAE2E7928F-e1751060926343.jpeg
END:VEVENT
BEGIN:VEVENT
DTSTART;TZID=America/Chicago:20270317T100000
DTEND;TZID=America/Chicago:20270317T150000
DTSTAMP:20260422T070352
CREATED:20250613T182508Z
LAST-MODIFIED:20250613T183640Z
UID:10000724-1805277600-1805295600@sekworks.org
SUMMARY:KANSASWORKS Mobile Unit @ Parsons
DESCRIPTION:
URL:https://sekworks.org/event/kansasworks-mobile-unit-parsons/2027-03-17/
LOCATION:King Cash Saver Lot\, 2020 Main St\, Parsons\, KS\, 67357\, United States
CATEGORIES:Southeast KansasWorks - Pittsburg
ATTACH;FMTTYPE=image/jpeg:https://sekworks.org/wp-content/uploads/2025/06/IMG_4701-1024x683-1.jpg
END:VEVENT
BEGIN:VEVENT
DTSTART;TZID=America/Chicago:20270318T100000
DTEND;TZID=America/Chicago:20270318T150000
DTSTAMP:20260422T070352
CREATED:20250811T182342Z
LAST-MODIFIED:20250811T182342Z
UID:10001044-1805364000-1805382000@sekworks.org
SUMMARY:Pop-up Workforce Center @ Paola Free Library
DESCRIPTION:
URL:https://sekworks.org/event/pop-up-workforce-center-paola-free-library/2027-03-18/
LOCATION:Paola Free Library\, 101 E Peoria St\, Paola\, KS\, 66071\, United States
CATEGORIES:Southeast KansasWorks - Main,Southeast KansasWorks - Paola
ATTACH;FMTTYPE=image/png:https://sekworks.org/wp-content/uploads/2025/08/Paola-Pop-Up-Instagram-Post-45.png
END:VEVENT
BEGIN:VEVENT
DTSTART;TZID=America/Chicago:20270318T110000
DTEND;TZID=America/Chicago:20270318T150000
DTSTAMP:20260422T070352
CREATED:20250613T182819Z
LAST-MODIFIED:20250613T183553Z
UID:10000842-1805367600-1805382000@sekworks.org
SUMMARY:KANSASWORKS Mobile Unit @ Iola
DESCRIPTION:
URL:https://sekworks.org/event/kansasworks-mobile-unit-iola/2027-03-18/
LOCATION:VA Clinic\, 1408 East St\, Iola\, KS\, 66749\, United States
CATEGORIES:Southeast KansasWorks - Chanute
ATTACH;FMTTYPE=image/jpeg:https://sekworks.org/wp-content/uploads/2025/06/IMG_4701-1024x683-1.jpg
END:VEVENT
BEGIN:VEVENT
DTSTART;TZID=America/Chicago:20270325T090000
DTEND;TZID=America/Chicago:20270325T120000
DTSTAMP:20260422T070352
CREATED:20250731T185056Z
LAST-MODIFIED:20250731T185056Z
UID:10000978-1805965200-1805976000@sekworks.org
SUMMARY:KANSASWORKS Southeast @ Fort Scott DCF
DESCRIPTION:
URL:https://sekworks.org/event/kansasworks-southeast-fort-scott-dcf/2027-03-25/
LOCATION:Fort Scott Department for Children and Families\, 10 S National Ave\, Fort Scott\, KS\, 66701\, United States
CATEGORIES:Southeast KansasWorks - Main,Southeast KansasWorks - Pittsburg
ATTACH;FMTTYPE=image/png:https://sekworks.org/wp-content/uploads/2025/07/DCF-Office-Hours-PittFt-Scott.png
END:VEVENT
BEGIN:VEVENT
DTSTART;TZID=America/Chicago:20270401T090000
DTEND;TZID=America/Chicago:20270401T120000
DTSTAMP:20260422T070352
CREATED:20250731T184853Z
LAST-MODIFIED:20250731T184853Z
UID:10000919-1806570000-1806580800@sekworks.org
SUMMARY:KANSASWORKS Southeast @ Pittsburg DCF
DESCRIPTION:
URL:https://sekworks.org/event/kansasworks-southeast-pittsburg-dcf/2027-04-01/
LOCATION:Pittsburg Department for Children and Families\, 320 S Broadway St\, Pittsburg\, KS\, 66762\, United States
CATEGORIES:Southeast KansasWorks - Main,Southeast KansasWorks - Pittsburg
ATTACH;FMTTYPE=image/png:https://sekworks.org/wp-content/uploads/2025/07/DCF-Office-Hours-PittFt-Scott.png
END:VEVENT
BEGIN:VEVENT
DTSTART;TZID=America/Chicago:20270415T100000
DTEND;TZID=America/Chicago:20270415T150000
DTSTAMP:20260422T070352
CREATED:20250811T182342Z
LAST-MODIFIED:20250811T182342Z
UID:10001045-1807783200-1807801200@sekworks.org
SUMMARY:Pop-up Workforce Center @ Paola Free Library
DESCRIPTION:
URL:https://sekworks.org/event/pop-up-workforce-center-paola-free-library/2027-04-15/
LOCATION:Paola Free Library\, 101 E Peoria St\, Paola\, KS\, 66071\, United States
CATEGORIES:Southeast KansasWorks - Main,Southeast KansasWorks - Paola
ATTACH;FMTTYPE=image/png:https://sekworks.org/wp-content/uploads/2025/08/Paola-Pop-Up-Instagram-Post-45.png
END:VEVENT
BEGIN:VEVENT
DTSTART;TZID=America/Chicago:20270415T110000
DTEND;TZID=America/Chicago:20270415T150000
DTSTAMP:20260422T070352
CREATED:20250613T182819Z
LAST-MODIFIED:20250613T183553Z
UID:10000843-1807786800-1807801200@sekworks.org
SUMMARY:KANSASWORKS Mobile Unit @ Iola
DESCRIPTION:
URL:https://sekworks.org/event/kansasworks-mobile-unit-iola/2027-04-15/
LOCATION:VA Clinic\, 1408 East St\, Iola\, KS\, 66749\, United States
CATEGORIES:Southeast KansasWorks - Chanute
ATTACH;FMTTYPE=image/jpeg:https://sekworks.org/wp-content/uploads/2025/06/IMG_4701-1024x683-1.jpg
END:VEVENT
BEGIN:VEVENT
DTSTART;TZID=America/Chicago:20270420T100000
DTEND;TZID=America/Chicago:20270420T150000
DTSTAMP:20260422T070352
CREATED:20250613T170348Z
LAST-MODIFIED:20250627T215005Z
UID:10000669-1808215200-1808233200@sekworks.org
SUMMARY:KANSASWORKS Mobile Unit @ Baxter Springs
DESCRIPTION:
URL:https://sekworks.org/event/kansasworks-mobile-unit-baxter-springs/2027-04-20/
LOCATION:Baxter Springs Police Station\, 121 W 11th St\, Baxter Springs\, KS\, 66713\, United States
CATEGORIES:Southeast KansasWorks - Pittsburg
ATTACH;FMTTYPE=image/jpeg:https://sekworks.org/wp-content/uploads/2025/06/processed-FA2AC038-38DE-4D82-B440-24BAE2E7928F-e1751060926343.jpeg
END:VEVENT
BEGIN:VEVENT
DTSTART;TZID=America/Chicago:20270421T100000
DTEND;TZID=America/Chicago:20270421T150000
DTSTAMP:20260422T070352
CREATED:20250613T182508Z
LAST-MODIFIED:20250613T183640Z
UID:10000725-1808301600-1808319600@sekworks.org
SUMMARY:KANSASWORKS Mobile Unit @ Parsons
DESCRIPTION:
URL:https://sekworks.org/event/kansasworks-mobile-unit-parsons/2027-04-21/
LOCATION:King Cash Saver Lot\, 2020 Main St\, Parsons\, KS\, 67357\, United States
CATEGORIES:Southeast KansasWorks - Pittsburg
ATTACH;FMTTYPE=image/jpeg:https://sekworks.org/wp-content/uploads/2025/06/IMG_4701-1024x683-1.jpg
END:VEVENT
BEGIN:VEVENT
DTSTART;TZID=America/Chicago:20270429T090000
DTEND;TZID=America/Chicago:20270429T120000
DTSTAMP:20260422T070352
CREATED:20250731T185056Z
LAST-MODIFIED:20250731T185056Z
UID:10000979-1808989200-1809000000@sekworks.org
SUMMARY:KANSASWORKS Southeast @ Fort Scott DCF
DESCRIPTION:
URL:https://sekworks.org/event/kansasworks-southeast-fort-scott-dcf/2027-04-29/
LOCATION:Fort Scott Department for Children and Families\, 10 S National Ave\, Fort Scott\, KS\, 66701\, United States
CATEGORIES:Southeast KansasWorks - Main,Southeast KansasWorks - Pittsburg
ATTACH;FMTTYPE=image/png:https://sekworks.org/wp-content/uploads/2025/07/DCF-Office-Hours-PittFt-Scott.png
END:VEVENT
BEGIN:VEVENT
DTSTART;TZID=America/Chicago:20270506T090000
DTEND;TZID=America/Chicago:20270506T120000
DTSTAMP:20260422T070352
CREATED:20250731T184853Z
LAST-MODIFIED:20250731T184853Z
UID:10000920-1809594000-1809604800@sekworks.org
SUMMARY:KANSASWORKS Southeast @ Pittsburg DCF
DESCRIPTION:
URL:https://sekworks.org/event/kansasworks-southeast-pittsburg-dcf/2027-05-06/
LOCATION:Pittsburg Department for Children and Families\, 320 S Broadway St\, Pittsburg\, KS\, 66762\, United States
CATEGORIES:Southeast KansasWorks - Main,Southeast KansasWorks - Pittsburg
ATTACH;FMTTYPE=image/png:https://sekworks.org/wp-content/uploads/2025/07/DCF-Office-Hours-PittFt-Scott.png
END:VEVENT
BEGIN:VEVENT
DTSTART;TZID=America/Chicago:20270518T100000
DTEND;TZID=America/Chicago:20270518T150000
DTSTAMP:20260422T070352
CREATED:20250613T170348Z
LAST-MODIFIED:20250627T215005Z
UID:10000670-1810634400-1810652400@sekworks.org
SUMMARY:KANSASWORKS Mobile Unit @ Baxter Springs
DESCRIPTION:
URL:https://sekworks.org/event/kansasworks-mobile-unit-baxter-springs/2027-05-18/
LOCATION:Baxter Springs Police Station\, 121 W 11th St\, Baxter Springs\, KS\, 66713\, United States
CATEGORIES:Southeast KansasWorks - Pittsburg
ATTACH;FMTTYPE=image/jpeg:https://sekworks.org/wp-content/uploads/2025/06/processed-FA2AC038-38DE-4D82-B440-24BAE2E7928F-e1751060926343.jpeg
END:VEVENT
BEGIN:VEVENT
DTSTART;TZID=America/Chicago:20270519T100000
DTEND;TZID=America/Chicago:20270519T150000
DTSTAMP:20260422T070352
CREATED:20250613T182508Z
LAST-MODIFIED:20250613T183640Z
UID:10000726-1810720800-1810738800@sekworks.org
SUMMARY:KANSASWORKS Mobile Unit @ Parsons
DESCRIPTION:
URL:https://sekworks.org/event/kansasworks-mobile-unit-parsons/2027-05-19/
LOCATION:King Cash Saver Lot\, 2020 Main St\, Parsons\, KS\, 67357\, United States
CATEGORIES:Southeast KansasWorks - Pittsburg
ATTACH;FMTTYPE=image/jpeg:https://sekworks.org/wp-content/uploads/2025/06/IMG_4701-1024x683-1.jpg
END:VEVENT
BEGIN:VEVENT
DTSTART;TZID=America/Chicago:20270520T100000
DTEND;TZID=America/Chicago:20270520T150000
DTSTAMP:20260422T070352
CREATED:20250811T182342Z
LAST-MODIFIED:20250811T182342Z
UID:10001046-1810807200-1810825200@sekworks.org
SUMMARY:Pop-up Workforce Center @ Paola Free Library
DESCRIPTION:
URL:https://sekworks.org/event/pop-up-workforce-center-paola-free-library/2027-05-20/
LOCATION:Paola Free Library\, 101 E Peoria St\, Paola\, KS\, 66071\, United States
CATEGORIES:Southeast KansasWorks - Main,Southeast KansasWorks - Paola
ATTACH;FMTTYPE=image/png:https://sekworks.org/wp-content/uploads/2025/08/Paola-Pop-Up-Instagram-Post-45.png
END:VEVENT
BEGIN:VEVENT
DTSTART;TZID=America/Chicago:20270520T110000
DTEND;TZID=America/Chicago:20270520T150000
DTSTAMP:20260422T070352
CREATED:20250613T182819Z
LAST-MODIFIED:20250613T183553Z
UID:10000844-1810810800-1810825200@sekworks.org
SUMMARY:KANSASWORKS Mobile Unit @ Iola
DESCRIPTION:
URL:https://sekworks.org/event/kansasworks-mobile-unit-iola/2027-05-20/
LOCATION:VA Clinic\, 1408 East St\, Iola\, KS\, 66749\, United States
CATEGORIES:Southeast KansasWorks - Chanute
ATTACH;FMTTYPE=image/jpeg:https://sekworks.org/wp-content/uploads/2025/06/IMG_4701-1024x683-1.jpg
END:VEVENT
BEGIN:VEVENT
DTSTART;TZID=America/Chicago:20270527T090000
DTEND;TZID=America/Chicago:20270527T120000
DTSTAMP:20260422T070352
CREATED:20250731T185056Z
LAST-MODIFIED:20250731T185056Z
UID:10000980-1811408400-1811419200@sekworks.org
SUMMARY:KANSASWORKS Southeast @ Fort Scott DCF
DESCRIPTION:
URL:https://sekworks.org/event/kansasworks-southeast-fort-scott-dcf/2027-05-27/
LOCATION:Fort Scott Department for Children and Families\, 10 S National Ave\, Fort Scott\, KS\, 66701\, United States
CATEGORIES:Southeast KansasWorks - Main,Southeast KansasWorks - Pittsburg
ATTACH;FMTTYPE=image/png:https://sekworks.org/wp-content/uploads/2025/07/DCF-Office-Hours-PittFt-Scott.png
END:VEVENT
BEGIN:VEVENT
DTSTART;TZID=America/Chicago:20270603T090000
DTEND;TZID=America/Chicago:20270603T120000
DTSTAMP:20260422T070352
CREATED:20250731T184853Z
LAST-MODIFIED:20250731T184853Z
UID:10000921-1812013200-1812024000@sekworks.org
SUMMARY:KANSASWORKS Southeast @ Pittsburg DCF
DESCRIPTION:
URL:https://sekworks.org/event/kansasworks-southeast-pittsburg-dcf/2027-06-03/
LOCATION:Pittsburg Department for Children and Families\, 320 S Broadway St\, Pittsburg\, KS\, 66762\, United States
CATEGORIES:Southeast KansasWorks - Main,Southeast KansasWorks - Pittsburg
ATTACH;FMTTYPE=image/png:https://sekworks.org/wp-content/uploads/2025/07/DCF-Office-Hours-PittFt-Scott.png
END:VEVENT
BEGIN:VEVENT
DTSTART;TZID=America/Chicago:20270615T100000
DTEND;TZID=America/Chicago:20270615T150000
DTSTAMP:20260422T070352
CREATED:20250613T170348Z
LAST-MODIFIED:20250627T215005Z
UID:10000671-1813053600-1813071600@sekworks.org
SUMMARY:KANSASWORKS Mobile Unit @ Baxter Springs
DESCRIPTION:
URL:https://sekworks.org/event/kansasworks-mobile-unit-baxter-springs/2027-06-15/
LOCATION:Baxter Springs Police Station\, 121 W 11th St\, Baxter Springs\, KS\, 66713\, United States
CATEGORIES:Southeast KansasWorks - Pittsburg
ATTACH;FMTTYPE=image/jpeg:https://sekworks.org/wp-content/uploads/2025/06/processed-FA2AC038-38DE-4D82-B440-24BAE2E7928F-e1751060926343.jpeg
END:VEVENT
BEGIN:VEVENT
DTSTART;TZID=America/Chicago:20270616T100000
DTEND;TZID=America/Chicago:20270616T150000
DTSTAMP:20260422T070352
CREATED:20250613T182508Z
LAST-MODIFIED:20250613T183640Z
UID:10000727-1813140000-1813158000@sekworks.org
SUMMARY:KANSASWORKS Mobile Unit @ Parsons
DESCRIPTION:
URL:https://sekworks.org/event/kansasworks-mobile-unit-parsons/2027-06-16/
LOCATION:King Cash Saver Lot\, 2020 Main St\, Parsons\, KS\, 67357\, United States
CATEGORIES:Southeast KansasWorks - Pittsburg
ATTACH;FMTTYPE=image/jpeg:https://sekworks.org/wp-content/uploads/2025/06/IMG_4701-1024x683-1.jpg
END:VEVENT
BEGIN:VEVENT
DTSTART;TZID=America/Chicago:20270617T100000
DTEND;TZID=America/Chicago:20270617T150000
DTSTAMP:20260422T070353
CREATED:20250811T182342Z
LAST-MODIFIED:20250811T182342Z
UID:10001047-1813226400-1813244400@sekworks.org
SUMMARY:Pop-up Workforce Center @ Paola Free Library
DESCRIPTION:
URL:https://sekworks.org/event/pop-up-workforce-center-paola-free-library/2027-06-17/
LOCATION:Paola Free Library\, 101 E Peoria St\, Paola\, KS\, 66071\, United States
CATEGORIES:Southeast KansasWorks - Main,Southeast KansasWorks - Paola
ATTACH;FMTTYPE=image/png:https://sekworks.org/wp-content/uploads/2025/08/Paola-Pop-Up-Instagram-Post-45.png
END:VEVENT
BEGIN:VEVENT
DTSTART;TZID=America/Chicago:20270617T110000
DTEND;TZID=America/Chicago:20270617T150000
DTSTAMP:20260422T070353
CREATED:20250613T182819Z
LAST-MODIFIED:20250613T183553Z
UID:10000845-1813230000-1813244400@sekworks.org
SUMMARY:KANSASWORKS Mobile Unit @ Iola
DESCRIPTION:
URL:https://sekworks.org/event/kansasworks-mobile-unit-iola/2027-06-17/
LOCATION:VA Clinic\, 1408 East St\, Iola\, KS\, 66749\, United States
CATEGORIES:Southeast KansasWorks - Chanute
ATTACH;FMTTYPE=image/jpeg:https://sekworks.org/wp-content/uploads/2025/06/IMG_4701-1024x683-1.jpg
END:VEVENT
BEGIN:VEVENT
DTSTART;TZID=America/Chicago:20270624T090000
DTEND;TZID=America/Chicago:20270624T120000
DTSTAMP:20260422T070353
CREATED:20250731T185056Z
LAST-MODIFIED:20250731T185056Z
UID:10000981-1813827600-1813838400@sekworks.org
SUMMARY:KANSASWORKS Southeast @ Fort Scott DCF
DESCRIPTION:
URL:https://sekworks.org/event/kansasworks-southeast-fort-scott-dcf/2027-06-24/
LOCATION:Fort Scott Department for Children and Families\, 10 S National Ave\, Fort Scott\, KS\, 66701\, United States
CATEGORIES:Southeast KansasWorks - Main,Southeast KansasWorks - Pittsburg
ATTACH;FMTTYPE=image/png:https://sekworks.org/wp-content/uploads/2025/07/DCF-Office-Hours-PittFt-Scott.png
END:VEVENT
BEGIN:VEVENT
DTSTART;TZID=America/Chicago:20270701T090000
DTEND;TZID=America/Chicago:20270701T120000
DTSTAMP:20260422T070353
CREATED:20250731T184853Z
LAST-MODIFIED:20250731T184853Z
UID:10000922-1814432400-1814443200@sekworks.org
SUMMARY:KANSASWORKS Southeast @ Pittsburg DCF
DESCRIPTION:
URL:https://sekworks.org/event/kansasworks-southeast-pittsburg-dcf/2027-07-01/
LOCATION:Pittsburg Department for Children and Families\, 320 S Broadway St\, Pittsburg\, KS\, 66762\, United States
CATEGORIES:Southeast KansasWorks - Main,Southeast KansasWorks - Pittsburg
ATTACH;FMTTYPE=image/png:https://sekworks.org/wp-content/uploads/2025/07/DCF-Office-Hours-PittFt-Scott.png
END:VEVENT
BEGIN:VEVENT
DTSTART;TZID=America/Chicago:20270715T100000
DTEND;TZID=America/Chicago:20270715T150000
DTSTAMP:20260422T070353
CREATED:20250811T182342Z
LAST-MODIFIED:20250811T182342Z
UID:10001048-1815645600-1815663600@sekworks.org
SUMMARY:Pop-up Workforce Center @ Paola Free Library
DESCRIPTION:
URL:https://sekworks.org/event/pop-up-workforce-center-paola-free-library/2027-07-15/
LOCATION:Paola Free Library\, 101 E Peoria St\, Paola\, KS\, 66071\, United States
CATEGORIES:Southeast KansasWorks - Main,Southeast KansasWorks - Paola
ATTACH;FMTTYPE=image/png:https://sekworks.org/wp-content/uploads/2025/08/Paola-Pop-Up-Instagram-Post-45.png
END:VEVENT
BEGIN:VEVENT
DTSTART;TZID=America/Chicago:20270715T110000
DTEND;TZID=America/Chicago:20270715T150000
DTSTAMP:20260422T070353
CREATED:20250613T182819Z
LAST-MODIFIED:20250613T183553Z
UID:10000846-1815649200-1815663600@sekworks.org
SUMMARY:KANSASWORKS Mobile Unit @ Iola
DESCRIPTION:
URL:https://sekworks.org/event/kansasworks-mobile-unit-iola/2027-07-15/
LOCATION:VA Clinic\, 1408 East St\, Iola\, KS\, 66749\, United States
CATEGORIES:Southeast KansasWorks - Chanute
ATTACH;FMTTYPE=image/jpeg:https://sekworks.org/wp-content/uploads/2025/06/IMG_4701-1024x683-1.jpg
END:VEVENT
BEGIN:VEVENT
DTSTART;TZID=America/Chicago:20270720T100000
DTEND;TZID=America/Chicago:20270720T150000
DTSTAMP:20260422T070353
CREATED:20250613T170348Z
LAST-MODIFIED:20250627T215005Z
UID:10000672-1816077600-1816095600@sekworks.org
SUMMARY:KANSASWORKS Mobile Unit @ Baxter Springs
DESCRIPTION:
URL:https://sekworks.org/event/kansasworks-mobile-unit-baxter-springs/2027-07-20/
LOCATION:Baxter Springs Police Station\, 121 W 11th St\, Baxter Springs\, KS\, 66713\, United States
CATEGORIES:Southeast KansasWorks - Pittsburg
ATTACH;FMTTYPE=image/jpeg:https://sekworks.org/wp-content/uploads/2025/06/processed-FA2AC038-38DE-4D82-B440-24BAE2E7928F-e1751060926343.jpeg
END:VEVENT
END:VCALENDAR