BEGIN:VCALENDAR
VERSION:2.0
PRODID:-//Southeast KANSASWORKS, Inc. - ECPv6.15.20//NONSGML v1.0//EN
CALSCALE:GREGORIAN
METHOD:PUBLISH
X-WR-CALNAME:Southeast KANSASWORKS, Inc.
X-ORIGINAL-URL:https://sekworks.org
X-WR-CALDESC:Events for Southeast KANSASWORKS, Inc.
REFRESH-INTERVAL;VALUE=DURATION:PT1H
X-Robots-Tag:noindex
X-PUBLISHED-TTL:PT1H
BEGIN:VTIMEZONE
TZID:America/Chicago
BEGIN:DAYLIGHT
TZOFFSETFROM:-0600
TZOFFSETTO:-0500
TZNAME:CDT
DTSTART:20240310T080000
END:DAYLIGHT
BEGIN:STANDARD
TZOFFSETFROM:-0500
TZOFFSETTO:-0600
TZNAME:CST
DTSTART:20241103T070000
END:STANDARD
BEGIN:DAYLIGHT
TZOFFSETFROM:-0600
TZOFFSETTO:-0500
TZNAME:CDT
DTSTART:20250309T080000
END:DAYLIGHT
BEGIN:STANDARD
TZOFFSETFROM:-0500
TZOFFSETTO:-0600
TZNAME:CST
DTSTART:20251102T070000
END:STANDARD
BEGIN:DAYLIGHT
TZOFFSETFROM:-0600
TZOFFSETTO:-0500
TZNAME:CDT
DTSTART:20260308T080000
END:DAYLIGHT
BEGIN:STANDARD
TZOFFSETFROM:-0500
TZOFFSETTO:-0600
TZNAME:CST
DTSTART:20261101T070000
END:STANDARD
END:VTIMEZONE
BEGIN:VEVENT
DTSTART;TZID=America/Chicago:20251016T100000
DTEND;TZID=America/Chicago:20251016T150000
DTSTAMP:20260422T045533
CREATED:20250811T182342Z
LAST-MODIFIED:20250811T182342Z
UID:10001027-1760608800-1760626800@sekworks.org
SUMMARY:Pop-up Workforce Center @ Paola Free Library
DESCRIPTION:
URL:https://sekworks.org/event/pop-up-workforce-center-paola-free-library/2025-10-16/
LOCATION:Paola Free Library\, 101 E Peoria St\, Paola\, KS\, 66071\, United States
CATEGORIES:Southeast KansasWorks - Main,Southeast KansasWorks - Paola
ATTACH;FMTTYPE=image/png:https://sekworks.org/wp-content/uploads/2025/08/Paola-Pop-Up-Instagram-Post-45.png
END:VEVENT
BEGIN:VEVENT
DTSTART;TZID=America/Chicago:20251016T083000
DTEND;TZID=America/Chicago:20251016T130000
DTSTAMP:20260422T045533
CREATED:20250731T192005Z
LAST-MODIFIED:20250731T193930Z
UID:10001020-1760603400-1760619600@sekworks.org
SUMMARY:Independence KEYS Kickstart!
DESCRIPTION:REGISTRATION IS NOW OPEN!\nTHIS YEARS’ THEME\n“Start Small\, Dream Big: Igniting the Entrepreneur in You”\n\n\n\n\nThe KEYS Summits and Kickstart! events are the perfect platform for young adults seeking to learn about career and employment opportunities. This informative event will host a variety of educational workshops focused on helping youth build valuable skills and knowledge for the workforce. Attendees will have the chance to network with local businesses\, interact with industry professionals\, and gain insight into the different career paths available to them. The KEYS Summit is designed to foster a positive environment for youth to build professional relationships and encourages growth and success for all attendees. Join us and start paving the way to a fulfilling career today!
URL:https://sekworks.org/event/indy-keys-kickstart/
LOCATION:Independence Community College – Woods Room\, 2615 W Main St\, Independence\, 67301\, United States
CATEGORIES:Southeast KansasWorks - Independence,Southeast KansasWorks - Main,WBL Grant
ATTACH;FMTTYPE=image/png:https://sekworks.org/wp-content/uploads/2025/07/Indy-Save-the-Date.png
END:VEVENT
BEGIN:VEVENT
DTSTART;TZID=America/Chicago:20251015T100000
DTEND;TZID=America/Chicago:20251015T150000
DTSTAMP:20260422T045533
CREATED:20250613T182508Z
LAST-MODIFIED:20250613T183640Z
UID:10000707-1760522400-1760540400@sekworks.org
SUMMARY:KANSASWORKS Mobile Unit @ Parsons
DESCRIPTION:
URL:https://sekworks.org/event/kansasworks-mobile-unit-parsons/2025-10-15/
LOCATION:King Cash Saver Lot\, 2020 Main St\, Parsons\, KS\, 67357\, United States
CATEGORIES:Southeast KansasWorks - Pittsburg
ATTACH;FMTTYPE=image/jpeg:https://sekworks.org/wp-content/uploads/2025/06/IMG_4701-1024x683-1.jpg
END:VEVENT
BEGIN:VEVENT
DTSTART;TZID=America/Chicago:20251010T100000
DTEND;TZID=America/Chicago:20251010T120000
DTSTAMP:20260422T045533
CREATED:20251007T135401Z
LAST-MODIFIED:20251010T155824Z
UID:10001222-1760090400-1760097600@sekworks.org
SUMMARY:CEOB/LWDB Meeting
DESCRIPTION:CEOB/LWDB Agenda | FULL PACKET \nMicrosoft Teams Need help? \nJoin the meeting now \nMeeting ID: 286 303 448 910 8 \nPasscode: 7k87jV7w \nFor Questions or Comment\, please reach out to Katie Givens: \nkgivens@sekworks.org\n316-295-0923
URL:https://sekworks.org/event/ceob-lwdb-meeting/
LOCATION:Emporia Job Center – Southeast KANSASWORKS\, Inc.\, 215 W. 6th Ave.\, Emporia\, KS\, 66801
CATEGORIES:Board & Committee Meetings
ATTACH;FMTTYPE=image/png:https://sekworks.org/wp-content/uploads/2025/10/White-Soft-Brown-Professional-Elegant-Marketing-Strategy-Presentation-169-10.png
GEO:38.4043107;-96.1832775
X-APPLE-STRUCTURED-LOCATION;VALUE=URI;X-ADDRESS=Emporia Job Center – Southeast KANSASWORKS Inc. 215 W. 6th Ave. Emporia KS 66801;X-APPLE-RADIUS=500;X-TITLE=215 W. 6th Ave.:geo:-96.1832775,38.4043107
END:VEVENT
BEGIN:VEVENT
DTSTART;TZID=America/Chicago:20251003T110000
DTEND;TZID=America/Chicago:20251003T130000
DTSTAMP:20260422T045533
CREATED:20250909T204833Z
LAST-MODIFIED:20250909T204833Z
UID:10001219-1759489200-1759496400@sekworks.org
SUMMARY:Labette Community Baby Shower
DESCRIPTION:Sponsored By: Labette Center for Mental Health Services  \nFor families that are expecting a child or have a child up to 6 months of age.
URL:https://sekworks.org/event/labette-community-baby-shower/
LOCATION:1621 Main St\, 1621 Main St\, Parsons\, KS\, 67357\, United States
CATEGORIES:Southeast KansasWorks - Independence,Southeast KansasWorks - Main
ATTACH;FMTTYPE=image/jpeg:https://sekworks.org/wp-content/uploads/2025/09/AdobeStock_141469052-Baby-Shower-2025-Flyer_page-0001.jpg
ORGANIZER;CN="Labette Center for Mental Health Services":MAILTO:LCMHS@LCMHS.com
END:VEVENT
BEGIN:VEVENT
DTSTART;TZID=America/Chicago:20251002T090000
DTEND;TZID=America/Chicago:20251002T120000
DTSTAMP:20260422T045533
CREATED:20250731T184853Z
LAST-MODIFIED:20250731T184853Z
UID:10000901-1759395600-1759406400@sekworks.org
SUMMARY:KANSASWORKS Southeast @ Pittsburg DCF
DESCRIPTION:
URL:https://sekworks.org/event/kansasworks-southeast-pittsburg-dcf/2025-10-02/
LOCATION:Pittsburg Department for Children and Families\, 320 S Broadway St\, Pittsburg\, KS\, 66762\, United States
CATEGORIES:Southeast KansasWorks - Main,Southeast KansasWorks - Pittsburg
ATTACH;FMTTYPE=image/png:https://sekworks.org/wp-content/uploads/2025/07/DCF-Office-Hours-PittFt-Scott.png
END:VEVENT
BEGIN:VEVENT
DTSTART;TZID=America/Chicago:20250927T100000
DTEND;TZID=America/Chicago:20250927T140000
DTSTAMP:20260422T045533
CREATED:20250919T163343Z
LAST-MODIFIED:20250919T163343Z
UID:10001221-1758967200-1758981600@sekworks.org
SUMMARY:Hope Links Us Together - Suicide Prevention Walk
DESCRIPTION:About the event\n\n\n\nJoin us for the 5th Annual “Hope Links Us Together” Suicide Prevention Walk as we come together to support one another\, honor loved ones\, and raise awareness for suicide prevention. Let’s walk with hope\, healing\, and community. \n\n Date: Saturday\, September 27th \n⏰ Time: 10:00 AM – 2:00 PM \n Location: C of E Drive\, Emporia\, KS \n\nEvent Schedule: \n \n Registration Opens: 10:00 AM \n Walk Begins: 12:00 PM \n Free Registration! \n Lace up your shoes\, bring your friends & family\, and stand together for a cause that saves lives! \n\nActivities Include: \n \n✨ Healing Activities \n✨ Kids Zone \n✨ Bake Sale \n✨ Raffles \n✨ Bubble Release \n✨ Food Trucks \n✨ And More! \nYou’ll also have the opportunity to connect with local organizations and learn about the resources available in our community to support mental health and suicide prevention. \n Together\, Hope Links Us — let’s walk\, heal\, and support one another.  \n For more information\, contact: \nMelissa Owen – melissa.owen@hopelinks.org \n Call/Text: 620-412-8335
URL:https://sekworks.org/event/hope-links-us-together-suicide-prevention-walk/
LOCATION:C of E Park\, 1201 Presby Dr\, Emporia\, KS\, 66801\, United States
CATEGORIES:Southeast KansasWorks - Emporia
ATTACH;FMTTYPE=image/avif:https://sekworks.org/wp-content/uploads/2025/09/9f4f69_cd8e2cc41f294353a2dacf721de24c25mv2.avif
END:VEVENT
BEGIN:VEVENT
DTSTART;TZID=America/Chicago:20250926T100000
DTEND;TZID=America/Chicago:20250926T120000
DTSTAMP:20260422T045533
CREATED:20250829T164211Z
LAST-MODIFIED:20250923T180008Z
UID:10001216-1758880800-1758888000@sekworks.org
SUMMARY:LWDB Meeting
DESCRIPTION:Hybrid | Location: TBD \nJoint LWDB meeting of Southeast KANSASWORKS & Kansas WorkforceONE. \nFor Questions or Public Comment\, please reach out to Katie Givens: \nkgivens@sekworks.org\n316-295-0923
URL:https://sekworks.org/event/lwdb-meeting-5/
LOCATION:KS
CATEGORIES:Board & Committee Meetings
ATTACH;FMTTYPE=image/png:https://sekworks.org/wp-content/uploads/2022/07/White-Soft-Brown-Professional-Elegant-Marketing-Strategy-Presentation-169-1.png
END:VEVENT
BEGIN:VEVENT
DTSTART;TZID=America/Chicago:20250925T090000
DTEND;TZID=America/Chicago:20250925T120000
DTSTAMP:20260422T045533
CREATED:20250731T185056Z
LAST-MODIFIED:20250731T185056Z
UID:10000960-1758790800-1758801600@sekworks.org
SUMMARY:KANSASWORKS Southeast @ Fort Scott DCF
DESCRIPTION:
URL:https://sekworks.org/event/kansasworks-southeast-fort-scott-dcf/2025-09-25/
LOCATION:Fort Scott Department for Children and Families\, 10 S National Ave\, Fort Scott\, KS\, 66701\, United States
CATEGORIES:Southeast KansasWorks - Main,Southeast KansasWorks - Pittsburg
ATTACH;FMTTYPE=image/png:https://sekworks.org/wp-content/uploads/2025/07/DCF-Office-Hours-PittFt-Scott.png
END:VEVENT
BEGIN:VEVENT
DTSTART;TZID=America/Chicago:20250918T110000
DTEND;TZID=America/Chicago:20250918T150000
DTSTAMP:20260422T045533
CREATED:20250613T182819Z
LAST-MODIFIED:20250613T183553Z
UID:10000824-1758193200-1758207600@sekworks.org
SUMMARY:KANSASWORKS Mobile Unit @ Iola
DESCRIPTION:
URL:https://sekworks.org/event/kansasworks-mobile-unit-iola/2025-09-18/
LOCATION:VA Clinic\, 1408 East St\, Iola\, KS\, 66749\, United States
CATEGORIES:Southeast KansasWorks - Chanute
ATTACH;FMTTYPE=image/jpeg:https://sekworks.org/wp-content/uploads/2025/06/IMG_4701-1024x683-1.jpg
END:VEVENT
BEGIN:VEVENT
DTSTART;TZID=America/Chicago:20250918T100000
DTEND;TZID=America/Chicago:20250918T150000
DTSTAMP:20260422T045533
CREATED:20250811T182342Z
LAST-MODIFIED:20250811T182342Z
UID:10001026-1758189600-1758207600@sekworks.org
SUMMARY:Pop-up Workforce Center @ Paola Free Library
DESCRIPTION:
URL:https://sekworks.org/event/pop-up-workforce-center-paola-free-library/2025-09-18/
LOCATION:Paola Free Library\, 101 E Peoria St\, Paola\, KS\, 66071\, United States
CATEGORIES:Southeast KansasWorks - Main,Southeast KansasWorks - Paola
ATTACH;FMTTYPE=image/png:https://sekworks.org/wp-content/uploads/2025/08/Paola-Pop-Up-Instagram-Post-45.png
END:VEVENT
BEGIN:VEVENT
DTSTART;TZID=America/Chicago:20250918T100000
DTEND;TZID=America/Chicago:20250918T130000
DTSTAMP:20260422T045533
CREATED:20250909T214656Z
LAST-MODIFIED:20250909T214656Z
UID:10001220-1758189600-1758200400@sekworks.org
SUMMARY:Together Kansas Job & Resource Fair
DESCRIPTION:Engage with your community at the Together Kansas event in Parsons — Connect with area resources and employers. \nSponsored By: Parsons Chamber of Commerce
URL:https://sekworks.org/event/together-kansas-job-resource-fair-2/
LOCATION:First Baptist Church\, 1621 Main St\, Parsons\, KS\, 67357\, United States
CATEGORIES:Southeast KansasWorks - Independence,Southeast KansasWorks - Main
ATTACH;FMTTYPE=image/jpeg:https://sekworks.org/wp-content/uploads/2025/09/Ad-Flyer-Parsons-A_page-0001.jpg
END:VEVENT
BEGIN:VEVENT
DTSTART;TZID=America/Chicago:20250917T100000
DTEND;TZID=America/Chicago:20250917T150000
DTSTAMP:20260422T045533
CREATED:20250613T182508Z
LAST-MODIFIED:20250613T183640Z
UID:10000706-1758103200-1758121200@sekworks.org
SUMMARY:KANSASWORKS Mobile Unit @ Parsons
DESCRIPTION:
URL:https://sekworks.org/event/kansasworks-mobile-unit-parsons/2025-09-17/
LOCATION:King Cash Saver Lot\, 2020 Main St\, Parsons\, KS\, 67357\, United States
CATEGORIES:Southeast KansasWorks - Pittsburg
ATTACH;FMTTYPE=image/jpeg:https://sekworks.org/wp-content/uploads/2025/06/IMG_4701-1024x683-1.jpg
END:VEVENT
BEGIN:VEVENT
DTSTART;TZID=America/Chicago:20250916T100000
DTEND;TZID=America/Chicago:20250916T150000
DTSTAMP:20260422T045533
CREATED:20250613T170348Z
LAST-MODIFIED:20250627T215005Z
UID:10000653-1758016800-1758034800@sekworks.org
SUMMARY:KANSASWORKS Mobile Unit @ Baxter Springs
DESCRIPTION:
URL:https://sekworks.org/event/kansasworks-mobile-unit-baxter-springs/2025-09-16/
LOCATION:Baxter Springs Police Station\, 121 W 11th St\, Baxter Springs\, KS\, 66713\, United States
CATEGORIES:Southeast KansasWorks - Pittsburg
ATTACH;FMTTYPE=image/jpeg:https://sekworks.org/wp-content/uploads/2025/06/processed-FA2AC038-38DE-4D82-B440-24BAE2E7928F-e1751060926343.jpeg
END:VEVENT
BEGIN:VEVENT
DTSTART;TZID=America/Chicago:20250911T083000
DTEND;TZID=America/Chicago:20250911T150000
DTSTAMP:20260422T045533
CREATED:20250731T185805Z
LAST-MODIFIED:20250731T185805Z
UID:10001019-1757579400-1757602800@sekworks.org
SUMMARY:Pittsburg KEYS Summit
DESCRIPTION:REGISTRATION IS NOW OPEN\nTHIS YEARS’ THEME\n“Start Small\, Dream Big: Igniting the Entrepreneur in You”\n\n\n\n\nThe KEYS Summit is the perfect platform for young adults seeking to learn about career and employment opportunities. This informative event will host a variety of educational workshops focused on helping youth build valuable skills and knowledge for the workforce. Attendees will have the chance to network with local businesses\, interact with industry professionals\, and gain insight into the different career paths available to them. The KEYS Summit is designed to foster a positive environment for youth to build professional relationships and encourages growth and success for all attendees. Join us and start paving the way to a fulfilling career today!
URL:https://sekworks.org/event/pittsburg-keys-summit/
LOCATION:Pittsburg State University – Bicknell Center\, 1711 S Homer St\, Pittsburg\, KS\, 66762\, United States
CATEGORIES:Southeast KansasWorks - Main,Southeast KansasWorks - Pittsburg,WBL Grant
ATTACH;FMTTYPE=image/png:https://sekworks.org/wp-content/uploads/2025/07/Pitt-Save-the-Date-2.png
END:VEVENT
BEGIN:VEVENT
DTSTART;TZID=America/Chicago:20250910T100000
DTEND;TZID=America/Chicago:20250910T140000
DTSTAMP:20260422T045533
CREATED:20250902T191734Z
LAST-MODIFIED:20250902T191734Z
UID:10001217-1757498400-1757512800@sekworks.org
SUMMARY:Together Kansas Job & Resource Fair
DESCRIPTION:
URL:https://sekworks.org/event/together-kansas-job-resource-fair/
LOCATION:Flinthills Mall\, 1632 Industrial Rd.\, Emporia\, KS\, 66801
CATEGORIES:Southeast KansasWorks - Emporia,Southeast KansasWorks - Main
ATTACH;FMTTYPE=image/jpeg:https://sekworks.org/wp-content/uploads/2025/09/539585369_1311108694356635_277054032560784924_n.jpg
GEO:38.417736;-96.215191
X-APPLE-STRUCTURED-LOCATION;VALUE=URI;X-ADDRESS=Flinthills Mall 1632 Industrial Rd. Emporia KS 66801;X-APPLE-RADIUS=500;X-TITLE=1632 Industrial Rd.:geo:-96.215191,38.417736
END:VEVENT
BEGIN:VEVENT
DTSTART;TZID=America/Chicago:20250905T100000
DTEND;TZID=America/Chicago:20250905T110000
DTSTAMP:20260422T045533
CREATED:20250819T151651Z
LAST-MODIFIED:20250904T040556Z
UID:10001153-1757066400-1757070000@sekworks.org
SUMMARY:Executive/Fiscal Committee
DESCRIPTION:LWDB Executive/Fiscal Committee Agenda \nFor Questions or Public Comment\, please reach out to Katie Givens: \nkgivens@sekworks.org\n316-295-0923 \n\n\nMicrosoft Teams Need help? \n\n\nJoin the meeting now \n\n\nMeeting ID: 297 473 811 561 \n\n\nPasscode: Li3X7Wx6 \n\n\n\n\nDial in By Phone  \n\n\n+1 323-618-1509\,\,433418929# United States\, Los Angeles \n\n\nFind a local number \n\n\n\nPhone conference ID: 433 418 929# \n\n\nFor organizers: Meeting options | Reset dial-in PIN
URL:https://sekworks.org/event/executive-fiscal-committee-3/
LOCATION:KS
CATEGORIES:Board & Committee Meetings
ATTACH;FMTTYPE=image/png:https://sekworks.org/wp-content/uploads/2022/07/White-Soft-Brown-Professional-Elegant-Marketing-Strategy-Presentation-169-3.png
END:VEVENT
BEGIN:VEVENT
DTSTART;TZID=America/Chicago:20250904T090000
DTEND;TZID=America/Chicago:20250904T120000
DTSTAMP:20260422T045533
CREATED:20250731T184853Z
LAST-MODIFIED:20250731T184853Z
UID:10000900-1756976400-1756987200@sekworks.org
SUMMARY:KANSASWORKS Southeast @ Pittsburg DCF
DESCRIPTION:
URL:https://sekworks.org/event/kansasworks-southeast-pittsburg-dcf/2025-09-04/
LOCATION:Pittsburg Department for Children and Families\, 320 S Broadway St\, Pittsburg\, KS\, 66762\, United States
CATEGORIES:Southeast KansasWorks - Main,Southeast KansasWorks - Pittsburg
ATTACH;FMTTYPE=image/png:https://sekworks.org/wp-content/uploads/2025/07/DCF-Office-Hours-PittFt-Scott.png
END:VEVENT
BEGIN:VEVENT
DTSTART;TZID=America/Chicago:20250828T100000
DTEND;TZID=America/Chicago:20250828T150000
DTSTAMP:20260422T045533
CREATED:20250811T182519Z
LAST-MODIFIED:20250813T142505Z
UID:10001085-1756375200-1756393200@sekworks.org
SUMMARY:Pop-up Workforce Center @ Paola Free Library
DESCRIPTION:
URL:https://sekworks.org/event/pop-up-workforce-center-paola-free-library-2/
LOCATION:Paola Free Library\, 101 E Peoria St\, Paola\, KS\, 66071\, United States
CATEGORIES:Southeast KansasWorks - Main,Southeast KansasWorks - Paola
ATTACH;FMTTYPE=image/png:https://sekworks.org/wp-content/uploads/2025/08/Paola-Pop-Up-2.png
END:VEVENT
BEGIN:VEVENT
DTSTART;TZID=America/Chicago:20250828T090000
DTEND;TZID=America/Chicago:20250828T120000
DTSTAMP:20260422T045533
CREATED:20250731T185056Z
LAST-MODIFIED:20250731T185056Z
UID:10000959-1756371600-1756382400@sekworks.org
SUMMARY:KANSASWORKS Southeast @ Fort Scott DCF
DESCRIPTION:
URL:https://sekworks.org/event/kansasworks-southeast-fort-scott-dcf/2025-08-28/
LOCATION:Fort Scott Department for Children and Families\, 10 S National Ave\, Fort Scott\, KS\, 66701\, United States
CATEGORIES:Southeast KansasWorks - Main,Southeast KansasWorks - Pittsburg
ATTACH;FMTTYPE=image/png:https://sekworks.org/wp-content/uploads/2025/07/DCF-Office-Hours-PittFt-Scott.png
END:VEVENT
BEGIN:VEVENT
DTSTART;TZID=America/Chicago:20250826T100000
DTEND;TZID=America/Chicago:20250826T123000
DTSTAMP:20260422T045533
CREATED:20250826T214432Z
LAST-MODIFIED:20260205T175227Z
UID:10001212-1756202400-1756211400@sekworks.org
SUMMARY:LWDB/CEOB Meeting
DESCRIPTION:HYBRID – Meeting Location TBD \nFor Questions or Public Comment\, please reach out to Katie Givens:\nkatie@kansasworkforceone.org\n316-295-0923
URL:https://sekworks.org/event/lwdb-ceob-meeting/2025-08-26/
LOCATION:KS
CATEGORIES:Board & Committee Meetings
ATTACH;FMTTYPE=image/png:https://sekworks.org/wp-content/uploads/2025/10/White-Soft-Brown-Professional-Elegant-Marketing-Strategy-Presentation-169-10.png
END:VEVENT
BEGIN:VEVENT
DTSTART;TZID=America/Chicago:20250821T150000
DTEND;TZID=America/Chicago:20250821T160000
DTSTAMP:20260422T045533
CREATED:20250815T174245Z
LAST-MODIFIED:20250815T174245Z
UID:10001087-1755788400-1755792000@sekworks.org
SUMMARY:LWDB Meeting
DESCRIPTION:RESCHEDULED TO SEPTEMBER 26th | Location Hybrid/TBD
URL:https://sekworks.org/event/lwdb-meeting-4/
LOCATION:KS
CATEGORIES:Board & Committee Meetings
ATTACH;FMTTYPE=image/png:https://sekworks.org/wp-content/uploads/2022/07/White-Soft-Brown-Professional-Elegant-Marketing-Strategy-Presentation-169-1.png
END:VEVENT
BEGIN:VEVENT
DTSTART;TZID=America/Chicago:20250821T110000
DTEND;TZID=America/Chicago:20250821T150000
DTSTAMP:20260422T045533
CREATED:20250818T175633Z
LAST-MODIFIED:20250818T175633Z
UID:10000823-1755774000-1755788400@sekworks.org
SUMMARY:KANSASWORKS Mobile Unit @ Iola
DESCRIPTION:
URL:https://sekworks.org/event/kansasworks-mobile-unit-iola-3/
LOCATION:VA Clinic\, 1408 East St\, Iola\, KS\, 66749\, United States
CATEGORIES:Southeast KansasWorks - Chanute
ATTACH;FMTTYPE=image/jpeg:https://sekworks.org/wp-content/uploads/2025/06/IMG_4701-1024x683-1.jpg
END:VEVENT
BEGIN:VEVENT
DTSTART;TZID=America/Chicago:20250820T100000
DTEND;TZID=America/Chicago:20250820T150000
DTSTAMP:20260422T045533
CREATED:20250818T180616Z
LAST-MODIFIED:20250818T180616Z
UID:10000705-1755684000-1755702000@sekworks.org
SUMMARY:KANSASWORKS Mobile Unit @ Parsons
DESCRIPTION:
URL:https://sekworks.org/event/kansasworks-mobile-unit-parsons-3/
LOCATION:King Cash Saver Lot\, 2020 Main St\, Parsons\, KS\, 67357\, United States
CATEGORIES:Southeast KansasWorks - Pittsburg
ATTACH;FMTTYPE=image/jpeg:https://sekworks.org/wp-content/uploads/2025/06/IMG_4701-1024x683-1.jpg
END:VEVENT
BEGIN:VEVENT
DTSTART;TZID=America/Chicago:20250819T100000
DTEND;TZID=America/Chicago:20250819T150000
DTSTAMP:20260422T045533
CREATED:20250818T182037Z
LAST-MODIFIED:20250818T182038Z
UID:10000652-1755597600-1755615600@sekworks.org
SUMMARY:KANSASWORKS Mobile Unit @ Baxter Springs
DESCRIPTION:
URL:https://sekworks.org/event/kansasworks-mobile-unit-baxter-springs-3/
LOCATION:Baxter Springs Police Station\, 121 W 11th St\, Baxter Springs\, KS\, 66713\, United States
CATEGORIES:Southeast KansasWorks - Pittsburg
ATTACH;FMTTYPE=image/jpeg:https://sekworks.org/wp-content/uploads/2025/06/processed-FA2AC038-38DE-4D82-B440-24BAE2E7928F-e1751060926343.jpeg
END:VEVENT
BEGIN:VEVENT
DTSTART;TZID=America/Chicago:20250815T100000
DTEND;TZID=America/Chicago:20250815T110000
DTSTAMP:20260422T045533
CREATED:20250813T133058Z
LAST-MODIFIED:20250813T133058Z
UID:10001086-1755252000-1755255600@sekworks.org
SUMMARY:Virtual LWDB non-action Work Session – Merger Plan Question and Answer Session
DESCRIPTION:Microsoft Teams Need help? \nJoin the meeting now \nMeeting ID: 220 170 257 786 \nPasscode: DR9uF2gm \n\n\n\nDial in by phone \n+1 323-618-1509\,\,4968510# United States\, Los Angeles \nFind a local number \nPhone conference ID: 496 851 0# \nFor organizers: Meeting options | Reset dial-in PIN
URL:https://sekworks.org/event/virtual-lwdb-non-action-work-session-merger-plan-question-and-answer-session/
LOCATION:KS
CATEGORIES:Board & Committee Meetings
ATTACH;FMTTYPE=image/png:https://sekworks.org/wp-content/uploads/2025/08/White-Soft-Brown-Professional-Elegant-Marketing-Strategy-Presentation-169-6.png
END:VEVENT
BEGIN:VEVENT
DTSTART;TZID=America/Chicago:20250813T080000
DTEND;TZID=America/Chicago:20250813T170000
DTSTAMP:20260422T045533
CREATED:20250801T175621Z
LAST-MODIFIED:20250801T175621Z
UID:10001023-1755072000-1755104400@sekworks.org
SUMMARY:Virtual Statewide Job Fair
DESCRIPTION:
URL:https://sekworks.org/event/virtual-statewide-job-fair-6/
LOCATION:bit.ly/KS-AUG-2025-JF
CATEGORIES:Southeast KansasWorks - Chanute,Southeast KansasWorks - Emporia,Southeast KansasWorks - Español,Southeast KansasWorks - Independence,Southeast KansasWorks - Main,Southeast KansasWorks - Paola,Southeast KansasWorks - Pittsburg
ATTACH;FMTTYPE=image/png:https://sekworks.org/wp-content/uploads/2025/08/AUGUST-JOB-FAIR-ENG.png
END:VEVENT
BEGIN:VEVENT
DTSTART;TZID=America/Chicago:20250811T150000
DTEND;TZID=America/Chicago:20250811T160000
DTSTAMP:20260422T045533
CREATED:20250808T181819Z
LAST-MODIFIED:20250808T181819Z
UID:10001025-1754924400-1754928000@sekworks.org
SUMMARY:LWDB Executive/Fiscal Committee
DESCRIPTION:Meeting Agenda \nMicrosoft Teams Need help? \nJoin the meeting now \nMeeting ID: 297 473 811 561 \nPasscode: Li3X7Wx6 \nDial in by phone \n+1 323-618-1509\,\,433418929# United States \nInquiries about public meetings\, agendas\, meeting minutes and public documents can be requested by contacting the Administrative Office.
URL:https://sekworks.org/event/lwdb-executive-fiscal-committee/
LOCATION:KS
CATEGORIES:Board & Committee Meetings
ATTACH;FMTTYPE=image/png:https://sekworks.org/wp-content/uploads/2022/07/White-Soft-Brown-Professional-Elegant-Marketing-Strategy-Presentation-169-3.png
END:VEVENT
BEGIN:VEVENT
DTSTART;TZID=America/Chicago:20250807T090000
DTEND;TZID=America/Chicago:20250807T120000
DTSTAMP:20260422T045533
CREATED:20250731T184853Z
LAST-MODIFIED:20250731T184853Z
UID:10000899-1754557200-1754568000@sekworks.org
SUMMARY:KANSASWORKS Southeast @ Pittsburg DCF
DESCRIPTION:
URL:https://sekworks.org/event/kansasworks-southeast-pittsburg-dcf/2025-08-07/
LOCATION:Pittsburg Department for Children and Families\, 320 S Broadway St\, Pittsburg\, KS\, 66762\, United States
CATEGORIES:Southeast KansasWorks - Main,Southeast KansasWorks - Pittsburg
ATTACH;FMTTYPE=image/png:https://sekworks.org/wp-content/uploads/2025/07/DCF-Office-Hours-PittFt-Scott.png
END:VEVENT
BEGIN:VEVENT
DTSTART;TZID=America/Chicago:20250729T090000
DTEND;TZID=America/Chicago:20250729T120000
DTSTAMP:20260422T045533
CREATED:20250718T145732Z
LAST-MODIFIED:20250718T145733Z
UID:10000898-1753779600-1753790400@sekworks.org
SUMMARY:USD #368 Paola Job Fair
DESCRIPTION:Ready to make a difference in your community? Join the USD #368 Team! \nAvailable Positions:  \n\nCustodian Paraprofessional\nFood Service Associate\nSubstitute Teacher\n\nFor questions\, contact: \nJustin Burchett  \n\njustin_burchett@usd368.org\n(913) 294-8009
URL:https://sekworks.org/event/usd-368-paola-job-fair/
LOCATION:Central Services Building\, 1115 E 303rd St\, Paola\, KS\, 66071\, United States
CATEGORIES:Southeast KansasWorks - Main,Southeast KansasWorks - Paola
ATTACH;FMTTYPE=image/png:https://sekworks.org/wp-content/uploads/2025/07/Paola-USD-hiring-event-2.png
END:VEVENT
END:VCALENDAR